Workbook

Sheet razem PPE
A1: Załącznik do umowy - Wykaz PPE
A2: Wykaz punktów PPE - Gmina Chorzele
A3: 1. Gmina Chorzele, ul. Komosińskiego 1, 06-330 Chorzele, NIP: 761-150-45-61
A4: Lp. | B4: Nabywca - Podmiot2 | C4: Ulica/ Miejscowość | D4: Nr | E4: Kod | F4: Poczta | G4: Nabywca- NIP | H4: Odbiorca- Podmiot3 | I4: Odbiorca – adres | J4: Odbiorca- NIP | K4: Nazwa punktu poboru | L4: Ulica/ Miejscowość | M4: Nr | N4: Kod | O4: Poczta | P4: Nr ewidencyjny | Q4: Kod PPE | R4: Nr licznika | S4: Moc Umowna | T4: Obecna Taryfa | U4: zużycie przez 12 miesięcy całodobowa (kWh) | V4: zużycie przez 12 miesięcy I strefa (kWh) | W4: zużycie przez 12 miesięcy II strefa (kWh) | X4: zużycie przez 12 miesięcy RAZEM (kWh) | Y4: instalacja fotowoltaiczna | Z4: Funkcja
A5: 1 | B5: Gmina Chorzele | C5: ul. Stanisława Komosińskiego | D5: 1 | E5: 06-330 | F5: Chorzele | G5: 761-15-04-561 | H5: =K5 -> Centrum Usług Wspólnych w Chorzelach | I5: ul. Grunwaldzka 40, 06-330 Chorzele | J5: 7611562357 | K5: Centrum Usług Wspólnych w Chorzelach | L5: ul. Grunwaldzka | M5: 1 | N5: 06-330 | O5: Chorzele | P5: 131011120 | Q5: PL_ZEWD_1422003141_05 590543570300718999 | R5: 27973387 | S5: 6 | T5: C11 | U5: =X5 -> 3694 | X5: 3694 | Z5: CUW
A6: 2 | B6: Gmina Chorzele | C6: ul. Stanisława Komosińskiego | D6: 1 | E6: 06-330 | F6: Chorzele | G6: 761-15-04-561 | H6: Publiczna Szkoła Podstawowa im. Ojca Honoriusza Kowalczyka w Duczyminie | I6: Duczymin 15, 06-330 Chorzele | J6: 7611403475 | K6: Publiczna Szkoła Podstawowa im. Ojca Honoriusza Kowalczyka w Duczyminie | L6: Duczymin | M6: 15 | N6: 06-330 | O6: Chorzele | P6: 133607118 | Q6: PL_ZEWD_1422003094_08 590543570300719439 | R6: 56729642 | S6: 10 | T6: C12A | V6: =X6*0.35 -> 4585 | W6: =X6-V6 -> 8515 | X6: 13100 | Z6: Publiczna Szkoła Podstawowa
A7: 3 | B7: Gmina Chorzele | C7: ul. Stanisława Komosińskiego | D7: 1 | E7: 06-330 | F7: Chorzele | G7: 761-15-04-561 | H7: Publiczna Szkoła Podstawowa im. Bolesława Chrobrego w Zarębach | I7: Zaręby 41, 06-333 Zareby | J7: 7611403417 | K7: Publiczna Szkoła Podstawowa im. Bolesława Chrobrego w Zarębach | L7: Zaręby | M7: 41 | N7: 06-333 | O7: Zaręby | P7: 133634153 | Q7: PL_ZEWD_1422003091_02 590543570300719460 | R7: 56129332 | S7: 32 | T7: C12A | V7: =X7*0.35 -> 3073 | W7: =X7-V7 -> 5707 | X7: 8780 | Z7: Publiczna Szkoła Podstawowa
A8: 4 | B8: Gmina Chorzele | C8: ul. Stanisława Komosińskiego | D8: 1 | E8: 06-330 | F8: Chorzele | G8: 761-15-04-561 | H8: Publiczna Szkoła Podstawowa im. Bolesława Chrobrego w Zarębach | I8: Zaręby 41, 06-333 Zareby | J8: 7611403417 | K8: Publiczna Szkoła Podstawowa im. Bolesława Chrobrego w Zarębach | L8: Zaręby | M8: 41 | N8: 06-330 | O8: Chorzele | P8: 133634130 | Q8: PL_ZEWD_1422003092_04 590543570300719453 | R8: 56129313 | S8: 36 | T8: C12A | V8: =X8*0.35 -> 3290 | W8: =X8-V8 -> 6110 | X8: 9400 | Z8: Publiczna Szkoła Podstawowa
A9: 5 | B9: Gmina Chorzele | C9: ul. Stanisława Komosińskiego | D9: 1 | E9: 06-330 | F9: Chorzele | G9: 761-15-04-561 | H9: Publiczna Szkoła Podstawowa w Krzynowłodze Wielkiej | I9: Krzynowłoga Wielka 18, 06-330 Chorzele | J9: 7611403386 | K9: Publiczna Szkoła Podstawowa w Krzynowłodze Wielkiej | L9: Krzynowłoga Wielka | M9: 18 | N9: 06-330 | O9: Chorzele | P9: 133616135 | Q9: PL_ZEWD_1422003093_06 59053570300719446 | R9: 56129327 | S9: 25 | T9: C12A | V9: =X9*0.35 -> 2975 | W9: =X9-V9 -> 5525 | X9: 8500 | Z9: Publiczna Szkoła Podstawowa
A10: 6 | B10: Gmina Chorzele | C10: ul. Stanisława Komosińskiego | D10: 1 | E10: 06-330 | F10: Chorzele | G10: 761-15-04-561 | H10: Publiczna Szkoła Podstawowa Nr 2 im. Papieża Jana Pawła II w Chorzelach | I10: Szkolna 4B, 06-330 Chorzele | J10: 7611560565 | K10: Publiczna Szkoła Podstawowa Nr 2 im. Papieża Jana Pawła II w Chorzelach | L10: Szkolna | M10: 4B | N10: 06-330 | O10: Chorzele | P10: 131322129 | Q10: PL_ZEWD_1422003095_00 590543570300719422 | R10: 56129338 | S10: 25 | T10: C11 | U10: =X10 -> 35000 | X10: 35000 | Z10: Publiczna Szkoła Podstawowa
A11: 7 | B11: Gmina Chorzele | C11: ul. Stanisława Komosińskiego | D11: 1 | E11: 06-330 | F11: Chorzele | G11: 761-15-04-561 | H11: Publiczna Szkoła Podstawowa Nr 2 im. Papieża Jana Pawła II w Chorzelach | I11: Szkolna 4B, 06-330 Chorzele | J11: 7611560565 | K11: Publiczna Szkoła Podstawowa Nr 2 im. Papieża Jana Pawła II w Chorzelach | L11: Szkolna | M11: 4B | N11: 06-330 | O11: Chorzele | P11: 131342031 | Q11: PL_ZEWD_1422003098_06 590543570300719392 | R11: 01899567 | S11: 25 | T11: C12A | V11: =X11*0.35 -> 9618 | W11: =X11-V11 -> 17862 | X11: 27480 | Z11: Publiczna Szkoła Podstawowa
A12: 8 | B12: Gmina Chorzele | C12: ul. Stanisława Komosińskiego | D12: 1 | E12: 06-330 | F12: Chorzele | G12: 761-15-04-561 | H12: Publiczna Szkoła Podstawowa w Krukowie | I12: Krukowo 87, 06-333 Zaręby | J12: 7611403593 | K12: Publiczna Szkoła Podstawowa w Krukowie | L12: Krukowo | M12: 87 | N12: 06-333 | O12: Zaręby | P12: 133637091 | Q12: PL_ZEWD_1422003097_04 590543570300719408 | R12: 30450882 | S12: 16 | T12: C12A | V12: =X12*0.35 -> 2625 | W12: =X12-V12 -> 4875 | X12: 7500 | Z12: Publiczna Szkoła Podstawowa
A13: 9 | B13: Gmina Chorzele | C13: ul. Stanisława Komosińskiego | D13: 1 | E13: 06-330 | F13: Chorzele | G13: 761-15-04-561 | H13: Publiczna Szkoła Podstawowa w Pościeniu Wsi | I13: Poścień Wieś 47, 06-330 Chorzele | J13: 7611403400 | K13: Publiczna Szkoła Podstawowa w Pościeniu Wsi | L13: Poścień Wieś | M13: 47 | N13: 06-330 | O13: Chorzele | P13: 133630114 | Q13: PL_ZEWD_1422003096_02 590543570300719415 | R13: 30453545 | S13: 16 | T13: C12A | V13: =X13*0.35 -> 3850 | W13: =X13-V13 -> 7150 | X13: 11000 | Z13: Publiczna Szkoła Podstawowa
A14: 10 | B14: Gmina Chorzele | C14: ul. Stanisława Komosińskiego | D14: 1 | E14: 06-330 | F14: Chorzele | G14: 761-15-04-561 | H14: Przedszkole Samorządowe w Chorzelach | I14: ul. Wesoła 1, 06-330 Chorzele | J14: 7611403535 | K14: Przedszkole Samorządowe w Chorzelach | L14: Wesoła | M14: 1 | N14: 06-330 | O14: Chorzele | P14: 131312100 | Q14: PL_ZEWD_1422003100_07 590543570300719378 | R14: 42100545 | S14: 55 | T14: C21 | U14: =X14 -> 44900 | X14: 44900 | Z14: Przedszkole Samorządowe
A15: 11 | B15: Gmina Chorzele | C15: ul. Stanisława Komosińskiego | D15: 1 | E15: 06-330 | F15: Chorzele | G15: 761-15-04-561 | H15: Urząd Miasta i Gminy w Chorzelach | I15: ul. Stanisława Komosińskiego 1, 06-330 Chorzele | J15: 7611194907 | K15: =B15 -> Gmina Chorzele | L15: Grunwaldzka | M15: - | N15: 06-330 | O15: Chorzele | P15: 131011017 | Q15: PL_ZEWD_1422003224_01 590543570300718241 | R15: 30496360 | S15: 6 | T15: C12A | V15: =X15*0.35 -> 5699.75 | W15: =X15-V15 -> 10585.25 | X15: 16285 | Z15: oświetlenie uliczne
A16: 12 | B16: Gmina Chorzele | C16: ul. Stanisława Komosińskiego | D16: 1 | E16: 06-330 | F16: Chorzele | G16: 761-15-04-561 | H16: Urząd Miasta i Gminy w Chorzelach | I16: ul. Stanisława Komosińskiego 1, 06-330 Chorzele | J16: 7611194907 | K16: =B16 -> Gmina Chorzele | L16: Komosińskiego | M16: ST 3218 | N16: 06-330 | O16: Chorzele | P16: 131011018 | Q16: PL_ZEWD_1422003221_05 590543570300718272 | R16: 56617865 | S16: 6 | T16: C12A | V16: =X16*0.35 -> 3578.4 | W16: =X16-V16 -> 6645.6 | X16: 10224 | Z16: oświetlenie uliczne
A17: 13 | B17: Gmina Chorzele | C17: ul. Stanisława Komosińskiego | D17: 1 | E17: 06-330 | F17: Chorzele | G17: 761-15-04-561 | H17: Urząd Miasta i Gminy w Chorzelach | I17: ul. Stanisława Komosińskiego 1, 06-330 Chorzele | J17: 7611194907 | K17: =B17 -> Gmina Chorzele | L17: Ruda | M17: ST 0701 | N17: 06-330 | O17: Chorzele | P17: 131011019 | Q17: PL_ZEWD_1422003217_08 590543570300718319 | R17: 56619519 | S17: 6 | T17: C12A | V17: =X17*0.35 -> 3072.3 | W17: =X17-V17 -> 5705.7 | X17: 8778 | Z17: oświetlenie uliczne
A18: 14 | B18: Gmina Chorzele | C18: ul. Stanisława Komosińskiego | D18: 1 | E18: 06-330 | F18: Chorzele | G18: 761-15-04-561 | H18: Urząd Miasta i Gminy w Chorzelach | I18: ul. Stanisława Komosińskiego 1, 06-330 Chorzele | J18: 7611194907 | K18: =B18 -> Gmina Chorzele | L18: Zarębska | M18: ST 3223 | N18: 06-330 | O18: Chorzele | P18: 131011020 | Q18: PL_ZEWD_1422003216_06 590543570300718326 | R18: 56617853 | S18: 7 | T18: C12A | V18: =X18*0.35 -> 5581.8 | W18: =X18-V18 -> 10366.2 | X18: 15948 | Z18: oświetlenie uliczne
A19: 15 | B19: Gmina Chorzele | C19: ul. Stanisława Komosińskiego | D19: 1 | E19: 06-330 | F19: Chorzele | G19: 761-15-04-561 | H19: Urząd Miasta i Gminy w Chorzelach | I19: ul. Stanisława Komosińskiego 1, 06-330 Chorzele | J19: 7611194907 | K19: =B19 -> Gmina Chorzele | L19: Grunwaldzka | M19: ST 3216 | N19: 06-330 | O19: Chorzele | P19: 131011021 | Q19: PL_ZEWD_1422003211_06 590543570300718364 | R19: 56617854 | S19: 6 | T19: C12A | V19: =X19*0.35 -> 1817.2 | W19: =X19-V19 -> 3374.8 | X19: 5192 | Z19: oświetlenie uliczne
A20: 16 | B20: Gmina Chorzele | C20: ul. Stanisława Komosińskiego | D20: 1 | E20: 06-330 | F20: Chorzele | G20: 761-15-04-561 | H20: Urząd Miasta i Gminy w Chorzelach | I20: ul. Stanisława Komosińskiego 1, 06-330 Chorzele | J20: 7611194907 | K20: =B20 -> Gmina Chorzele | L20: Ogrodowa | M20: ST 1022 | N20: 06-330 | O20: Chorzele | P20: 131011022 | Q20: PL_ZEWD_1422003206_07 590543570300718418 | R20: 56619518 | S20: 6 | T20: C12A | V20: =X20*0.35 -> 1375.5 | W20: =X20-V20 -> 2554.5 | X20: 3930 | Z20: oświetlenie uliczne
A21: 17 | B21: Gmina Chorzele | C21: ul. Stanisława Komosińskiego | D21: 1 | E21: 06-330 | F21: Chorzele | G21: 761-15-04-561 | H21: Urząd Miasta i Gminy w Chorzelach | I21: ul. Stanisława Komosińskiego 1, 06-330 Chorzele | J21: 7611194907 | K21: =B21 -> Gmina Chorzele | L21: Młynarska | M21: - | N21: 06-330 | O21: Chorzele | P21: 131011023 | Q21: PL_ZEWD_1422003204_03 590543570300718432 | R21: 56617836 | S21: 6 | T21: C12A | V21: =X21*0.35 -> 3195.5 | W21: =X21-V21 -> 5934.5 | X21: 9130 | Z21: oświetlenie uliczne
A22: 18 | B22: Gmina Chorzele | C22: ul. Stanisława Komosińskiego | D22: 1 | E22: 06-330 | F22: Chorzele | G22: 761-15-04-561 | H22: Urząd Miasta i Gminy w Chorzelach | I22: ul. Stanisława Komosińskiego 1, 06-330 Chorzele | J22: 7611194907 | K22: =B22 -> Gmina Chorzele | L22: Zarębska | M22: - | N22: 06-330 | O22: Chorzele | P22: 131011024 | Q22: PL_ZEWD_1422003199_06 590543570300718470 | R22: 55005290 | S22: 6 | T22: C12A | V22: =X22*0.35 -> 1877.4 | W22: =X22-V22 -> 3486.6 | X22: 5364 | Z22: oświetlenie uliczne
A23: 19 | B23: Gmina Chorzele | C23: ul. Stanisława Komosińskiego | D23: 1 | E23: 06-330 | F23: Chorzele | G23: 761-15-04-561 | H23: Urząd Miasta i Gminy w Chorzelach | I23: ul. Stanisława Komosińskiego 1, 06-330 Chorzele | J23: 7611194907 | K23: =B23 -> Gmina Chorzele | L23: Grunwaldzka | M23: ST 3206 | N23: 06-330 | O23: Chorzele | P23: 131011025 | Q23: PL_ZEWD_1422003197_02 590543570300718494 | R23: 30496272 | S23: 6 | T23: C12A | V23: =X23*0.35 -> 4025.35 | W23: =X23-V23 -> 7475.65 | X23: 11501 | Z23: oświetlenie uliczne
A24: 20 | B24: Gmina Chorzele | C24: ul. Stanisława Komosińskiego | D24: 1 | E24: 06-330 | F24: Chorzele | G24: 761-15-04-561 | H24: Urząd Miasta i Gminy w Chorzelach | I24: ul. Stanisława Komosińskiego 1, 06-330 Chorzele | J24: 7611194907 | K24: =B24 -> Gmina Chorzele | L24: ul. Szkolna | M24: ST 3207 | N24: 06-330 | O24: Chorzele | P24: 131011026 | Q24: PL_ZEWD_1422003184_07 590543570300718623 | R24: 55005288 | S24: 6 | T24: C12A | V24: =X24*0.35 -> 1792 | W24: =X24-V24 -> 3328 | X24: 5120 | Z24: oświetlenie uliczne
A25: 21 | B25: Gmina Chorzele | C25: ul. Stanisława Komosińskiego | D25: 1 | E25: 06-330 | F25: Chorzele | G25: 761-15-04-561 | H25: Urząd Miasta i Gminy w Chorzelach | I25: ul. Stanisława Komosińskiego 1, 06-330 Chorzele | J25: 7611194907 | K25: =B25 -> Gmina Chorzele | L25: ul. Stara Targowica | M25: ST 3228 | N25: 06-330 | O25: Chorzele | P25: 131011027 | Q25: PL_ZEWD_1422003183_05 590543570300718630 | R25: 56619520 | S25: 6 | T25: C12A | V25: =X25*0.35 -> 2131.5 | W25: =X25-V25 -> 3958.5 | X25: 6090 | Z25: oświetlenie uliczne
A26: 22 | B26: Gmina Chorzele | C26: ul. Stanisława Komosińskiego | D26: 1 | E26: 06-330 | F26: Chorzele | G26: 761-15-04-561 | H26: Urząd Miasta i Gminy w Chorzelach | I26: ul. Stanisława Komosińskiego 1, 06-330 Chorzele | J26: 7611194907 | K26: =B26 -> Gmina Chorzele | L26: ul. Zygmunta Padlewskiego | M26: ST 3208 | N26: 06-330 | O26: Chorzele | P26: 131011028 | Q26: PL_ZEWD_1422003087_05 590543570300719507 | R26: 56619525 | S26: 6 | T26: C12A | V26: =X26*0.35 -> 8896.3 | W26: =X26-V26 -> 16521.7 | X26: 25418 | Z26: oświetlenie uliczne
... A28: 24 | B28: Gmina Chorzele | C28: ul. Stanisława Komosińskiego | D28: 1 | E28: 06-330 | F28: Chorzele | G28: 761-15-04-561 | H28: Urząd Miasta i Gminy w Chorzelach | I28: ul. Stanisława Komosińskiego 1, 06-330 Chorzele | J28: 7611194907 | K28: =B28 -> Gmina Chorzele | L28: ul. Księżycowa | M28: ST 3211 | N28: 06-330 | O28: Chorzele | P28: 131011031 | Q28: PL_ZEWD_1422003143_09 590543570300718975 | R28: 56617861 | S28: 6 | T28: C12A | V28: =X28*0.35 -> 3032.75 | W28: =X28-V28 -> 5632.25 | X28: 8665 | Z28: oświetlenie uliczne
A29: 25 | B29: Gmina Chorzele | C29: ul. Stanisława Komosińskiego | D29: 1 | E29: 06-330 | F29: Chorzele | G29: 761-15-04-561 | H29: Urząd Miasta i Gminy w Chorzelach | I29: ul. Stanisława Komosińskiego 1, 06-330 Chorzele | J29: 7611194907 | K29: =B29 -> Gmina Chorzele | L29: Grunwaldzka | M29: dz. nr 951 | N29: 06-330 | O29: Chorzele | P29: 131011058 | Q29: PL_ZEWD_1422018451_09 590543570300579842 | R29: 55164816 | S29: 5 | T29: C11o | U29: =X29 -> 472 | X29: 472 | Z29: oświetlenie uliczne
A30: 26 | B30: Gmina Chorzele | C30: ul. Stanisława Komosińskiego | D30: 1 | E30: 06-330 | F30: Chorzele | G30: 761-15-04-561 | H30: Urząd Miasta i Gminy w Chorzelach | I30: ul. Stanisława Komosińskiego 1, 06-330 Chorzele | J30: 7611194907 | K30: Gmina Chorzele | L30: Ignatowskiego | M30: dz. 167/1 | N30: 06-330 | O30: Chorzele | P30: 131011073 | Q30: PL_ZEWD _1422018732_07 590543570300577664 | R30: 31032729 | S30: 1 | T30: C11o | U30: =X30 -> 439 | X30: 439 | Z30: oświetlenie uliczne
A31: 27 | B31: Gmina Chorzele | C31: ul. Stanisława Komosińskiego | D31: 1 | E31: 06-330 | F31: Chorzele | G31: 761-15-04-561 | H31: Urząd Miasta i Gminy w Chorzelach | I31: ul. Stanisława Komosińskiego 1, 06-330 Chorzele | J31: 7611194907 | K31: =B31 -> Gmina Chorzele | L31: Kazimierza Wielkiego | M31: - | N31: 06-330 | O31: Chorzele | P31: 131306115 | Q31: PL_ZEWD_1422003106_09 590543570300719316 | R31: 92112859 | S31: 2 | T31: C12A | V31: =X31*0.35 -> 1251.6 | W31: =X31-V31 -> 2324.4 | X31: 3576 | Z31: oświetlenie uliczne
A32: 28 | B32: Gmina Chorzele | C32: ul. Stanisława Komosińskiego | D32: 1 | E32: 06-330 | F32: Chorzele | G32: 761-15-04-561 | H32: Urząd Miasta i Gminy w Chorzelach | I32: ul. Stanisława Komosińskiego 1, 06-330 Chorzele | J32: 7611194907 | K32: =B32 -> Gmina Chorzele | L32: Kościelna | M32: dz. 1031/3 | N32: 06-330 | O32: Chorzele | P32: 131310077 | Q32: PL_ZEWD_1422003593_06 590543570300715004 | R32: 30391621 | S32: 11 | T32: C12A | V32: =X32*0.35 -> 4967.9 | W32: =X32-V32 -> 9226.1 | X32: 14194 | Z32: oświetlenie uliczne
A33: 29 | B33: Gmina Chorzele | C33: ul. Stanisława Komosińskiego | D33: 1 | E33: 06-330 | F33: Chorzele | G33: 761-15-04-561 | H33: Urząd Miasta i Gminy w Chorzelach | I33: ul. Stanisława Komosińskiego 1, 06-330 Chorzele | J33: 7611194907 | K33: =B33 -> Gmina Chorzele | L33: Padlewskiego | M33: - | N33: 06-330 | O33: Chorzele | P33: 130003082 | Q33: PL_ZEWD_1422003384_03 590543570300716872 | R33: 27872237 | S33: 3 | T33: C11 | U33: =X33 -> 1516 | X33: 1516 | Z33: oświetlenie uliczne
A34: 30 | B34: Gmina Chorzele | C34: ul. Stanisława Komosińskiego | D34: 1 | E34: 06-330 | F34: Chorzele | G34: 761-15-04-561 | H34: Urząd Miasta i Gminy w Chorzelach | I34: ul. Stanisława Komosińskiego 1, 06-330 Chorzele | J34: 7611194907 | K34: Gmina Chorzele | L34: Jana III Sobieskiego | M34: dz. 1712/23 | N34: 06-330 | O34: Chorzele | P34: 131011078 | Q34: PL_ZEWD _1422018773_05 590543570300577350 | R34: 31032875 | S34: 1 | T34: C11o | U34: =X34 -> 540 | X34: 540 | Z34: oświetlenie uliczne
A35: 31 | B35: Gmina Chorzele | C35: ul. Stanisława Komosińskiego | D35: 1 | E35: 06-330 | F35: Chorzele | G35: 761-15-04-561 | H35: Urząd Miasta i Gminy w Chorzelach | I35: ul. Stanisława Komosińskiego 1, 06-330 Chorzele | J35: 7611194907 | K35: Gmina Chorzele | L35: Mickiewicza | M35: dz. 586/12 m 687, 1714 | N35: 06-330 | O35: Chorzele | P35: 133625175 | Q35: PL_ZEWD _1422018772_03 590543570300577367 | R35: 31032841 | S35: 1 | T35: C11o | U35: =X35 -> 890 | X35: 890 | Z35: oświetlenie uliczne
A36: 32 | B36: Gmina Chorzele | C36: ul. Stanisława Komosińskiego | D36: 1 | E36: 06-330 | F36: Chorzele | G36: 761-15-04-561 | H36: Urząd Miasta i Gminy w Chorzelach | I36: ul. Stanisława Komosińskiego 1, 06-330 Chorzele | J36: 7611194907 | K36: =B36 -> Gmina Chorzele | L36: Pruskołęka | M36: - | N36: 06-330 | O36: Chorzele | P36: 133025066 | Q36: PL_ZEWD_1422003225_03 590543570300718234 | R36: 55005365 | S36: 6 | T36: C12A | V36: =X36*0.35 -> 628.25 | W36: =X36-V36 -> 1166.75 | X36: 1795 | Z36: oświetlenie uliczne
A37: 33 | B37: Gmina Chorzele | C37: ul. Stanisława Komosińskiego | D37: 1 | E37: 06-330 | F37: Chorzele | G37: 761-15-04-561 | H37: Urząd Miasta i Gminy w Chorzelach | I37: ul. Stanisława Komosińskiego 1, 06-330 Chorzele | J37: 7611194907 | K37: =B37 -> Gmina Chorzele | L37: Lipowiec | M37: - | N37: 06-330 | O37: Chorzele | P37: 133025067 | Q37: PL_ZEWD_1422003223_09 590543570300718258 | R37: 55005336 | S37: 6 | T37: C12A | V37: =X37*0.35 -> 352.8 | W37: =X37-V37 -> 655.2 | X37: 1008 | Z37: oświetlenie uliczne
A38: 34 | B38: Gmina Chorzele | C38: ul. Stanisława Komosińskiego | D38: 1 | E38: 06-330 | F38: Chorzele | G38: 761-15-04-561 | H38: Urząd Miasta i Gminy w Chorzelach | I38: ul. Stanisława Komosińskiego 1, 06-330 Chorzele | J38: 7611194907 | K38: =B38 -> Gmina Chorzele | L38: Przysowy | M38: - | N38: 06-330 | O38: Chorzele | P38: 133025068 | Q38: PL_ZEWD_1422003222_07 590543570300718265 | R38: 83777520 | S38: 3 | T38: C12A | V38: =X38*0.35 -> 328.65 | W38: =X38-V38 -> 610.35 | X38: 939 | Z38: oświetlenie uliczne
A39: 35 | B39: Gmina Chorzele | C39: ul. Stanisława Komosińskiego | D39: 1 | E39: 06-330 | F39: Chorzele | G39: 761-15-04-561 | H39: Urząd Miasta i Gminy w Chorzelach | I39: ul. Stanisława Komosińskiego 1, 06-330 Chorzele | J39: 7611194907 | K39: =B39 -> Gmina Chorzele | L39: Czaplice Wielkie | M39: - | N39: 06-330 | O39: Chorzele | P39: 133025069 | Q39: PL_ZEWD_1422003220_03 590543570300718289 | R39: 55009161 | S39: 6 | T39: C12A | V39: =X39*0.35 -> 962.5 | W39: =X39-V39 -> 1787.5 | X39: 2750 | Z39: oświetlenie uliczne
A40: 36 | B40: Gmina Chorzele | C40: ul. Stanisława Komosińskiego | D40: 1 | E40: 06-330 | F40: Chorzele | G40: 761-15-04-561 | H40: Urząd Miasta i Gminy w Chorzelach | I40: ul. Stanisława Komosińskiego 1, 06-330 Chorzele | J40: 7611194907 | K40: =B40 -> Gmina Chorzele | L40: Duczymin | M40: ST 1924 | N40: 06-330 | O40: Chorzele | P40: 133025070 | Q40: PL_ZEWD_1422003219_02 590543570300718296 | R40: 83777204 | S40: 6 | T40: C12A | V40: =X40*0.35 -> 1202.95 | W40: =X40-V40 -> 2234.05 | X40: 3437 | Z40: oświetlenie uliczne
A41: 37 | B41: Gmina Chorzele | C41: ul. Stanisława Komosińskiego | D41: 1 | E41: 06-330 | F41: Chorzele | G41: 761-15-04-561 | H41: Urząd Miasta i Gminy w Chorzelach | I41: ul. Stanisława Komosińskiego 1, 06-330 Chorzele | J41: 7611194907 | K41: =B41 -> Gmina Chorzele | L41: Kwiatkowo | M41: - | N41: 06-330 | O41: Chorzele | P41: 133025071 | Q41: PL_ZEWD_1422003215_04 590543570300718333 | R41: 30496344 | S41: 6 | T41: C12A | V41: =X41*0.35 -> 261.8 | W41: =X41-V41 -> 486.2 | X41: 748 | Z41: oświetlenie uliczne
A42: 38 | B42: Gmina Chorzele | C42: ul. Stanisława Komosińskiego | D42: 1 | E42: 06-330 | F42: Chorzele | G42: 761-15-04-561 | H42: Urząd Miasta i Gminy w Chorzelach | I42: ul. Stanisława Komosińskiego 1, 06-330 Chorzele | J42: 7611194907 | K42: =B42 -> Gmina Chorzele | L42: Opaleniec | M42: ST 13-1173 | N42: 06-330 | O42: Chorzele | P42: 133025072 | Q42: PL_ZEWD_1422003214_02 590543570300718340 | R42: 55005328 | S42: 3 | T42: C12A | V42: =X42*0.35 -> 523.25 | W42: =X42-V42 -> 971.75 | X42: 1495 | Z42: oświetlenie uliczne
A43: 39 | B43: Gmina Chorzele | C43: ul. Stanisława Komosińskiego | D43: 1 | E43: 06-330 | F43: Chorzele | G43: 761-15-04-561 | H43: Urząd Miasta i Gminy w Chorzelach | I43: ul. Stanisława Komosińskiego 1, 06-330 Chorzele | J43: 7611194907 | K43: =B43 -> Gmina Chorzele | L43: Duczymin | M43: - | N43: 06-330 | O43: Chorzele | P43: 133025073 | Q43: PL_ZEWD_1422003213_00 590543570300718357 | R43: 83777209 | S43: 6 | T43: C12A | V43: =X43*0.35 -> 3792.95 | W43: =X43-V43 -> 7044.05 | X43: 10837 | Z43: oświetlenie uliczne
A44: 40 | B44: Gmina Chorzele | C44: ul. Stanisława Komosińskiego | D44: 1 | E44: 06-330 | F44: Chorzele | G44: 761-15-04-561 | H44: Urząd Miasta i Gminy w Chorzelach | I44: ul. Stanisława Komosińskiego 1, 06-330 Chorzele | J44: 7611194907 | K44: =B44 -> Gmina Chorzele | L44: Opiłki Płoskie | M44: ST 1942 | N44: 06-330 | O44: Chorzele | P44: 133025074 | Q44: PL_ZEWD_1422003210_04 590543570300718371 | R44: 83777582 | S44: 3 | T44: C12A | V44: =X44*0.35 -> 623.7 | W44: =X44-V44 -> 1158.3 | X44: 1782 | Z44: oświetlenie uliczne
A45: 41 | B45: Gmina Chorzele | C45: ul. Stanisława Komosińskiego | D45: 1 | E45: 06-330 | F45: Chorzele | G45: 761-15-04-561 | H45: Urząd Miasta i Gminy w Chorzelach | I45: ul. Stanisława Komosińskiego 1, 06-330 Chorzele | J45: 7611194907 | K45: =B45 -> Gmina Chorzele | L45: Zdziwój Nowy | M45: ST 2078 | N45: 06-330 | O45: Chorzele | P45: 133025075 | Q45: PL_ZEWD_1422003209_03 590543570300718388 | R45: 83777200 | S45: 6 | T45: C12A | V45: =X45*0.35 -> 471.1 | W45: =X45-V45 -> 874.9 | X45: 1346 | Z45: oświetlenie uliczne
A46: 42 | B46: Gmina Chorzele | C46: ul. Stanisława Komosińskiego | D46: 1 | E46: 06-330 | F46: Chorzele | G46: 761-15-04-561 | H46: Urząd Miasta i Gminy w Chorzelach | I46: ul. Stanisława Komosińskiego 1, 06-330 Chorzele | J46: 7611194907 | K46: =B46 -> Gmina Chorzele | L46: Rapaty-Sulimy | M46: - | N46: 06-330 | O46: Chorzele | P46: 133025076 | Q46: PL_ZEWD_1422003208_01 590543570300718395 | R46: 83777571 | S46: 3 | T46: C12A | V46: =X46*0.35 -> 211.05 | W46: =X46-V46 -> 391.95 | X46: 603 | Z46: oświetlenie uliczne
A47: 43 | B47: Gmina Chorzele | C47: ul. Stanisława Komosińskiego | D47: 1 | E47: 06-330 | F47: Chorzele | G47: 761-15-04-561 | H47: Urząd Miasta i Gminy w Chorzelach | I47: ul. Stanisława Komosińskiego 1, 06-330 Chorzele | J47: 7611194907 | K47: =B47 -> Gmina Chorzele | L47: Zaręby | M47: ST 1331 | N47: 06-333 | O47: Zaręby | P47: 133025077 | Q47: PL_ZEWD_1422003207_09 590543570300718401 | R47: 30582797 | S47: 7 | T47: C12A | V47: =X47*0.35 -> 7214.55 | W47: =X47-V47 -> 13398.45 | X47: 20613 | Z47: oświetlenie uliczne
... A74: 70 | B74: Gmina Chorzele | C74: ul. Stanisława Komosińskiego | D74: 1 | E74: 06-330 | F74: Chorzele | G74: 761-15-04-561 | H74: Urząd Miasta i Gminy w Chorzelach | I74: ul. Stanisława Komosińskiego 1, 06-330 Chorzele | J74: 7611194907 | K74: =B74 -> Gmina Chorzele | L74: Wasiły Zygny | M74: - | N74: 06-330 | O74: Chorzele | P74: 133025104 | Q74: PL_ZEWD_1422003142_07 590543570300718982 | R74: 83777427 | S74: 6 | T74: C12A | V74: =X74*0.35 -> 356.65 | W74: =X74-V74 -> 662.35 | X74: 1019 | Z74: oświetlenie uliczne
A75: 71 | B75: =B53 -> Gmina Chorzele | C75: ul. Stanisława Komosińskiego | D75: 1 | E75: 06-330 | F75: Chorzele | G75: 761-15-04-561 | H75: Urząd Miasta i Gminy w Chorzelach | I75: ul. Stanisława Komosińskiego 1, 06-330 Chorzele | J75: 7611194907 | K75: =B75 -> Gmina Chorzele | L75: Opaleniec | M75: - | N75: 06-330 | O75: Chorzele | P75: 133025105 | Q75: PL_ZEWD_1422003138_00 590543570300719026 | R75: 55005264 | S75: 6 | T75: C12A | V75: =X75*0.35 -> 613.55 | W75: =X75-V75 -> 1139.45 | X75: 1753 | Z75: oświetlenie uliczne
A76: 72 | B76: Gmina Chorzele | C76: ul. Stanisława Komosińskiego | D76: 1 | E76: 06-330 | F76: Chorzele | G76: 761-15-04-561 | H76: Urząd Miasta i Gminy w Chorzelach | I76: ul. Stanisława Komosińskiego 1, 06-330 Chorzele | J76: 7611194907 | K76: =B76 -> Gmina Chorzele | L76: Krzynowłoga Wielka | M76: - | N76: 06-330 | O76: Chorzele | P76: 133025106 | Q76: PL_ZEWD_1422003137_08 590543570300719033 | R76: 55005298 | S76: 6 | T76: C12A | V76: =X76*0.35 -> 1256.85 | W76: =X76-V76 -> 2334.15 | X76: 3591 | Z76: oświetlenie uliczne
A77: 73 | B77: Gmina Chorzele | C77: ul. Stanisława Komosińskiego | D77: 1 | E77: 06-330 | F77: Chorzele | G77: 761-15-04-561 | H77: Urząd Miasta i Gminy w Chorzelach | I77: ul. Stanisława Komosińskiego 1, 06-330 Chorzele | J77: 7611194907 | K77: =B77 -> Gmina Chorzele | L77: Rycice | M77: ST 1259 | N77: 06-330 | O77: Chorzele | P77: 133025107 | Q77: PL_ZEWD_1422003135_04 590543570300719057 | R77: 55005343 | S77: 6 | T77: C12A | V77: =X77*0.35 -> 703.85 | W77: =X77-V77 -> 1307.15 | X77: 2011 | Z77: oświetlenie uliczne
A78: 74 | B78: Gmina Chorzele | C78: ul. Stanisława Komosińskiego | D78: 1 | E78: 06-330 | F78: Chorzele | G78: 761-15-04-561 | H78: Urząd Miasta i Gminy w Chorzelach | I78: ul. Stanisława Komosińskiego 1, 06-330 Chorzele | J78: 7611194907 | K78: =B78 -> Gmina Chorzele | L78: Krzynowłoga Wielka | M78: - | N78: 06-330 | O78: Chorzele | P78: 133025108 | Q78: PL_ZEWD_1422003133_00 590543570300719071 | R78: 55005312 | S78: 6 | T78: C12A | V78: =X78*0.35 -> 3876.95 | W78: =X78-V78 -> 7200.05 | X78: 11077 | Z78: oświetlenie uliczne
A79: 75 | B79: Gmina Chorzele | C79: ul. Stanisława Komosińskiego | D79: 1 | E79: 06-330 | F79: Chorzele | G79: 761-15-04-561 | H79: Urząd Miasta i Gminy w Chorzelach | I79: ul. Stanisława Komosińskiego 1, 06-330 Chorzele | J79: 7611194907 | K79: =B79 -> Gmina Chorzele | L79: Rawki | M79: - | N79: 06-333 | O79: Zaręby | P79: 133025109 | Q79: PL_ZEWD_1422003132_08 590543570300719088 | R79: 56922569 | S79: 7 | T79: C12A | V79: =X79*0.35 -> 480.55 | W79: =X79-V79 -> 892.45 | X79: 1373 | Z79: oświetlenie uliczne
A80: 76 | B80: Gmina Chorzele | C80: ul. Stanisława Komosińskiego | D80: 1 | E80: 06-330 | F80: Chorzele | G80: 761-15-04-561 | H80: Urząd Miasta i Gminy w Chorzelach | I80: ul. Stanisława Komosińskiego 1, 06-330 Chorzele | J80: 7611194907 | K80: =B80 -> Gmina Chorzele | L80: Rycice | M80: - | N80: 06-330 | O80: Chorzele | P80: 133025110 | Q80: PL_ZEWD_1422003131_06 590543570300719095 | R80: 55005281 | S80: 6 | T80: C12A | V80: =X80*0.35 -> 615.3 | W80: =X80-V80 -> 1142.7 | X80: 1758 | Z80: oświetlenie uliczne
A81: 77 | B81: Gmina Chorzele | C81: ul. Stanisława Komosińskiego | D81: 1 | E81: 06-330 | F81: Chorzele | G81: 761-15-04-561 | H81: Urząd Miasta i Gminy w Chorzelach | I81: ul. Stanisława Komosińskiego 1, 06-330 Chorzele | J81: 7611194907 | K81: =B81 -> Gmina Chorzele | L81: Rembielin | M81: ST 689 | N81: 06-330 | O81: Chorzele | P81: 133025111 | Q81: PL_ZEWD_1422003130_04 590543570300719101 | R81: 55005265 | S81: 6 | T81: C12A | V81: =X81*0.35 -> 908.95 | W81: =X81-V81 -> 1688.05 | X81: 2597 | Z81: oświetlenie uliczne
A82: 78 | B82: Gmina Chorzele | C82: ul. Stanisława Komosińskiego | D82: 1 | E82: 06-330 | F82: Chorzele | G82: 761-15-04-561 | H82: Urząd Miasta i Gminy w Chorzelach | I82: ul. Stanisława Komosińskiego 1, 06-330 Chorzele | J82: 7611194907 | K82: =B82 -> Gmina Chorzele | L82: Nowa Wieś | M82: ST 1167 | N82: 06-330 | O82: Chorzele | P82: 133025112 | Q82: PL_ZEWD_1422003129_03 590543570300719118 | R82: 83777574 | S82: 6 | T82: C12A | V82: =X82*0.35 -> 1301.3 | W82: =X82-V82 -> 2416.7 | X82: 3718 | Z82: oświetlenie uliczne
A83: 79 | B83: Gmina Chorzele | C83: ul. Stanisława Komosińskiego | D83: 1 | E83: 06-330 | F83: Chorzele | G83: 761-15-04-561 | H83: Urząd Miasta i Gminy w Chorzelach | I83: ul. Stanisława Komosińskiego 1, 06-330 Chorzele | J83: 7611194907 | K83: =B83 -> Gmina Chorzele | L83: Brzeski Kołaki | M83: - | N83: 06-330 | O83: Chorzele | P83: 133025113 | Q83: PL_ZEWD_1422003127_09 590543570300719132 | R83: 83777585 | S83: 6 | T83: C12A | V83: =X83*0.35 -> 627.55 | W83: =X83-V83 -> 1165.45 | X83: 1793 | Z83: oświetlenie uliczne
A84: 80 | B84: Gmina Chorzele | C84: ul. Stanisława Komosińskiego | D84: 1 | E84: 06-330 | F84: Chorzele | G84: 761-15-04-561 | H84: Urząd Miasta i Gminy w Chorzelach | I84: ul. Stanisława Komosińskiego 1, 06-330 Chorzele | J84: 7611194907 | K84: =B84 -> Gmina Chorzele | L84: Budki | M84: - | N84: 06-330 | O84: Chorzele | P84: 133025114 | Q84: PL_ZEWD_1422003126_07 590543570300719149 | R84: 55005367 | S84: 6 | T84: C12A | V84: =X84*0.35 -> 1965.95 | W84: =X84-V84 -> 3651.05 | X84: 5617 | Z84: oświetlenie uliczne
A85: 81 | B85: Gmina Chorzele | C85: ul. Stanisława Komosińskiego | D85: 1 | E85: 06-330 | F85: Chorzele | G85: 761-15-04-561 | H85: Urząd Miasta i Gminy w Chorzelach | I85: ul. Stanisława Komosińskiego 1, 06-330 Chorzele | J85: 7611194907 | K85: =B85 -> Gmina Chorzele | L85: Zdziwój Stary | M85: ST 1327 | N85: 06-330 | O85: Chorzele | P85: 133025115 | Q85: PL_ZEWD_1422003125_05 590543570300719156 | R85: 93585961 | S85: 6 | T85: C12A | V85: =X85*0.35 -> 1751.75 | W85: =X85-V85 -> 3253.25 | X85: 5005 | Z85: oświetlenie uliczne
A86: 82 | B86: Gmina Chorzele | C86: ul. Stanisława Komosińskiego | D86: 1 | E86: 06-330 | F86: Chorzele | G86: 761-15-04-561 | H86: Urząd Miasta i Gminy w Chorzelach | I86: ul. Stanisława Komosińskiego 1, 06-330 Chorzele | J86: 7611194907 | K86: =B86 -> Gmina Chorzele | L86: Przysowy | M86: ST 1227 | N86: 06-330 | O86: Chorzele | P86: 133025116 | Q86: PL_ZEWD_1422003124_03 590543570300719163 | R86: 30496352 | S86: 3 | T86: C12A | V86: =X86*0.35 -> 216.3 | W86: =X86-V86 -> 401.7 | X86: 618 | Z86: oświetlenie uliczne
A87: 83 | B87: Gmina Chorzele | C87: ul. Stanisława Komosińskiego | D87: 1 | E87: 06-330 | F87: Chorzele | G87: 761-15-04-561 | H87: Urząd Miasta i Gminy w Chorzelach | I87: ul. Stanisława Komosińskiego 1, 06-330 Chorzele | J87: 7611194907 | K87: =B87 -> Gmina Chorzele | L87: Stara Wieś | M87: - | N87: 06-330 | O87: Chorzele | P87: 133025117 | Q87: PL_ZEWD_1422003123_01 590543570300719170 | R87: 83777575 | S87: 6 | T87: C12A | V87: =X87*0.35 -> 1554.7 | W87: =X87-V87 -> 2887.3 | X87: 4442 | Z87: oświetlenie uliczne
A88: 84 | B88: Gmina Chorzele | C88: ul. Stanisława Komosińskiego | D88: 1 | E88: 06-330 | F88: Chorzele | G88: 761-15-04-561 | H88: Urząd Miasta i Gminy w Chorzelach | I88: ul. Stanisława Komosińskiego 1, 06-330 Chorzele | J88: 7611194907 | K88: =B88 -> Gmina Chorzele | L88: Wierzchowizna | M88: - | N88: 06-333 | O88: Zaręby | P88: 133025118 | Q88: PL_ZEWD_1422003122_09 590543570300719187 | R88: 55005368 | S88: 2 | T88: C12A | V88: =X88*0.35 -> 402.5 | W88: =X88-V88 -> 747.5 | X88: 1150 | Z88: oświetlenie uliczne
A89: 85 | B89: Gmina Chorzele | C89: ul. Stanisława Komosińskiego | D89: 1 | E89: 06-330 | F89: Chorzele | G89: 761-15-04-561 | H89: Urząd Miasta i Gminy w Chorzelach | I89: ul. Stanisława Komosińskiego 1, 06-330 Chorzele | J89: 7611194907 | K89: =B89 -> Gmina Chorzele | L89: Krukowo | M89: - | N89: 06-333 | O89: Zaręby | P89: 133025119 | Q89: PL_ZEWD_1422003121_07 590543570300719194 | R89: 92915129 | S89: 2 | T89: C11 | U89: =X89 -> 299 | X89: 299 | Z89: oświetlenie uliczne
A90: 86 | B90: Gmina Chorzele | C90: ul. Stanisława Komosińskiego | D90: 1 | E90: 06-330 | F90: Chorzele | G90: 761-15-04-561 | H90: Urząd Miasta i Gminy w Chorzelach | I90: ul. Stanisława Komosińskiego 1, 06-330 Chorzele | J90: 7611194907 | K90: =B90 -> Gmina Chorzele | L90: Bugzy Płoskie | M90: - | N90: 06-330 | O90: Chorzele | P90: 133025120 | Q90: PL_ZEWD_1422003120_05 590543570300719200 | R90: 83777206 | S90: 2 | T90: C12A | V90: =X90*0.35 -> 1039.15 | W90: =X90-V90 -> 1929.85 | X90: 2969 | Z90: oświetlenie uliczne
A91: 87 | B91: Gmina Chorzele | C91: ul. Stanisława Komosińskiego | D91: 1 | E91: 06-330 | F91: Chorzele | G91: 761-15-04-561 | H91: Urząd Miasta i Gminy w Chorzelach | I91: ul. Stanisława Komosińskiego 1, 06-330 Chorzele | J91: 7611194907 | K91: =B91 -> Gmina Chorzele | L91: Zdziwój Nowy | M91: - | N91: 06-330 | O91: Chorzele | P91: 133025121 | Q91: PL_ZEWD_1422003118_02 590543570300719224 | R91: 55005286 | S91: 2 | T91: C12A | V91: =X91*0.35 -> 169.05 | W91: =X91-V91 -> 313.95 | X91: 483 | Z91: oświetlenie uliczne
A92: 88 | B92: Gmina Chorzele | C92: ul. Stanisława Komosińskiego | D92: 1 | E92: 06-330 | F92: Chorzele | G92: 761-15-04-561 | H92: Urząd Miasta i Gminy w Chorzelach | I92: ul. Stanisława Komosińskiego 1, 06-330 Chorzele | J92: 7611194907 | K92: =B92 -> Gmina Chorzele | L92: Zaręby | M92: - | N92: 06-333 | O92: Zaręby | P92: 133025122 | Q92: PL_ZEWD_1422003117_00 590543570300719231 | R92: 92915128 | S92: 2 | T92: C11 | U92: =X92 -> 1108 | X92: 1108 | Z92: oświetlenie uliczne
A93: 89 | B93: Gmina Chorzele | C93: ul. Stanisława Komosińskiego | D93: 1 | E93: 06-330 | F93: Chorzele | G93: 761-15-04-561 | H93: Urząd Miasta i Gminy w Chorzelach | I93: ul. Stanisława Komosińskiego 1, 06-330 Chorzele | J93: 7611194907 | K93: =B93 -> Gmina Chorzele | L93: Krzynowłoga Wielka | M93: - | N93: 06-330 | O93: Chorzele | P93: 133025123 | Q93: PL_ZEWD_1422003111_08 590543570300719279 | R93: 55005309 | S93: 2 | T93: C12A | V93: =X93*0.35 -> 839.3 | W93: =X93-V93 -> 1558.7 | X93: 2398 | Z93: oświetlenie uliczne
A94: 90 | B94: Gmina Chorzele | C94: ul. Stanisława Komosińskiego | D94: 1 | E94: 06-330 | F94: Chorzele | G94: 761-15-04-561 | H94: Urząd Miasta i Gminy w Chorzelach | I94: ul. Stanisława Komosińskiego 1, 06-330 Chorzele | J94: 7611194907 | K94: Gmina Chorzele | L94: Krzynowłoga Wielka | M94: dz. 68/4 | N94: 06-330 | O94: Chorzele | P94: 133025126 | Q94: PL_ZEWD _1422018731_05 590543570300577671 | R94: 30991015 | S94: 1 | T94: C11o | U94: =X94 -> 880 | X94: 880 | Z94: oświetlenie uliczne
A95: 91 | B95: Gmina Chorzele | C95: ul. Stanisława Komosińskiego | D95: 1 | E95: 06-330 | F95: Chorzele | G95: 761-15-04-561 | H95: Urząd Miasta i Gminy w Chorzelach | I95: ul. Stanisława Komosińskiego 1, 06-330 Chorzele | J95: 7611194907 | K95: Gmina Chorzele | L95: Nowa Wieś | M95: - | N95: 06-333 | O95: Zaręby | P95: 133606063 | Q95: PL_ZEWD _1422018621_08 590543570300578548 | R95: 28295698 | S95: 1 | T95: C11o | U95: =X95 -> 26 | X95: 26 | Z95: oświetlenie uliczne
A96: 92 | B96: Gmina Chorzele | C96: ul. Stanisława Komosińskiego | D96: 1 | E96: 06-330 | F96: Chorzele | G96: 761-15-04-561 | H96: Urząd Miasta i Gminy w Chorzelach | I96: ul. Stanisława Komosińskiego 1, 06-330 Chorzele | J96: 7611194907 | K96: Gmina Chorzele | L96: Bagienice | M96: dz. 142 | N96: 06-330 | O96: Chorzele | P96: 133612083 | Q96: PL_ZEWD _1422019076_02 590543570300994638 | R96: 30991017 | S96: 1 | T96: C11o | U96: =X96 -> 140 | X96: 140 | Z96: oświetlenie uliczne
A97: 93 | B97: Gmina Chorzele | C97: ul. Stanisława Komosińskiego | D97: 1 | E97: 06-330 | F97: Chorzele | G97: 761-15-04-561 | H97: Urząd Miasta i Gminy w Chorzelach | I97: ul. Stanisława Komosińskiego 1, 06-330 Chorzele | J97: 7611194907 | K97: Gmina Chorzele | L97: Bagienice | M97: dz. 152/3 | N97: 06-330 | O97: Chorzele | P97: 133612084 | Q97: PL_ZEWD _1422019077_04 590543570300994621 | R97: 30991018 | S97: 1 | T97: C11o | U97: =X97 -> 139 | X97: 139 | Z97: oświetlenie uliczne
A98: 94 | B98: Gmina Chorzele | C98: ul. Stanisława Komosińskiego | D98: 1 | E98: 06-330 | F98: Chorzele | G98: 761-15-04-561 | H98: Urząd Miasta i Gminy w Chorzelach | I98: ul. Stanisława Komosińskiego 1, 06-330 Chorzele | J98: 7611194907 | K98: Gmina Chorzele | L98: Poścień Wieś | M98: 30/2 m 261/2 270 | N98: 06-330 | O98: Chorzele | P98: 133630123 | Q98: PL_ZEWD _1422018623_02 590543570300578524 | R98: 28295635 | S98: 1 | T98: C11o | U98: =X98 -> 1092 | X98: 1092 | Z98: oświetlenie uliczne
A99: 95 | B99: Gmina Chorzele | C99: ul. Stanisława Komosińskiego | D99: 1 | E99: 06-330 | F99: Chorzele | G99: 761-15-04-561 | H99: Urząd Miasta i Gminy w Chorzelach | I99: ul. Stanisława Komosińskiego 1, 06-330 Chorzele | J99: 7611194907 | K99: =B99 -> Gmina Chorzele | L99: Łaz | M99: - | N99: 06-330 | O99: Chorzele | P99: 133628042 | Q99: PL_ZEWD_1422003282_01 590543570300717763 | R99: 25008073 | S99: 1 | T99: C11 | U99: =X99 -> 195 | X99: 195 | Z99: oświetlenie uliczne
A100: 96 | B100: Gmina Chorzele | C100: ul. Stanisława Komosińskiego | D100: 1 | E100: 06-330 | F100: Chorzele | G100: 761-15-04-561 | H100: Urząd Miasta i Gminy w Chorzelach | I100: ul. Stanisława Komosińskiego 1, 06-330 Chorzele | J100: 7611194907 | K100: =B100 -> Gmina Chorzele | L100: Łaz | M100: - | N100: 06-330 | O100: Chorzele | P100: 133628052 | Q100: PL_ZEWD_1422003218_00 590543570300718302 | R100: 55005366 | S100: 6 | T100: C12A | V100: =X100*0.35 -> 523.25 | W100: =X100-V100 -> 971.75 | X100: 1495 | Z100: oświetlenie uliczne
A101: 97 | B101: Gmina Chorzele | C101: ul. Stanisława Komosińskiego | D101: 1 | E101: 06-330 | F101: Chorzele | G101: 761-15-04-561 | H101: Urząd Miasta i Gminy w Chorzelach | I101: ul. Stanisława Komosińskiego 1, 06-330 Chorzele | J101: 7611194907 | K101: Gmina Chorzele | L101: Zaręby | M101: dz. 920. m 1001 | N101: 06-334 | O101: Zaręby | P101: 133634168 | Q101: PL_ZEWD _1422018622_00 590543570300578531 | R101: 27985623 | S101: 1 | T101: C11o | U101: =X101 -> 658 | X101: 658 | Z101: oświetlenie uliczne
A102: 98 | B102: Gmina Chorzele | C102: ul. Stanisława Komosińskiego | D102: 1 | E102: 06-330 | F102: Chorzele | G102: 761-15-04-561 | H102: Urząd Miasta i Gminy w Chorzelach | I102: ul. Stanisława Komosińskiego 1, 06-330 Chorzele | J102: 7611194907 | K102: Gmina Chorzele | L102: Zaręby | M102: dz. 917/1 | N102: 06-330 | O102: Chorzele | P102: 133634175 | Q102: PL_ZEWD _1422019079_08 590543570300994607 | R102: 92144246 | S102: 1 | T102: C11o | U102: =X102 -> 748 | X102: 748 | Z102: oświetlenie uliczne
A103: 99 | B103: Gmina Chorzele | C103: ul. Stanisława Komosińskiego | D103: 1 | E103: 06-330 | F103: Chorzele | G103: 761-15-04-561 | H103: Urząd Miasta i Gminy w Chorzelach | I103: ul. Stanisława Komosińskiego 1, 06-330 Chorzele | J103: 7611194907 | K103: Gmina Chorzele | L103: Krukowo | M103: dz. 182/17 m 183/9, 183 | N103: 06-335 | O103: Zaręby | P103: 133637098 | Q103: PL_ZEWD _1422018620_06 590543570300578555 | R103: 27985891 | S103: 3 | T103: C11o | U103: =X103 -> 1025 | X103: 1025 | Z103: oświetlenie uliczne
A104: 100 | B104: Gmina Chorzele | C104: ul. Stanisława Komosińskiego | D104: 1 | E104: 06-330 | F104: Chorzele | G104: 761-15-04-561 | H104: Urząd Miasta i Gminy w Chorzelach | I104: ul. Stanisława Komosińskiego 1, 06-330 Chorzele | J104: 7611194907 | K104: Gmina Chorzele | L104: Czaplice Furmany | M104: dz. 64/1, m 60/2, 61 | N104: 06-330 | O104: Chorzele | P104: 133618116 | Q104: PL_ZEWD _1422018624_04 590543570300578517 | R104: 28352777 | S104: 1 | T104: C11o | U104: =X104 -> 303 | X104: 303 | Z104: oświetlenie uliczne
A105: 101 | B105: Gmina Chorzele | C105: ul. Stanisława Komosińskiego | D105: 1 | E105: 06-330 | F105: Chorzele | G105: 761-15-04-561 | H105: Urząd Miasta i Gminy w Chorzelach | I105: ul. Stanisława Komosińskiego 1, 06-330 Chorzele | J105: 7611194907 | K105: Gmina Chorzele | L105: Opaleniec | M105: dz. 198 | N105: 06-330 | O105: Chorzele | P105: 133623100 | Q105: PL_ZEWD _1422019078_06 590543570300994614 | R105: 31032727 | S105: 1 | T105: C11o | U105: =X105 -> 382 | X105: 382 | Z105: oświetlenie uliczne
A106: 102 | B106: Gmina Chorzele | C106: ul. Stanisława Komosińskiego | D106: 1 | E106: 06-330 | F106: Chorzele | G106: 761-15-04-561 | H106: Urząd Miasta i Gminy w Chorzelach | I106: ul. Stanisława Komosińskiego 1, 06-330 Chorzele | J106: 7611194907 | K106: Gmina Chorzele | L106: Ścięciel | M106: dz. 2/2 | N106: 06-333 | O106: Zaręby | P106: 133625173 | Q106: PL_ZEWD _1422018734_01 590543570300577640 | R106: 31032835 | S106: 1 | T106: C11o | U106: =X106 -> 470 | X106: 470 | Z106: oświetlenie uliczne
A107: 103 | B107: Gmina Chorzele | C107: ul. Stanisława Komosińskiego | D107: 1 | E107: 06-330 | F107: Chorzele | G107: 761-15-04-561 | H107: Urząd Miasta i Gminy w Chorzelach | I107: ul. Stanisława Komosińskiego 1, 06-330 Chorzele | J107: 7611194907 | K107: Gmina Chorzele | L107: Annowo | M107: dz. 18 | N107: 06-330 | O107: Chorzele | P107: 133606066 | Q107: PL_ZEWD _1422018733_09 590543570300577657 | R107: 30991012 | S107: 1 | T107: C11o | U107: =X107 -> 605 | X107: 605 | Z107: oświetlenie uliczne
A108: 104 | B108: Gmina Chorzele | C108: ul. Stanisława Komosińskiego | D108: 1 | E108: 06-330 | F108: Chorzele | G108: 761-15-04-561 | H108: Urząd Miasta i Gminy w Chorzelach | I108: ul. Stanisława Komosińskiego 1, 06-330 Chorzele | J108: 7611194907 | K108: Gmina Chorzele | L108: Mącice | M108: dz. 120/5 | N108: 06-333 | O108: Zaręby | P108: 133626091 | Q108: PL_ZEWD _1422018752_05 590543570300577503 | R108: 31032737 | S108: 1 | T108: C11o | U108: =X108 -> 122 | X108: 122 | Z108: oświetlenie uliczne
A109: 105 | B109: Gmina Chorzele | C109: ul. Stanisława Komosińskiego | D109: 1 | E109: 06-330 | F109: Chorzele | G109: 761-15-04-561 | H109: Urząd Miasta i Gminy w Chorzelach | I109: ul. Stanisława Komosińskiego 1, 06-330 Chorzele | J109: 7611194907 | K109: Gmina Chorzele | L109: Mącice | M109: dz. 204 | N109: 06-333 | O109: Zaręby | P109: 131011077 | Q109: PL_ZEWD _1422018771_01 590543570300577374 | R109: 31089158 | S109: 1 | T109: C11o | U109: =X109 -> 767 | X109: 767 | Z109: oświetlenie uliczne
A110: 106 | B110: Gmina Chorzele | C110: ul. Stanisława Komosińskiego | D110: 1 | E110: 06-330 | F110: Chorzele | G110: 761-15-04-561 | H110: Urząd Miasta i Gminy w Chorzelach | I110: ul. Stanisława Komosińskiego 1, 06-330 Chorzele | J110: 7611194907 | K110: Gmina Chorzele | L110: Grąd Rycicki | M110: dz. 113 | N110: 06-330 | O110: Chorzele | P110: 133633093 | Q110: PL_ZEWD _1422018770_09 590543570300577381 | R110: 92507832 | S110: 1 | T110: C11o | U110: =X110 -> 869 | X110: 869 | Z110: oświetlenie uliczne
A111: 107 | B111: Gmina Chorzele | C111: ul. Stanisława Komosińskiego | D111: 1 | E111: 06-330 | F111: Chorzele | G111: 761-15-04-561 | H111: Urząd Miasta i Gminy w Chorzelach | I111: ul. Stanisława Komosińskiego 1, 06-330 Chorzele | J111: 7611194907 | K111: Gmina Chorzele | L111: Zdziwój Nowy | M111: dz. 176 | N111: 06-330 | O111: Chorzele | P111: 133604092 | Q111: PL_ZEWD _1422019080_09 590543570300994591 | R111: 30991013 | S111: 1 | T111: C11o | U111: =X111 -> 1103 | X111: 1103 | Z111: oświetlenie uliczne
A112: 108 | B112: Gmina Chorzele | C112: ul. Stanisława Komosińskiego | D112: 1 | E112: 06-330 | F112: Chorzele | G112: 761-15-04-561 | H112: Urząd Miasta i Gminy w Chorzelach | I112: ul. Stanisława Komosińskiego 1, 06-330 Chorzele | J112: 7611194907 | K112: Gmina Chorzele | L112: Nowa Wieś Zarębska | M112: - | N112: 06-333 | O112: Zaręby | P112: 139800004 | Q112: PL_ZEWD_1422019100_05 590543570300994461 | R112: 31089159 | S112: 1 | T112: C11o | U112: =X112 -> 624 | X112: 624 | Z112: oświetlenie uliczne
... A114: 110 | B114: Gmina Chorzele | C114: ul. Stanisława Komosińskiego | D114: 1 | E114: 06-330 | F114: Chorzele | G114: 761-15-04-561 | H114: Urząd Miasta i Gminy w Chorzelach | I114: ul. Stanisława Komosińskiego 1, 06-330 Chorzele | J114: 7611194907 | K114: Gmina Chorzele | L114: Liwki | M114: dz. 82 | N114: 06-330 | O114: Chorzele | P114: 139800011 | Q114: PL_ZEWD_1422019132_06 590543570300994225 | R114: 30991014 | S114: 1 | T114: C11o | U114: =X114 -> 188 | X114: 188 | Z114: oświetlenie uliczne
A115: 111 | B115: Gmina Chorzele | C115: ul. Stanisława Komosińskiego | D115: 1 | E115: 06-330 | F115: Chorzele | G115: 761-15-04-561 | H115: Urząd Miasta i Gminy w Chorzelach | I115: ul. Stanisława Komosińskiego 1, 06-330 Chorzele | J115: 7611194907 | K115: Gmina Chorzele | L115: Bugzy Jarki | M115: dz. nr 97 | N115: 06-330 | O115: Chorzele | P115: 133602052 | Q115: PL_ZEWD_1422019305_01 590543570300993433 | R115: 97580927 | S115: 2 | T115: C11o | U115: =X115 -> 660 | X115: 660 | Z115: oświetlenie uliczne
A116: 112 | B116: Gmina Chorzele | C116: ul. Stanisława Komosińskiego | D116: 1 | E116: 06-330 | F116: Chorzele | G116: 761-15-04-561 | H116: Urząd Miasta i Gminy w Chorzelach | I116: ul. Stanisława Komosińskiego 1, 06-330 Chorzele | J116: 7611194907 | K116: Gmina Chorzele | L116: Budki | M116: dz. nr 235 | N116: 06-330 | O116: Chorzele | P116: 130771157 | Q116: PL_ZEWD_1422019760_07 590543570300991187 | R116: 13669668 | S116: 1 | T116: C11o | U116: =X116 -> 1017 | X116: 1017 | Z116: oświetlenie uliczne
A117: 113 | B117: Gmina Chorzele | C117: ul. Stanisława Komosińskiego | D117: 1 | E117: 06-330 | F117: Chorzele | G117: 761-15-04-561 | H117: Urząd Miasta i Gminy w Chorzelach | I117: ul. Stanisława Komosińskiego 1, 06-330 Chorzele | J117: 7611194907 | K117: Gmina Chorzele | L117: Gadomiec Chrzczany | M117: dz. nr 45/2 | N117: 06-330 | O117: Chorzele | P117: 130771238 | Q117: PL_ZEWD_1422019896_04 590543570301000192 | R117: 55005284 | S117: 2 | T117: C11o | U117: =X117 -> 294 | X117: 294 | Z117: oświetlenie uliczne
A118: 114 | B118: Gmina Chorzele | C118: ul. Stanisława Komosińskiego | D118: 2 | E118: 06-331 | F118: Chorzele | G118: 761-15-04-561 | H118: Urząd Miasta i Gminy w Chorzelach | I118: ul. Stanisława Komosińskiego 1, 06-330 Chorzele | J118: 7611194907 | K118: Gmina Chorzele | L118: Gadomiec Peronie | M118: dz. 18 | N118: 06-331 | O118: Chorzele | P118: 130771395 | Q118: 590543570301078399 | R118: 31080949 | S118: 1 | T118: C11 | U118: =X118 -> 62 | X118: 62 | Z118: oświetlenie uliczne
A119: 115 | B119: Gmina Chorzele | C119: ul. Stanisława Komosińskiego | D119: 1 | E119: 06-330 | F119: Chorzele | G119: 761-15-04-561 | H119: Urząd Miasta i Gminy w Chorzelach | I119: ul. Stanisława Komosińskiego 1, 06-330 Chorzele | J119: 7611194907 | K119: Świetlica Bagienice | L119: Bagienice | M119: 37 | N119: 06-330 | O119: Chorzele | P119: 133612054 | Q119: PL_ZEWD_1422003114_04 590543570300719255 | R119: 94635042 | S119: 10 | T119: C11 | U119: =X119 -> 129 | X119: 129 | Z119: świetlica
A120: 116 | B120: Gmina Chorzele | C120: ul. Stanisława Komosińskiego | D120: 1 | E120: 06-330 | F120: Chorzele | G120: 761-15-04-561 | H120: Urząd Miasta i Gminy w Chorzelach | I120: ul. Stanisława Komosińskiego 1, 06-330 Chorzele | J120: 7611194907 | K120: Świetlica Przyowy | L120: Przysowy | M120: 3 | N120: 06-330 | O120: Chorzele | P120: 133633080 | Q120: PL_ZEWD_1422003112_00 590543570300719262 | R120: 11568246 | S120: 10 | T120: C11 | U120: =X120 -> 3867 | X120: 3867 | Y120: Planowane uruchomienie w 2026 r. 9,9 kWp Prosument | Z120: świetlica
A121: 117 | B121: Gmina Chorzele | C121: ul. Stanisława Komosińskiego | D121: 1 | E121: 06-330 | F121: Chorzele | G121: 761-15-04-561 | H121: Urząd Miasta i Gminy w Chorzelach | I121: ul. Stanisława Komosińskiego 1, 06-330 Chorzele | J121: 7611194907 | K121: Świetlica Rawki | L121: Rawki | M121: 27 | N121: 06-333 | O121: Zaręby | P121: 133641042 | Q121: PL_ZEWD_1422003108_03 590543570300719293 | R121: 28296847 | S121: 4 | T121: C11 | U121: =X121 -> 0 | X121: 0 | Z121: świetlica
A122: 118 | B122: Gmina Chorzele | C122: ul. Stanisława Komosińskiego | D122: 1 | E122: 06-330 | F122: Chorzele | G122: 761-15-04-561 | H122: Urząd Miasta i Gminy w Chorzelach | I122: ul. Stanisława Komosińskiego 1, 06-330 Chorzele | J122: 7611194907 | K122: Świetlica Nowa Wieś Zarębska | L122: Nowa Wieś Zarębska | M122: 25 | N122: 06-333 | O122: Zaręby | P122: 133639049 | Q122: PL_ZEWD_1422003139_02 590543570300719019 | R122: 82499029 | S122: 10 | T122: C11 | U122: =X122 -> 0 | X122: 0 | Z122: świetlica
A123: 119 | B123: Gmina Chorzele | C123: ul. Stanisława Komosińskiego | D123: 1 | E123: 06-330 | F123: Chorzele | G123: 761-15-04-561 | H123: Urząd Miasta i Gminy w Chorzelach | I123: ul. Stanisława Komosińskiego 1, 06-330 Chorzele | J123: 7611194907 | K123: Świetlica Krukowo | L123: Krukowo | M123: 78 | N123: 06-333 | O123: Zaręby | P123: 133638093 | Q123: PL_ZEWD _1422017008_09 590543570300593138 | R123: 30360902 | S123: 16 | T123: C11 | U123: =X123 -> 1588 | X123: 1588 | Y123: Planowane uruchomienie w 2026 r.15,3 kWp Prosument | Z123: Świetlica
A124: 120 | B124: Gmina Chorzele | C124: ul. Stanisława Komosińskiego | D124: 1 | E124: 06-330 | F124: Chorzele | G124: 761-15-04-561 | H124: Urząd Miasta i Gminy w Chorzelach | I124: ul. Stanisława Komosińskiego 1, 06-330 Chorzele | J124: 7611194907 | K124: Świetlica Rembielin | L124: Rembielin | M124: 26 | N124: 06-330 | O124: Chorzele | P124: 133620089 | Q124: PL_ZEWD _1422011413_08 590543570300644069 | R124: 56729375 | S124: 16 | T124: C11 | U124: =X124 -> 18793 | X124: 18793 | Y124: Planowane uruchomienie w 2026 r. 14,4 kWp Prosument | Z124: Świetlica
A125: 121 | B125: Gmina Chorzele | C125: ul. Stanisława Komosińskiego | D125: 1 | E125: 06-330 | F125: Chorzele | G125: 761-15-04-561 | H125: Urząd Miasta i Gminy w Chorzelach | I125: ul. Stanisława Komosińskiego 1, 06-330 Chorzele | J125: 7611194907 | K125: Świetlica Poścień Wieś | L125: Poścień Wieś | M125: 16 (dz. 328/1) | N125: 06-330 | O125: Chorzele | P125: 133630124 | Q125: PL_ZEWD _1422017937_06 590543570300584426 | R125: 82499030 | S125: 16 | T125: C11 | U125: =X125 -> 6050 | X125: 6050 | Z125: świetlica
A126: 122 | B126: Gmina Chorzele | C126: ul. Stanisława Komosińskiego | D126: 1 | E126: 06-330 | F126: Chorzele | G126: 761-15-04-561 | H126: Urząd Miasta i Gminy w Chorzelach | I126: ul. Stanisława Komosińskiego 1, 06-330 Chorzele | J126: 7611194907 | K126: OSP Chorzele | L126: ul. Wincentego Witosa | M126: 1 | N126: 06-330 | O126: Chorzele | P126: 131327118 | Q126: PL_ZEWD_1422003152_06 590543570300718883 | R126: 13942294 | S126: 16 | T126: C12A | V126: =X126*0.35 -> 3572.45 | W126: =X126-V126 -> 6634.55 | X126: 10207 | Z126: OSP
A127: 123 | B127: Gmina Chorzele | C127: ul. Stanisława Komosińskiego | D127: 1 | E127: 06-330 | F127: Chorzele | G127: 761-15-04-561 | H127: Urząd Miasta i Gminy w Chorzelach | I127: ul. Stanisława Komosińskiego 1, 06-330 Chorzele | J127: 7611194907 | K127: OSP Rycice | L127: Rycice | M127: 50 | N127: 06-330 | O127: Chorzele | P127: 133621100 | Q127: PL_ZEWD_1422003156_04 590543570300718852 | R127: 30362292 | S127: 16 | T127: C12A | V127: =X127*0.35 -> 5353.95 | W127: =X127-V127 -> 9943.05 | X127: 15297 | Y127: Planowane uruchomienie w 2026 r. 9,9 kWp Prosument | Z127: OSP
A128: 124 | B128: Gmina Chorzele | C128: ul. Stanisława Komosińskiego | D128: 1 | E128: 06-330 | F128: Chorzele | G128: 761-15-04-561 | H128: Urząd Miasta i Gminy w Chorzelach | I128: ul. Stanisława Komosińskiego 1, 06-330 Chorzele | J128: 7611194907 | K128: OSP Pruskołęka | L128: Pruskołęka | M128: 12A | N128: 06-330 | O128: Chorzele | P128: 133629043 | Q128: PL_ZEWD_1422002939_09 590543570300720794 | R128: 56628067 | S128: 10 | T128: C11 | U128: =X128 -> 1394 | X128: 1394 | Y128: Planowane uruchomienie w 2027 r. 8,1 kWp Prosument | Z128: OSP
...

Sheet C11
A1: Załącznik do umowy - Wykaz PPE
A2: Wykaz punktów PPE - Gmina Chorzele
A3: 1. Gmina Chorzele, ul. Komosińskiego 1, 06-330 Chorzele, NIP: 761-150-45-61
A4: Lp. | B4: Nabywca - Podmiot2 | C4: Ulica/ Miejscowość | D4: Nr | E4: Kod | F4: Poczta | G4: Nabywca- NIP | H4: Odbiorca- Podmiot3 | I4: Odbiorca – adres | J4: Odbiorca- NIP | K4: Nazwa punktu poboru | L4: Ulica/ Miejscowość | M4: Nr | N4: Kod | O4: Poczta | P4: Nr ewidencyjny | Q4: Kod PPE | R4: Nr licznika | S4: Moc Umowna | T4: Obecna Taryfa | U4: zużycie przez 12 miesięcy całodobowa (kWh) | V4: zużycie przez 12 miesięcy I strefa (kWh) | W4: zużycie przez 12 miesięcy II strefa (kWh) | X4: zużycie przez 12 miesięcy RAZEM (kWh) | Y4: instalacja fotowoltaiczna | Z4: Funkcja
A5: 1 | B5: Gmina Chorzele | C5: ul. Stanisława Komosińskiego | D5: 1 | E5: 06-330 | F5: Chorzele | G5: 761-15-04-561 | H5: =K5 -> Centrum Usług Wspólnych w Chorzelach | I5: ul. Grunwaldzka 40, 06-330 Chorzele | J5: 7611562357 | K5: Centrum Usług Wspólnych w Chorzelach | L5: ul. Grunwaldzka | M5: 1 | N5: 06-330 | O5: Chorzele | P5: 131011120 | Q5: PL_ZEWD_1422003141_05 590543570300718999 | R5: 27973387 | S5: 6 | T5: C11 | U5: =X5 -> 3694 | X5: 3694 | Z5: CUW
A6: 2 | B6: Gmina Chorzele | C6: ul. Stanisława Komosińskiego | D6: 1 | E6: 06-330 | F6: Chorzele | G6: 761-15-04-561 | H6: Publiczna Szkoła Podstawowa Nr 2 im. Papieża Jana Pawła II w Chorzelach | I6: Szkolna 4B, 06-330 Chorzele | J6: 7611560565 | K6: Publiczna Szkoła Podstawowa Nr 2 im. Papieża Jana Pawła II w Chorzelach | L6: Szkolna | M6: 4B | N6: 06-330 | O6: Chorzele | P6: 131322129 | Q6: PL_ZEWD_1422003095_00 590543570300719422 | R6: 56129338 | S6: 25 | T6: C11 | U6: =X6 -> 35000 | X6: 35000 | Z6: Publiczna Szkoła Podstawowa
A7: 3 | B7: Gmina Chorzele | C7: ul. Stanisława Komosińskiego | D7: 1 | E7: 06-330 | F7: Chorzele | G7: 761-15-04-561 | H7: Urząd Miasta i Gminy w Chorzelach | I7: ul. Stanisława Komosińskiego 1, 06-330 Chorzele | J7: 7611194907 | K7: =B7 -> Gmina Chorzele | L7: Padlewskiego | M7: - | N7: 06-330 | O7: Chorzele | P7: 130003082 | Q7: PL_ZEWD_1422003384_03 590543570300716872 | R7: 27872237 | S7: 3 | T7: C11 | U7: =X7 -> 1516 | X7: 1516 | Z7: oświetlenie uliczne
A8: 4 | B8: Gmina Chorzele | C8: ul. Stanisława Komosińskiego | D8: 1 | E8: 06-330 | F8: Chorzele | G8: 761-15-04-561 | H8: Urząd Miasta i Gminy w Chorzelach | I8: ul. Stanisława Komosińskiego 1, 06-330 Chorzele | J8: 7611194907 | K8: =B8 -> Gmina Chorzele | L8: Krukowo | M8: - | N8: 06-333 | O8: Zaręby | P8: 133025119 | Q8: PL_ZEWD_1422003121_07 590543570300719194 | R8: 92915129 | S8: 2 | T8: C11 | U8: =X8 -> 299 | X8: 299 | Z8: oświetlenie uliczne
A9: 5 | B9: Gmina Chorzele | C9: ul. Stanisława Komosińskiego | D9: 1 | E9: 06-330 | F9: Chorzele | G9: 761-15-04-561 | H9: Urząd Miasta i Gminy w Chorzelach | I9: ul. Stanisława Komosińskiego 1, 06-330 Chorzele | J9: 7611194907 | K9: =B9 -> Gmina Chorzele | L9: Zaręby | M9: - | N9: 06-333 | O9: Zaręby | P9: 133025122 | Q9: PL_ZEWD_1422003117_00 590543570300719231 | R9: 92915128 | S9: 2 | T9: C11 | U9: =X9 -> 1108 | X9: 1108 | Z9: oświetlenie uliczne
A10: 6 | B10: Gmina Chorzele | C10: ul. Stanisława Komosińskiego | D10: 1 | E10: 06-330 | F10: Chorzele | G10: 761-15-04-561 | H10: Urząd Miasta i Gminy w Chorzelach | I10: ul. Stanisława Komosińskiego 1, 06-330 Chorzele | J10: 7611194907 | K10: =B10 -> Gmina Chorzele | L10: Łaz | M10: - | N10: 06-330 | O10: Chorzele | P10: 133628042 | Q10: PL_ZEWD_1422003282_01 590543570300717763 | R10: 25008073 | S10: 1 | T10: C11 | U10: =X10 -> 195 | X10: 195 | Z10: oświetlenie uliczne
A11: 7 | B11: Gmina Chorzele | C11: ul. Stanisława Komosińskiego | D11: 2 | E11: 06-331 | F11: Chorzele | G11: 761-15-04-562 | H11: Urząd Miasta i Gminy w Chorzelach | I11: ul. Stanisława Komosińskiego 1, 06-330 Chorzele | J11: 7611194907 | K11: Gmina Chorzele | L11: Gadomiec Peronie | M11: dz. 18 | N11: 06-331 | O11: Chorzele | P11: 130771395 | Q11: 590543570301078399 | R11: 31080949 | S11: 1 | T11: C11 | U11: =X11 -> 62 | X11: 62 | Z11: oświetlenie uliczne
A12: 8 | B12: Gmina Chorzele | C12: ul. Stanisława Komosińskiego | D12: 1 | E12: 06-330 | F12: Chorzele | G12: 761-15-04-561 | H12: Urząd Miasta i Gminy w Chorzelach | I12: ul. Stanisława Komosińskiego 1, 06-330 Chorzele | J12: 7611194907 | K12: Świetlica Bagienice | L12: Bagienice | M12: 37 | N12: 06-330 | O12: Chorzele | P12: 133612054 | Q12: PL_ZEWD_1422003114_04 590543570300719255 | R12: 94635042 | S12: 10 | T12: C11 | U12: =X12 -> 129 | X12: 129 | Z12: świetlica
A13: 9 | B13: Gmina Chorzele | C13: ul. Stanisława Komosińskiego | D13: 1 | E13: 06-330 | F13: Chorzele | G13: 761-15-04-561 | H13: Urząd Miasta i Gminy w Chorzelach | I13: ul. Stanisława Komosińskiego 1, 06-330 Chorzele | J13: 7611194907 | K13: Świetlica Przyowy | L13: Przysowy | M13: 3 | N13: 06-330 | O13: Chorzele | P13: 133633080 | Q13: PL_ZEWD_1422003112_00 590543570300719262 | R13: 11568246 | S13: 10 | T13: C11 | U13: =X13 -> 3867 | X13: 3867 | Z13: świetlica
A14: 10 | B14: Gmina Chorzele | C14: ul. Stanisława Komosińskiego | D14: 1 | E14: 06-330 | F14: Chorzele | G14: 761-15-04-561 | H14: Urząd Miasta i Gminy w Chorzelach | I14: ul. Stanisława Komosińskiego 1, 06-330 Chorzele | J14: 7611194907 | K14: Świetlica Rawki | L14: Rawki | M14: 27 | N14: 06-333 | O14: Zaręby | P14: 133641042 | Q14: PL_ZEWD_1422003108_03 590543570300719293 | R14: 28296847 | S14: 4 | T14: C11 | U14: =X14 -> 0 | X14: 0 | Z14: świetlica
A15: 11 | B15: Gmina Chorzele | C15: ul. Stanisława Komosińskiego | D15: 1 | E15: 06-330 | F15: Chorzele | G15: 761-15-04-561 | H15: Urząd Miasta i Gminy w Chorzelach | I15: ul. Stanisława Komosińskiego 1, 06-330 Chorzele | J15: 7611194907 | K15: Świetlica Nowa Wieś Zarębska | L15: Nowa Wieś Zarębska | M15: 25 | N15: 06-333 | O15: Zaręby | P15: 133639049 | Q15: PL_ZEWD_1422003139_02 590543570300719019 | R15: 82499029 | S15: 10 | T15: C11 | U15: =X15 -> 0 | X15: 0 | Z15: świetlica
A16: 12 | B16: Gmina Chorzele | C16: ul. Stanisława Komosińskiego | D16: 1 | E16: 06-330 | F16: Chorzele | G16: 761-15-04-561 | H16: Urząd Miasta i Gminy w Chorzelach | I16: ul. Stanisława Komosińskiego 1, 06-330 Chorzele | J16: 7611194907 | K16: Świetlica Krukowo | L16: Krukowo | M16: 78 | N16: 06-333 | O16: Zaręby | P16: 133638093 | Q16: PL_ZEWD _1422017008_09 590543570300593138 | R16: 30360902 | S16: 16 | T16: C11 | U16: =X16 -> 1588 | X16: 1588 | Z16: Świetlica
A17: 13 | B17: Gmina Chorzele | C17: ul. Stanisława Komosińskiego | D17: 1 | E17: 06-330 | F17: Chorzele | G17: 761-15-04-561 | H17: Urząd Miasta i Gminy w Chorzelach | I17: ul. Stanisława Komosińskiego 1, 06-330 Chorzele | J17: 7611194907 | K17: Świetlica Rembielin | L17: Rembielin | M17: 26 | N17: 06-330 | O17: Chorzele | P17: 133620089 | Q17: PL_ZEWD _1422011413_08 590543570300644069 | R17: 56729375 | S17: 16 | T17: C11 | U17: =X17 -> 18793 | X17: 18793 | Z17: Świetlica
A18: 14 | B18: Gmina Chorzele | C18: ul. Stanisława Komosińskiego | D18: 1 | E18: 06-330 | F18: Chorzele | G18: 761-15-04-561 | H18: Urząd Miasta i Gminy w Chorzelach | I18: ul. Stanisława Komosińskiego 1, 06-330 Chorzele | J18: 7611194907 | K18: Świetlica Poścień Wieś | L18: Poścień Wieś | M18: 16 (dz. 328/1) | N18: 06-330 | O18: Chorzele | P18: 133630124 | Q18: PL_ZEWD _1422017937_06 590543570300584426 | R18: 82499030 | S18: 16 | T18: C11 | U18: =X18 -> 6050 | X18: 6050 | Z18: świetlica
A19: 15 | B19: Gmina Chorzele | C19: ul. Stanisława Komosińskiego | D19: 1 | E19: 06-330 | F19: Chorzele | G19: 761-15-04-561 | H19: Urząd Miasta i Gminy w Chorzelach | I19: ul. Stanisława Komosińskiego 1, 06-330 Chorzele | J19: 7611194907 | K19: OSP Pruskołęka | L19: Pruskołęka | M19: 12A | N19: 06-330 | O19: Chorzele | P19: 133629043 | Q19: PL_ZEWD_1422002939_09 590543570300720794 | R19: 56628067 | S19: 10 | T19: C11 | U19: =X19 -> 1394 | X19: 1394 | Z19: OSP
A20: 16 | B20: Gmina Chorzele | C20: ul. Stanisława Komosińskiego | D20: 1 | E20: 06-330 | F20: Chorzele | G20: 761-15-04-561 | H20: Urząd Miasta i Gminy w Chorzelach | I20: ul. Stanisława Komosińskiego 1, 06-330 Chorzele | J20: 7611194907 | K20: OSP Nowa Wieś | L20: Nowa Wieś | M20: 14 | N20: 06-330 | O20: Chorzele | P20: 133606022 | Q20: PL_ZEWD_1422004054_09 590543570300710856 | R20: 10661627 | S20: 8.5 | T20: C11 | U20: =X20 -> 2134 | X20: 2134 | Z20: OSP
A21: 17 | B21: Gmina Chorzele | C21: ul. Stanisława Komosińskiego | D21: 1 | E21: 06-330 | F21: Chorzele | G21: 761-15-04-561 | H21: Urząd Miasta i Gminy w Chorzelach | I21: ul. Stanisława Komosińskiego 1, 06-330 Chorzele | J21: 7611194907 | K21: OSP Zaręby | L21: Zaręby | M21: 77 | N21: 06-333 | O21: Zaręby | P21: 133634166 | Q21: PL_ZEWD _1422018011_01 590543570300583740 | R21: 13979822 | S21: 16 | T21: C11 | U21: =X21 -> 9345 | X21: 9345 | Z21: OSP
A22: 18 | B22: Gmina Chorzele | C22: ul. Stanisława Komosińskiego | D22: 1 | E22: 06-330 | F22: Chorzele | G22: 761-15-04-561 | H22: Urząd Miasta i Gminy w Chorzelach | I22: ul. Stanisława Komosińskiego 1, 06-330 Chorzele | J22: 7611194907 | K22: OSP Budki | L22: Budki | M22: 52B | N22: 06-330 | O22: Chorzele | P22: 133632112 | Q22: PL_ZEWD _1422010938_09 590543570300648326 | R22: 12642950 | S22: 10 | T22: C11 | U22: =X22 -> 9744 | X22: 9744 | Z22: OSP
A23: 19 | B23: Gmina Chorzele | C23: ul. Stanisława Komosińskiego | D23: 1 | E23: 06-330 | F23: Chorzele | G23: 761-15-04-561 | H23: Urząd Miasta i Gminy w Chorzelach | I23: ul. Stanisława Komosińskiego 1, 06-330 Chorzele | J23: 7611194907 | K23: OSP Duczymin | L23: Duczymin | M23: 10A | N23: 06-330 | O23: Chorzele | P23: 133607131 | Q23: PL_ZEWD _1422007004_05 590543570300684485 | R23: 30471327 | S23: 16 | T23: C11 | U23: =X23 -> 650 | X23: 650 | Z23: OSP
A24: 20 | B24: Gmina Chorzele | C24: ul. Stanisława Komosińskiego | D24: 1 | E24: 06-330 | F24: Chorzele | G24: 761-15-04-561 | H24: Urząd Miasta i Gminy w Chorzelach | I24: ul. Stanisława Komosińskiego 1, 06-330 Chorzele | J24: 7611194907 | K24: Mieszkanie komunalne | L24: ul. Żabia | M24: 1 | N24: 06-330 | O24: Chorzele | P24: 131327120 | Q24: PL_ZEWD_1422003140_03 590543570300719002 | R24: 13408149 | S24: 6 | T24: C11 | U24: =X24 -> 0 | X24: 0 | Z24: mieszkanie komunalne
A25: 21 | B25: Gmina Chorzele | C25: ul. Stanisława Komosińskiego | D25: 1 | E25: 06-330 | F25: Chorzele | G25: 761-15-04-561 | H25: Urząd Miasta i Gminy w Chorzelach | I25: ul. Stanisława Komosińskiego 1, 06-330 Chorzele | J25: 7611194907 | K25: Budynek Gminy | L25: Łaz | M25: 77 | N25: 06-333 | O25: Zaręby | P25: 130771196 | Q25: PL_ZEWD_1422003099_08 590543570300719385 | R25: 94635045 | S25: 10 | T25: C11 | U25: =X25 -> 792 | X25: 792 | Z25: budynek gminy (po punkcie przedszkolnym)
A26: 22 | B26: Gmina Chorzele | C26: ul. Stanisława Komosińskiego | D26: 1 | E26: 06-330 | F26: Chorzele | G26: 761-15-04-561 | H26: Urząd Miasta i Gminy w Chorzelach | I26: ul. Stanisława Komosińskiego 1, 06-330 Chorzele | J26: 7611194907 | K26: Pompownia ścieków | L26: ul. Cmentarna | M26: dz. 1602/3 | N26: 06-330 | O26: Chorzele | P26: 131313067 | Q26: 590543570301083744 | R26: 31477422 | S26: 10 | T26: C11 | U26: =X26 -> 2000 | X26: 2000 | Z26: pompownia ścieków
A27: 23 | B27: Gmina Chorzele | C27: ul. Stanisława Komosińskiego | D27: 1 | E27: 06-330 | F27: Chorzele | G27: 761-15-04-561 | H27: Urząd Miasta i Gminy w Chorzelach | I27: ul. Stanisława Komosińskiego 1, 06-330 Chorzele | J27: 7611194907 | K27: Gmina Chorzele | L27: Gadomiec Peronie | M27: dz. 18 | N27: 06-330 | O27: Chorzele | P27: 130771395 | Q27: 590543570301078399 | R27: 31080949 | S27: 1 | T27: C11 | U27: =X27 -> 200 | X27: 200 | Z27: oświetlenie uliczne
A28: 24 | B28: Gmina Chorzele | C28: ul. Stanisława Komosińskiego | D28: 1 | E28: 006-330 | F28: Chorzele | G28: 761-15-04-561 | H28: Urząd Miasta i Gminy w Chorzelach | I28: ul. Stanisława Komosińskiego 1, 06-330 Chorzele | J28: 7611194907 | K28: Gmina Chorzele (oświetlenie uliczne) | L28: Krzynowłoga Wielka | M28: dz. 144 | N28: 06-330 | O28: Chorzele | P28: 138001170 | Q28: 590543570301088664 | R28: 31218449 | S28: 1 | T28: C11 | U28: =X28 -> 200 | X28: 200 | Z28: oświetlenie uliczne
A29: 25 | B29: Gmina Chorzele | C29: ul. Stanisława Komosińskiego | D29: 1 | E29: 06-330 | F29: Chorzele | G29: 761-15-04-561 | H29: Urząd Miasta i Gminy w Chorzelach | I29: ul. Stanisława Komosińskiego 1, 06-330 Chorzele | J29: 7611194907 | K29: Gmina Chorzele (oświetlenie uliczne) | L29: Bagienice | M29: dz. 141 | N29: 06-330 | O29: Chorzele | P29: 133612107 | Q29: 590543570301088640 | R29: 31218437 | S29: 1 | T29: C11 | U29: =X29 -> 200 | X29: 200 | Z29: oświetlenie uliczne
A30: 26 | B30: Gmina Chorzele | C30: ul. Stanisława Komosińskiego | D30: 1 | E30: 06-330 | F30: Chorzele | G30: 761-15-04-561 | H30: Zakład Gospodarki Komunalnej i Mieszkaniowej w Chorzelach | I30: ul. Brzozowa 3, 06-330 Chorzele | J30: 7611573757 | K30: Zasilanie pompy kanalizacji | L30: ul. Grunwaldzka | M30: dz. nr 1070/36 | N30: 06-330 | O30: Chorzele | P30: 138001085 | Q30: PL_ZEWD_1422019983_07 590543570301000208 | R30: 56630327 | S30: 4 | T30: C11 | U30: =X30 -> 117 | X30: 117 | Z30: zasilanie pompy kanalizacji
A31: 27 | B31: Gmina Chorzele | C31: ul. Stanisława Komosińskiego | D31: 1 | E31: 06-330 | F31: Chorzele | G31: 761-15-04-561 | H31: Zakład Gospodarki Komunalnej i Mieszkaniowej w Chorzelach | I31: ul. Brzozowa 3, 06-330 Chorzele | J31: 7611573757 | K31: Zasilanie pompy kanalizacji | L31: ul. Spokojna | M31: dz. nr 1559 | N31: 06-330 | O31: Chorzele | P31: 138001086 | Q31: PL_ZEWD_1422020026_00 590543570301042475 | R31: 13980427 | S31: 7 | T31: C11 | U31: =X31 -> 196 | X31: 196 | Z31: zasilanie pompy kanalizacji
A32: 28 | B32: Gmina Chorzele | C32: ul. Stanisława Komosińskiego | D32: 1 | E32: 06-330 | F32: Chorzele | G32: 761-15-04-561 | H32: Zakład Gospodarki Komunalnej i Mieszkaniowej w Chorzelach | I32: ul. Brzozowa 3, 06-330 Chorzele | J32: 7611573757 | K32: Targowisko - Etap I | L32: ul. Zarębska | M32: dz. nr 226 | N32: 06-330 | O32: Chorzele | P32: 10757318 | Q32: PL_ZEWD_1422001159_06 590543570300872097 | R32: 56147062 | S32: 25 | T32: C11 | U32: =X32 -> 3215 | X32: 3215 | Z32: Targowisko Miejskie
A33: 29 | B33: Gmina Chorzele | C33: ul. Stanisława Komosińskiego | D33: 1 | E33: 06-330 | F33: Chorzele | G33: 761-15-04-561 | H33: Zakład Gospodarki Komunalnej i Mieszkaniowej w Chorzelach | I33: ul. Brzozowa 3, 06-330 Chorzele | J33: 7611573757 | K33: Klub Opaleniec | L33: Opaleniec 32 | M33: 32 | N33: 06-330 | O33: Chorzele | P33: 133623108 | Q33: 590543570300995901 | R33: 31032836 | S33: 6 | T33: C11 | U33: =X33 -> 8 | X33: 8 | Z33: Klub Opaleniec
A34: 30 | B34: Gmina Chorzele | C34: ul. Stanisława Komosińskiego | D34: 1 | E34: 06-330 | F34: Chorzele | G34: 761-15-04-561 | H34: Zakład Gospodarki Komunalnej i Mieszkaniowej w Chorzelach | I34: ul. Brzozowa 3, 06-330 Chorzele | J34: 7611573757 | K34: Biuro ZGKiM | L34: Brzozowa 3 | M34: 3 | N34: 06-330 | O34: Chorzele | P34: 131011155 | Q34: PL_ZEWD_1422000637_07 590543570300999954 | R34: 56212651 | S34: 25 | T34: C11 | U34: =X34 -> 1845 | X34: 1845 | Z34: Biuro ZGKiM
A35: 31 | B35: Gmina Chorzele | C35: ul. Stanisława Komosińskiego | D35: 1 | E35: 06-330 | F35: Chorzele | G35: 761-15-04-561 | H35: Zakład Gospodarki Komunalnej i Mieszkaniowej w Chorzelach | I35: ul. Brzozowa 3, 06-330 Chorzele | J35: 7611573757 | K35: Stacja Uzdatniania Wody | L35: Nowa Wieś | M35: - | N35: 06-330 | O35: Chorzele | P35: 133606073 | Q35: PL_ZEWD_1422000642_06 590543570301000000 | R35: 56212648 | S35: 25 | T35: C11 | U35: =X35 -> 60024 | X35: 60024 | Z35: Stacja Uzdatniania Wody
A36: 32 | B36: Gmina Chorzele | C36: ul. Stanisława Komosińskiego | D36: 1 | E36: 06-330 | F36: Chorzele | G36: 761-15-04-561 | H36: Zakład Gospodarki Komunalnej i Mieszkaniowej w Chorzelach | I36: ul. Brzozowa 3, 06-330 Chorzele | J36: 7611573757 | K36: Przepompownia ścieków | L36: Mostowa | M36: - | N36: 06-330 | O36: Chorzele | P36: 131011157 | Q36: PL_ZEWD_1422000640_02 590543570300999985 | R36: 14240614 | S36: 10 | T36: C11 | U36: =X36 -> 5352 | X36: 5352 | Z36: Przepompownia ścieków
A37: 33 | B37: Gmina Chorzele | C37: ul. Stanisława Komosińskiego | D37: 1 | E37: 06-330 | F37: Chorzele | G37: 761-15-04-561 | H37: Zakład Gospodarki Komunalnej i Mieszkaniowej w Chorzelach | I37: ul. Brzozowa 3, 06-330 Chorzele | J37: 7611573757 | K37: Przepompownia ścieków | L37: Zygmunta Padlewskiego | M37: - | N37: 06-330 | O37: Chorzele | P37: 131011158 | Q37: PL_ZEWD_1422000648_08 590543570301000048 | R37: 30391637 | S37: 10 | T37: C11 | U37: =X37 -> 1678 | X37: 1678 | Z37: Przepompownia ścieków
A38: 34 | B38: Gmina Chorzele | C38: ul. Stanisława Komosińskiego | D38: 1 | E38: 06-330 | F38: Chorzele | G38: 761-15-04-561 | H38: Zakład Gospodarki Komunalnej i Mieszkaniowej w Chorzelach | I38: ul. Brzozowa 3, 06-330 Chorzele | J38: 7611573757 | K38: Przepompownia ścieków | L38: Ruda | M38: - | N38: 06-330 | O38: Chorzele | P38: 131011159 | Q38: PL_ZEWD_1422000649_00 590543570301000055 | R38: 56129345 | S38: 25 | T38: C11 | U38: =X38 -> 24383 | X38: 24383 | Z38: Przepompownia ścieków
A39: 35 | B39: Gmina Chorzele | C39: ul. Stanisława Komosińskiego | D39: 1 | E39: 06-330 | F39: Chorzele | G39: 761-15-04-561 | H39: Zakład Gospodarki Komunalnej i Mieszkaniowej w Chorzelach | I39: ul. Brzozowa 3, 06-330 Chorzele | J39: 7611573757 | K39: Stacja Uzdatniania Wody | L39: Bagienice | M39: - | N39: 06-330 | O39: Chorzele | P39: 133612098 | Q39: PL_ZEWD_1422000635_03 590543570300999930 | R39: 56129369 | S39: 25 | T39: C11 | U39: =X39 -> 410 | X39: 410 | Z39: Stacja Uzdatniania Wody
A40: 36 | B40: Gmina Chorzele | C40: ul. Stanisława Komosińskiego | D40: 1 | E40: 06-330 | F40: Chorzele | G40: 761-15-04-561 | H40: Zakład Gospodarki Komunalnej i Mieszkaniowej w Chorzelach | I40: ul. Brzozowa 3, 06-330 Chorzele | J40: 7611573757 | K40: Stacja Uzdatniania Wody | L40: Rycice | M40: - | N40: 06-330 | O40: Chorzele | P40: 133017105 | Q40: PL_ZEWD_1422000639_01 590543570300999978 | R40: 1899676 | S40: 20 | T40: C11 | U40: =X40 -> 24550 | X40: 24550 | Z40: Stacja Uzdatniania Wody
A41: 37 | B41: Gmina Chorzele | C41: ul. Stanisława Komosińskiego | D41: 1 | E41: 06-330 | F41: Chorzele | G41: 761-15-04-561 | H41: Zakład Gospodarki Komunalnej i Mieszkaniowej w Chorzelach | I41: ul. Brzozowa 3, 06-330 Chorzele | J41: 7611573757 | K41: Stacja Uzdatniania Wody | L41: Zaręby | M41: - | N41: 06-330 | O41: Chorzele | P41: 133635106 | Q41: PL_ZEWD_1422000636_05 590543570300999947 | R41: 56212647 | S41: 26 | T41: C11 | U41: =X41 -> 172800 | X41: 172800 | Z41: Stacja Uzdatniania Wody
A42: 38 | B42: Gmina Chorzele | C42: ul. Stanisława Komosińskiego | D42: 1 | E42: 06-330 | F42: Chorzele | G42: 761-15-04-561 | H42: Zakład Gospodarki Komunalnej i Mieszkaniowej w Chorzelach | I42: ul. Brzozowa 3, 06-330 Chorzele | J42: 7611573757 | K42: Przepompownia ścieków | L42: ul. 11 Listopada | M42: - | N42: 06-330 | O42: Chorzele | P42: 131317068 | Q42: PL_ZEWD_1422000634_01 590543570300999923 | R42: 14264487 | S42: 5 | T42: C11 | U42: =X42 -> 1594 | X42: 1594 | Z42: Przepompownia ścieków
A43: 39 | B43: Gmina Chorzele | C43: ul. Stanisława Komosińskiego | D43: 1 | E43: 06-330 | F43: Chorzele | G43: 761-15-04-561 | H43: Zakład Gospodarki Komunalnej i Mieszkaniowej w Chorzelach | I43: ul. Brzozowa 3, 06-330 Chorzele | J43: 7611573757 | K43: Przepompownia wody SUW Zaręby | L43: Łaz | M43: - | N43: 06-330 | O43: Chorzele | P43: 133628069 | Q43: PL_ZEWD_1422000581_02 590543570300999893 | R43: 57299558 | S43: 21 | T43: C11 | U43: =X43 -> 34200 | X43: 34200 | Z43: Przepompownia wody SUW Zaręby
A44: 40 | B44: Gmina Chorzele | C44: ul. Stanisława Komosińskiego | D44: 1 | E44: 06-330 | F44: Chorzele | G44: 761-15-04-561 | H44: Zakład Gospodarki Komunalnej i Mieszkaniowej w Chorzelach | I44: ul. Brzozowa 3, 06-330 Chorzele | J44: 7611573757 | K44: Kotłownia Zduńska | L44: Zduńska | M44: 35A | N44: 06-330 | O44: Chorzele | P44: 130771279 | Q44: PL_ZEWD_1422001154_06 590543570301016506 | R44: 26672307 | S44: 3 | T44: C11 | U44: =X44 -> 1140 | X44: 1140 | Z44: Kotłownia Zduńska
A45: 41 | B45: Gmina Chorzele | C45: ul. Stanisława Komosińskiego | D45: 1 | E45: 06-330 | F45: Chorzele | G45: 761-15-04-561 | H45: Zakład Gospodarki Komunalnej i Mieszkaniowej w Chorzelach | I45: ul. Brzozowa 3, 06-330 Chorzele | J45: 7611573757 | K45: Fontanna | L45: Plac Kościuszki | M45: - | N45: 06-330 | O45: Chorzele | P45: 131011154 | Q45: PL_ZEWD_1422001418_02 590543570301000123 | R45: 13493926 | S45: 1 | T45: C11 | U45: =X45 -> 736 | X45: 736 | Z45: Fontanna
A46: 42 | B46: Gmina Chorzele | C46: ul. Stanisława Komosińskiego | D46: 1 | E46: 06-330 | F46: Chorzele | G46: 761-15-04-561 | H46: Zakład Gospodarki Komunalnej i Mieszkaniowej w Chorzelach | I46: ul. Brzozowa 3, 06-330 Chorzele | J46: 7611573757 | K46: Przepompownia ścieków | L46: Kazimierza Wielkiego | M46: - | N46: 06-330 | O46: Chorzele | P46: 131011153 | Q46: PL_ZEWD_1422001587_01 590543570301000154 | R46: 94804767 | S46: 7 | T46: C11 | U46: =X46 -> 380 | X46: 380 | Z46: Przepompownia ścieków
A47: 43 | B47: Gmina Chorzele | C47: ul. Stanisława Komosińskiego | D47: 1 | E47: 06-330 | F47: Chorzele | G47: 761-15-04-561 | H47: Zakład Gospodarki Komunalnej i Mieszkaniowej w Chorzelach | I47: ul. Brzozowa 3, 06-330 Chorzele | J47: 7611573757 | K47: Przepompownia ścieków | L47: Przątalina | M47: - | N47: 06-330 | O47: Chorzele | P47: 131011152 | Q47: PL_ZEWD_1422001586_09 590543570301000147 | R47: 94358600 | S47: 7 | T47: C11 | U47: =X47 -> 1250 | X47: 1250 | Z47: Przepompownia ścieków
A48: 44 | B48: Gmina Chorzele | C48: ul. Stanisława Komosińskiego | D48: 1 | E48: 06-330 | F48: Chorzele | G48: 761-15-04-561 | H48: Zakład Gospodarki Komunalnej i Mieszkaniowej w Chorzelach | I48: ul. Brzozowa 3, 06-330 Chorzele | J48: 7611573757 | K48: Świetlica | L48: Niskie Wielkie | M48: dz. 181 | N48: 06-330 | O48: Chorzele | P48: 133612097 | Q48: PL_ZEWD_1422018739_01 590543570300895454 | R48: 30991019 | S48: 5 | T48: C11 | U48: =X48 -> 228 | X48: 228 | Z48: Świetlica
A49: 45 | B49: Gmina Chorzele | C49: ul. Stanisława Komosińskiego | D49: 1 | E49: 06-330 | F49: Chorzele | G49: 761-15-04-561 | H49: Zakład Gospodarki Komunalnej i Mieszkaniowej w Chorzelach | I49: ul. Brzozowa 3, 06-330 Chorzele | J49: 7611573757 | K49: Świetlica | L49: Budki | M49: - | N49: 06-330 | O49: Chorzele | P49: 133632129 | Q49: PL_ZEWD_1422018891_07 590543570300995734 | R49: 96014410 | S49: 7 | T49: C11 | U49: =X49 -> 310 | X49: 310 | Z49: Świetlica
A50: 46 | B50: Gmina Chorzele | C50: ul. Stanisława Komosińskiego | D50: 1 | E50: 06-330 | F50: Chorzele | G50: 761-15-04-561 | H50: Zakład Gospodarki Komunalnej i Mieszkaniowej w Chorzelach | I50: ul. Brzozowa 3, 06-330 Chorzele | J50: 7611573757 | K50: Przepompownia ścieków | L50: Ogrodowa | M50: - | N50: 06-330 | O50: Chorzele | P50: 131011150 | Q50: PL_ZEWD_1422018753_07 590543570300979543 | R50: 72306915 | S50: 6 | T50: C11 | U50: =X50 -> 170 | X50: 170 | Z50: Przepompownia ścieków
A51: 47 | B51: Gmina Chorzele | C51: ul. Stanisława Komosińskiego | D51: 1 | E51: 06-330 | F51: Chorzele | G51: 761-15-04-561 | H51: Zakład Gospodarki Komunalnej i Mieszkaniowej w Chorzelach | I51: ul. Brzozowa 3, 06-330 Chorzele | J51: 7611573757 | K51: Przepompownia ścieków | L51: Bagienice Wielkie | M51: dz. nr 335 | N51: 06-330 | O51: Chorzele | P51: 133612096 | Q51: PL_ZEWD_1422018736_05 590543570300979550 | R51: 72306941 | S51: 11 | T51: C11 | U51: =X51 -> 904 | X51: 904 | Z51: Przepompownia ścieków
A52: 48 | B52: Gmina Chorzele | C52: ul. Stanisława Komosińskiego | D52: 1 | E52: 06-331 | F52: Chorzele | G52: 761-15-04-561 | H52: Zakład Gospodarki Komunalnej i Mieszkaniowej w Chorzelach | I52: ul. Brzozowa 3, 06-330 Chorzele | J52: 7611573757 | K52: Pompownia ścieków | L52: Rembielin | M52: dz.170/14 | N52: 06-331 | O52: Chorzele | P52: 133025146 | Q52: 590543570301085397 | R52: 31557480 | S52: 7 | T52: C11 | U52: =X52 -> 600 | X52: 600 | Z52: pompownia ścieków
A53: 49 | B53: Gmina Chorzele | C53: ul. Stanisława Komosińskiego | D53: 1 | E53: 06-332 | F53: Chorzele | G53: 761-15-04-561 | H53: Zakład Gospodarki Komunalnej i Mieszkaniowej w Chorzelach | I53: ul. Brzozowa 3, 06-330 Chorzele | J53: 7611573757 | K53: Pompownia ścieków | L53: Chorzele | M53: dz. 668/2 | N53: 06-332 | O53: Chorzele | P53: 133025146 | Q53: 590543570301085397 | R53: 31562709 | S53: 6 | T53: C11 | U53: =X53 -> 600 | X53: 600 | Z53: pompownia ścieków
A54: 50 | B54: Gmina Chorzele | C54: ul. Stanisława Komosińskiego | D54: 1 | E54: 06-333 | F54: Chorzele | G54: 761-15-04-561 | H54: Zakład Gospodarki Komunalnej i Mieszkaniowej w Chorzelach | I54: ul. Brzozowa 3, 06-330 Chorzele | J54: 7611573757 | K54: Stacja podnoszenia ciśnienia wody | L54: Łaz | M54: dz.566 | N54: 06-333 | O54: Chorzele | P54: 133025145 | Q54: 590543570301087247 | R54: 31544384 | S54: 14 | T54: C11 | U54: =X54 -> 1000 | X54: 1000 | Z54: stacja podnoszenia ciśnienia wody
A55: 51 | B55: Gmina Chorzele | C55: ul. Stanisława Komosińskiego | D55: 1 | E55: 06-330 | F55: Chorzele | G55: 761-15-04-561 | H55: Zakład Gospodarki Komunalnej i Mieszkaniowej w Chorzelach | I55: ul. Brzozowa 3, 06-330 Chorzele | J55: 7611573757 | K55: Przepompownia ścieków | L55: ul. Grunwaldzka | M55: - | N55: 06-330 | O55: Chorzele | P55: 131011156 | Q55: PL_ZEWD_1422000641_04 590543570300999992 | R55: 30392883 | S55: 16 | T55: C11 | U55: =X55 -> 1820 | X55: 1820 | Z55: Przepompownia ścieków
A56: 52 | B56: Gmina Chorzele | C56: ul. Stanisława Komosińskiego | D56: 1 | E56: 06-330 | F56: Chorzele | G56: 761-15-04-561 | H56: Zakład Gospodarki Komunalnej i Mieszkaniowej w Chorzelach | I56: ul. Brzozowa 3, 06-330 Chorzele | J56: 7611573757 | K56: Przepompownia ścieków | L56: Chorzele | M56: dz. 90/2 | N56: 06-330 | O56: Chorzele | P56: 57299202 | Q56: 590543570301091572 | R56: 57299202 | S56: 11 | T56: C11 | U56: =X56 -> 1000 | X56: 1000 | Z56: Przepompownia ścieków (Opaleniec)
A57: 53 | B57: Gmina Chorzele | C57: ul. Stanisława Komosińskiego | D57: 1 | E57: 06-330 | F57: Chorzele | G57: 761-15-04-561 | H57: Zakład Gospodarki Komunalnej i Mieszkaniowej w Chorzelach | I57: ul. Brzozowa 3, 06-330 Chorzele | J57: 7611573757 | K57: pompownia ścieków (ul. Cmentarna) | L57: Chorzele | M57: dz. 1602/3 | N57: 06-330 | O57: Chorzele | P57: 51 | Q57: 590543570301083744 | R57: 31477422 | S57: 10 | T57: C11 | U57: =X57 -> 600 | X57: 600 | Z57: pompownia ścieków sanitarnych ul. Cmentarna
A58: 54 | B58: Gmina Chorzele | C58: ul. Stanisława Komosińskiego | D58: 1 | E58: 06-330 | F58: Chorzele | G58: 761-15-04-561 | H58: Zakład Gospodarki Komunalnej i Mieszkaniowej w Chorzelach | I58: ul. Brzozowa 3, 06-330 Chorzele | J58: 7611573757 | K58: pompownia ścieków (ul. Polna) | L58: Chorzele | M58: dz. 60/11 | N58: 06-330 | O58: Chorzele | Q58: 590543570301094115 | S58: 7 | T58: C11 | U58: =X58 -> 600 | X58: 600 | Z58: pompownia ścieków (ul. Polna)
A59: 55 | B59: Gmina Chorzele | C59: ul. Stanisława Komosińskiego | D59: 1 | E59: 06-330 | F59: Chorzele | G59: 761-15-04-561 | H59: Zakład Gospodarki Komunalnej i Mieszkaniowej w Chorzelach | I59: ul. Brzozowa 3, 06-330 Chorzele | J59: 7611573757 | K59: pompownia ścieków (ul. Jana III Sobieskiego) | L59: Chorzele | M59: dz. 1712/15 | N59: 06-330 | O59: Chorzele | Q59: 590543570301095419 | S59: 7 | T59: C11 | U59: =X59 -> 600 | X59: 600 | Z59: pompownia ścieków (ul. Jana III Sobieskiego)
A60: 56 | B60: Gmina Chorzele | C60: ul. Stanisława Komosińskiego | D60: 1 | E60: 06-330 | F60: Chorzele | G60: 761-15-04-561 | H60: Zakład Gospodarki Komunalnej i Mieszkaniowej w Chorzelach | I60: ul. Brzozowa 3, 06-330 Chorzele | J60: 7611573757 | K60: pompownia ścieków (ul. Królowej Bony) | L60: Chorzele | M60: dz. 661/1 | N60: 06-330 | O60: Chorzele | Q60: 590543570301095426 | S60: 7 | T60: C11 | U60: =X60 -> 600 | X60: 600 | Z60: pompownia ścieków (ul. Królowej Bony)
S62: Moc Umowna | X62: Razem
S63: =SUM(S5:S60) -> 577.5 | T63: kW | U63: =SUM(U5:U60) -> 441870 | V63: =SUM(V5:V60) -> 0 | W63: =SUM(W5:W60) -> 0 | X63: =SUM(X5:X60) -> 441870 | Y63: kWh

Sheet C11o
A1: Załącznik do umowy - Wykaz PPE
A2: Wykaz punktów PPE - Gmina Chorzele
A3: 1. Gmina Chorzele, ul. Komosińskiego 1, 06-330 Chorzele, NIP: 761-150-45-61
A4: Lp. | B4: Nabywca - Podmiot2 | C4: Ulica/ Miejscowość | D4: Nr | E4: Kod | F4: Poczta | G4: Nabywca- NIP | H4: Odbiorca- Podmiot3 | I4: Odbiorca – adres | J4: Odbiorca- NIP | K4: Nazwa punktu poboru | L4: Ulica/ Miejscowość | M4: Nr | N4: Kod | O4: Poczta | P4: Nr ewidencyjny | Q4: Kod PPE | R4: Nr licznika | S4: Moc Umowna | T4: Obecna Taryfa | U4: zużycie przez 12 miesięcy całodobowa (kWh) | V4: zużycie przez 12 miesięcy I strefa (kWh) | W4: zużycie przez 12 miesięcy II strefa (kWh) | X4: zużycie przez 12 miesięcy RAZEM (kWh) | Y4: instalacja fotowoltaiczna | Z4: Funkcja
A5: 1 | B5: Gmina Chorzele | C5: ul. Stanisława Komosińskiego | D5: 1 | E5: 06-330 | F5: Chorzele | G5: 761-15-04-561 | H5: Urząd Miasta i Gminy w Chorzelach | I5: ul. Stanisława Komosińskiego 1, 06-330 Chorzele | J5: 7611194907 | K5: =B5 -> Gmina Chorzele | L5: Grunwaldzka | M5: dz. nr 951 | N5: 06-330 | O5: Chorzele | P5: 131011058 | Q5: PL_ZEWD_1422018451_09 590543570300579842 | R5: 55164816 | S5: 5 | T5: C11o | U5: =X5 -> 472 | X5: 472 | Z5: oświetlenie uliczne
A6: 2 | B6: Gmina Chorzele | C6: ul. Stanisława Komosińskiego | D6: 1 | E6: 06-330 | F6: Chorzele | G6: 761-15-04-561 | H6: Urząd Miasta i Gminy w Chorzelach | I6: ul. Stanisława Komosińskiego 1, 06-330 Chorzele | J6: 7611194907 | K6: Gmina Chorzele | L6: Ignatowskiego | M6: dz. 167/1 | N6: 06-330 | O6: Chorzele | P6: 131011073 | Q6: PL_ZEWD _1422018732_07 590543570300577664 | R6: 31032729 | S6: 1 | T6: C11o | U6: =X6 -> 439 | X6: 439 | Z6: oświetlenie uliczne
A7: 3 | B7: Gmina Chorzele | C7: ul. Stanisława Komosińskiego | D7: 1 | E7: 06-330 | F7: Chorzele | G7: 761-15-04-561 | H7: Urząd Miasta i Gminy w Chorzelach | I7: ul. Stanisława Komosińskiego 1, 06-330 Chorzele | J7: 7611194907 | K7: Gmina Chorzele | L7: Jana III Sobieskiego | M7: dz. 1712/23 | N7: 06-330 | O7: Chorzele | P7: 131011078 | Q7: PL_ZEWD _1422018773_05 590543570300577350 | R7: 31032875 | S7: 1 | T7: C11o | U7: =X7 -> 540 | X7: 540 | Z7: oświetlenie uliczne
A8: 4 | B8: Gmina Chorzele | C8: ul. Stanisława Komosińskiego | D8: 1 | E8: 06-330 | F8: Chorzele | G8: 761-15-04-561 | H8: Urząd Miasta i Gminy w Chorzelach | I8: ul. Stanisława Komosińskiego 1, 06-330 Chorzele | J8: 7611194907 | K8: Gmina Chorzele | L8: Mickiewicza | M8: dz. 586/12 m 687, 1714 | N8: 06-330 | O8: Chorzele | P8: 133625175 | Q8: PL_ZEWD _1422018772_03 590543570300577367 | R8: 31032841 | S8: 1 | T8: C11o | U8: =X8 -> 890 | X8: 890 | Z8: oświetlenie uliczne
A9: 5 | B9: Gmina Chorzele | C9: ul. Stanisława Komosińskiego | D9: 1 | E9: 06-330 | F9: Chorzele | G9: 761-15-04-561 | H9: Urząd Miasta i Gminy w Chorzelach | I9: ul. Stanisława Komosińskiego 1, 06-330 Chorzele | J9: 7611194907 | K9: Gmina Chorzele | L9: Krzynowłoga Wielka | M9: dz. 68/4 | N9: 06-330 | O9: Chorzele | P9: 133025126 | Q9: PL_ZEWD _1422018731_05 590543570300577671 | R9: 30991015 | S9: 1 | T9: C11o | U9: =X9 -> 880 | X9: 880 | Z9: oświetlenie uliczne
A10: 6 | B10: Gmina Chorzele | C10: ul. Stanisława Komosińskiego | D10: 1 | E10: 06-330 | F10: Chorzele | G10: 761-15-04-561 | H10: Urząd Miasta i Gminy w Chorzelach | I10: ul. Stanisława Komosińskiego 1, 06-330 Chorzele | J10: 7611194907 | K10: Gmina Chorzele | L10: Nowa Wieś | M10: - | N10: 06-333 | O10: Zaręby | P10: 133606063 | Q10: PL_ZEWD _1422018621_08 590543570300578548 | R10: 28295698 | S10: 1 | T10: C11o | U10: =X10 -> 26 | X10: 26 | Z10: oświetlenie uliczne
A11: 7 | B11: Gmina Chorzele | C11: ul. Stanisława Komosińskiego | D11: 1 | E11: 06-330 | F11: Chorzele | G11: 761-15-04-561 | H11: Urząd Miasta i Gminy w Chorzelach | I11: ul. Stanisława Komosińskiego 1, 06-330 Chorzele | J11: 7611194907 | K11: Gmina Chorzele | L11: Bagienice | M11: dz. 142 | N11: 06-330 | O11: Chorzele | P11: 133612083 | Q11: PL_ZEWD _1422019076_02 590543570300994638 | R11: 30991017 | S11: 1 | T11: C11o | U11: =X11 -> 140 | X11: 140 | Z11: oświetlenie uliczne
A12: 8 | B12: Gmina Chorzele | C12: ul. Stanisława Komosińskiego | D12: 1 | E12: 06-330 | F12: Chorzele | G12: 761-15-04-561 | H12: Urząd Miasta i Gminy w Chorzelach | I12: ul. Stanisława Komosińskiego 1, 06-330 Chorzele | J12: 7611194907 | K12: Gmina Chorzele | L12: Bagienice | M12: dz. 152/3 | N12: 06-330 | O12: Chorzele | P12: 133612084 | Q12: PL_ZEWD _1422019077_04 590543570300994621 | R12: 30991018 | S12: 1 | T12: C11o | U12: =X12 -> 139 | X12: 139 | Z12: oświetlenie uliczne
A13: 9 | B13: Gmina Chorzele | C13: ul. Stanisława Komosińskiego | D13: 1 | E13: 06-330 | F13: Chorzele | G13: 761-15-04-561 | H13: Urząd Miasta i Gminy w Chorzelach | I13: ul. Stanisława Komosińskiego 1, 06-330 Chorzele | J13: 7611194907 | K13: Gmina Chorzele | L13: Poścień Wieś | M13: 30/2 m 261/2 270 | N13: 06-330 | O13: Chorzele | P13: 133630123 | Q13: PL_ZEWD _1422018623_02 590543570300578524 | R13: 28295635 | S13: 1 | T13: C11o | U13: =X13 -> 1092 | X13: 1092 | Z13: oświetlenie uliczne
A14: 10 | B14: Gmina Chorzele | C14: ul. Stanisława Komosińskiego | D14: 1 | E14: 06-330 | F14: Chorzele | G14: 761-15-04-561 | H14: Urząd Miasta i Gminy w Chorzelach | I14: ul. Stanisława Komosińskiego 1, 06-330 Chorzele | J14: 7611194907 | K14: Gmina Chorzele | L14: Zaręby | M14: dz. 920. m 1001 | N14: 06-334 | O14: Zaręby | P14: 133634168 | Q14: PL_ZEWD _1422018622_00 590543570300578531 | R14: 27985623 | S14: 1 | T14: C11o | U14: =X14 -> 658 | X14: 658 | Z14: oświetlenie uliczne
A15: 11 | B15: Gmina Chorzele | C15: ul. Stanisława Komosińskiego | D15: 1 | E15: 06-330 | F15: Chorzele | G15: 761-15-04-561 | H15: Urząd Miasta i Gminy w Chorzelach | I15: ul. Stanisława Komosińskiego 1, 06-330 Chorzele | J15: 7611194907 | K15: Gmina Chorzele | L15: Zaręby | M15: dz. 917/1 | N15: 06-330 | O15: Chorzele | P15: 133634175 | Q15: PL_ZEWD _1422019079_08 590543570300994607 | R15: 92144246 | S15: 1 | T15: C11o | U15: =X15 -> 748 | X15: 748 | Z15: oświetlenie uliczne
A16: 12 | B16: Gmina Chorzele | C16: ul. Stanisława Komosińskiego | D16: 1 | E16: 06-330 | F16: Chorzele | G16: 761-15-04-561 | H16: Urząd Miasta i Gminy w Chorzelach | I16: ul. Stanisława Komosińskiego 1, 06-330 Chorzele | J16: 7611194907 | K16: Gmina Chorzele | L16: Krukowo | M16: dz. 182/17 m 183/9, 183 | N16: 06-335 | O16: Zaręby | P16: 133637098 | Q16: PL_ZEWD _1422018620_06 590543570300578555 | R16: 27985891 | S16: 3 | T16: C11o | U16: =X16 -> 1025 | X16: 1025 | Z16: oświetlenie uliczne
A17: 13 | B17: Gmina Chorzele | C17: ul. Stanisława Komosińskiego | D17: 1 | E17: 06-330 | F17: Chorzele | G17: 761-15-04-561 | H17: Urząd Miasta i Gminy w Chorzelach | I17: ul. Stanisława Komosińskiego 1, 06-330 Chorzele | J17: 7611194907 | K17: Gmina Chorzele | L17: Czaplice Furmany | M17: dz. 64/1, m 60/2, 61 | N17: 06-330 | O17: Chorzele | P17: 133618116 | Q17: PL_ZEWD _1422018624_04 590543570300578517 | R17: 28352777 | S17: 1 | T17: C11o | U17: =X17 -> 303 | X17: 303 | Z17: oświetlenie uliczne
... A27: 23 | B27: Gmina Chorzele | C27: ul. Stanisława Komosińskiego | D27: 1 | E27: 06-330 | F27: Chorzele | G27: 761-15-04-561 | H27: Urząd Miasta i Gminy w Chorzelach | I27: ul. Stanisława Komosińskiego 1, 06-330 Chorzele | J27: 7611194907 | K27: Gmina Chorzele | L27: Liwki | M27: dz. 82 | N27: 06-330 | O27: Chorzele | P27: 139800011 | Q27: PL_ZEWD_1422019132_06 590543570300994225 | R27: 30991014 | S27: 1 | T27: C11o | U27: =X27 -> 188 | X27: 188 | Z27: oświetlenie uliczne
A28: 24 | B28: Gmina Chorzele | C28: ul. Stanisława Komosińskiego | D28: 1 | E28: 06-330 | F28: Chorzele | G28: 761-15-04-561 | H28: Urząd Miasta i Gminy w Chorzelach | I28: ul. Stanisława Komosińskiego 1, 06-330 Chorzele | J28: 7611194907 | K28: Gmina Chorzele | L28: Bugzy Jarki | M28: dz. nr 97 | N28: 06-330 | O28: Chorzele | P28: 133602052 | Q28: PL_ZEWD_1422019305_01 590543570300993433 | R28: 97580927 | S28: 2 | T28: C11o | U28: =X28 -> 660 | X28: 660 | Z28: oświetlenie uliczne
A29: 25 | B29: Gmina Chorzele | C29: ul. Stanisława Komosińskiego | D29: 1 | E29: 06-330 | F29: Chorzele | G29: 761-15-04-561 | H29: Urząd Miasta i Gminy w Chorzelach | I29: ul. Stanisława Komosińskiego 1, 06-330 Chorzele | J29: 7611194907 | K29: Gmina Chorzele | L29: Budki | M29: dz. nr 235 | N29: 06-330 | O29: Chorzele | P29: 130771157 | Q29: PL_ZEWD_1422019760_07 590543570300991187 | R29: 13669668 | S29: 1 | T29: C11o | U29: =X29 -> 1017 | X29: 1017 | Z29: oświetlenie uliczne
A30: 26 | B30: Gmina Chorzele | C30: ul. Stanisława Komosińskiego | D30: 1 | E30: 06-330 | F30: Chorzele | G30: 761-15-04-561 | H30: Urząd Miasta i Gminy w Chorzelach | I30: ul. Stanisława Komosińskiego 1, 06-330 Chorzele | J30: 7611194907 | K30: Gmina Chorzele | L30: Gadomiec Chrzczany | M30: dz. nr 45/2 | N30: 06-330 | O30: Chorzele | P30: 130771238 | Q30: PL_ZEWD_1422019896_04 590543570301000192 | R30: 55005284 | S30: 2 | T30: C11o | U30: =X30 -> 294 | X30: 294 | Z30: oświetlenie uliczne
A31: 27 | B31: Gmina Chorzele | C31: ul. Stanisława Komosińskiego | D31: 1 | E31: 06-330 | F31: Chorzele | G31: 761-15-04-562 | H31: Urząd Miasta i Gminy w Chorzelach | I31: ul. Stanisława Komosińskiego 1, 06-330 Chorzele | J31: 7611194907 | K31: Gmina Chorzele | L31: Zaręby | M31: dz. 324/5 | N31: 06-330 | O31: Chorzele | P31: 133634193 | Q31: 590543570301087124 | R31: 133634193 | S31: 3 | T31: C11o | U31: =X31 -> 600 | X31: 600 | Z31: oświetlenie uliczne
S33: Moc Umowna | X33: Razem
S34: =SUM(S5:S31) -> 37 | T34: kW | U34: =SUM(U5:U31) -> 15242 | V34: =SUM(V5:V31) -> 0 | W34: =SUM(W5:W31) -> 0 | X34: =SUM(X5:X31) -> 15242 | Y34: kWh

Sheet C12A
A1: Załącznik do umowy - Wykaz PPE
A2: Wykaz punktów PPE - Gmina Chorzele
A3: 1. Gmina Chorzele, ul. Komosińskiego 1, 06-330 Chorzele, NIP: 761-150-45-61
A4: Lp. | B4: Nabywca - Podmiot2 | C4: Ulica/ Miejscowość | D4: Nr | E4: Kod | F4: Poczta | G4: Nabywca- NIP | H4: Odbiorca- Podmiot3 | I4: Odbiorca – adres | J4: Odbiorca- NIP | K4: Nazwa punktu poboru | L4: Ulica/ Miejscowość | M4: Nr | N4: Kod | O4: Poczta | P4: Nr ewidencyjny | Q4: Kod PPE | R4: Nr licznika | S4: Moc Umowna | T4: Obecna Taryfa | U4: zużycie przez 12 miesięcy całodobowa (kWh) | V4: zużycie przez 12 miesięcy I strefa (kWh) | W4: zużycie przez 12 miesięcy II strefa (kWh) | X4: zużycie przez 12 miesięcy RAZEM (kWh) | Y4: instalacja fotowoltaiczna | Z4: Funkcja
A5: 1 | B5: Gmina Chorzele | C5: ul. Stanisława Komosińskiego | D5: 1 | E5: 06-330 | F5: Chorzele | G5: 761-15-04-561 | H5: Publiczna Szkoła Podstawowa im. Ojca Honoriusza Kowalczyka w Duczyminie | I5: Duczymin 15, 06-330 Chorzele | J5: 7611403475 | K5: Publiczna Szkoła Podstawowa im. Ojca Honoriusza Kowalczyka w Duczyminie | L5: Duczymin | M5: 15 | N5: 06-330 | O5: Chorzele | P5: 133607118 | Q5: PL_ZEWD_1422003094_08 590543570300719439 | R5: 56729642 | S5: 10 | T5: C12A | V5: =X5*0.35 -> 4585 | W5: =X5-V5 -> 8515 | X5: 13100 | Z5: Publiczna Szkoła Podstawowa
A6: 2 | B6: Gmina Chorzele | C6: ul. Stanisława Komosińskiego | D6: 1 | E6: 06-330 | F6: Chorzele | G6: 761-15-04-561 | H6: Publiczna Szkoła Podstawowa im. Bolesława Chrobrego w Zarębach | I6: Zaręby 41, 06-333 Zareby | J6: 7611403417 | K6: Publiczna Szkoła Podstawowa im. Bolesława Chrobrego w Zarębach | L6: Zaręby | M6: 41 | N6: 06-333 | O6: Zaręby | P6: 133634153 | Q6: PL_ZEWD_1422003091_02 590543570300719460 | R6: 56129332 | S6: 32 | T6: C12A | V6: =X6*0.35 -> 3073 | W6: =X6-V6 -> 5707 | X6: 8780 | Z6: Publiczna Szkoła Podstawowa
A7: 3 | B7: Gmina Chorzele | C7: ul. Stanisława Komosińskiego | D7: 1 | E7: 06-330 | F7: Chorzele | G7: 761-15-04-561 | H7: Publiczna Szkoła Podstawowa im. Bolesława Chrobrego w Zarębach | I7: Zaręby 41, 06-333 Zareby | J7: 7611403417 | K7: Publiczna Szkoła Podstawowa im. Bolesława Chrobrego w Zarębach | L7: Zaręby | M7: 41 | N7: 06-330 | O7: Chorzele | P7: 133634130 | Q7: PL_ZEWD_1422003092_04 590543570300719453 | R7: 56129313 | S7: 36 | T7: C12A | V7: =X7*0.35 -> 3290 | W7: =X7-V7 -> 6110 | X7: 9400 | Z7: Publiczna Szkoła Podstawowa
A8: 4 | B8: Gmina Chorzele | C8: ul. Stanisława Komosińskiego | D8: 1 | E8: 06-330 | F8: Chorzele | G8: 761-15-04-561 | H8: Publiczna Szkoła Podstawowa w Krzynowłodze Wielkiej | I8: Krzynowłoga Wielka 18, 06-330 Chorzele | J8: 7611403386 | K8: Publiczna Szkoła Podstawowa w Krzynowłodze Wielkiej | L8: Krzynowłoga Wielka | M8: 18 | N8: 06-330 | O8: Chorzele | P8: 133616135 | Q8: PL_ZEWD_1422003093_06 59053570300719446 | R8: 56129327 | S8: 25 | T8: C12A | V8: =X8*0.35 -> 2975 | W8: =X8-V8 -> 5525 | X8: 8500 | Z8: Publiczna Szkoła Podstawowa
A9: 5 | B9: Gmina Chorzele | C9: ul. Stanisława Komosińskiego | D9: 1 | E9: 06-330 | F9: Chorzele | G9: 761-15-04-561 | H9: Publiczna Szkoła Podstawowa Nr 2 im. Papieża Jana Pawła II w Chorzelach | I9: Szkolna 4B, 06-330 Chorzele | J9: 7611560565 | K9: Publiczna Szkoła Podstawowa Nr 2 im. Papieża Jana Pawła II w Chorzelach | L9: Szkolna | M9: 4B | N9: 06-330 | O9: Chorzele | P9: 131342031 | Q9: PL_ZEWD_1422003098_06 590543570300719392 | R9: 01899567 | S9: 25 | T9: C12A | V9: =X9*0.35 -> 9618 | W9: =X9-V9 -> 17862 | X9: 27480 | Z9: Publiczna Szkoła Podstawowa
A10: 6 | B10: Gmina Chorzele | C10: ul. Stanisława Komosińskiego | D10: 1 | E10: 06-330 | F10: Chorzele | G10: 761-15-04-561 | H10: Publiczna Szkoła Podstawowa w Krukowie | I10: Krukowo 87, 06-333 Zaręby | J10: 7611403593 | K10: Publiczna Szkoła Podstawowa w Krukowie | L10: Krukowo | M10: 87 | N10: 06-333 | O10: Zaręby | P10: 133637091 | Q10: PL_ZEWD_1422003097_04 590543570300719408 | R10: 30450882 | S10: 16 | T10: C12A | V10: =X10*0.35 -> 2625 | W10: =X10-V10 -> 4875 | X10: 7500 | Z10: Publiczna Szkoła Podstawowa
A11: 7 | B11: Gmina Chorzele | C11: ul. Stanisława Komosińskiego | D11: 1 | E11: 06-330 | F11: Chorzele | G11: 761-15-04-561 | H11: Publiczna Szkoła Podstawowa w Pościeniu Wsi | I11: Poścień Wieś 47, 06-330 Chorzele | J11: 7611403400 | K11: Publiczna Szkoła Podstawowa w Pościeniu Wsi | L11: Poścień Wieś | M11: 47 | N11: 06-330 | O11: Chorzele | P11: 133630114 | Q11: PL_ZEWD_1422003096_02 590543570300719415 | R11: 30453545 | S11: 16 | T11: C12A | V11: =X11*0.35 -> 3850 | W11: =X11-V11 -> 7150 | X11: 11000 | Z11: Publiczna Szkoła Podstawowa
A12: 8 | B12: Gmina Chorzele | C12: ul. Stanisława Komosińskiego | D12: 1 | E12: 06-330 | F12: Chorzele | G12: 761-15-04-561 | H12: Urząd Miasta i Gminy w Chorzelach | I12: ul. Stanisława Komosińskiego 1, 06-330 Chorzele | J12: 7611194907 | K12: =B12 -> Gmina Chorzele | L12: Grunwaldzka | M12: - | N12: 06-330 | O12: Chorzele | P12: 131011017 | Q12: PL_ZEWD_1422003224_01 590543570300718241 | R12: 30496360 | S12: 6 | T12: C12A | V12: =X12*0.35 -> 5699.75 | W12: =X12-V12 -> 10585.25 | X12: 16285 | Z12: oświetlenie uliczne
A13: 9 | B13: Gmina Chorzele | C13: ul. Stanisława Komosińskiego | D13: 1 | E13: 06-330 | F13: Chorzele | G13: 761-15-04-561 | H13: Urząd Miasta i Gminy w Chorzelach | I13: ul. Stanisława Komosińskiego 1, 06-330 Chorzele | J13: 7611194907 | K13: =B13 -> Gmina Chorzele | L13: Komosińskiego | M13: ST 3218 | N13: 06-330 | O13: Chorzele | P13: 131011018 | Q13: PL_ZEWD_1422003221_05 590543570300718272 | R13: 56617865 | S13: 6 | T13: C12A | V13: =X13*0.35 -> 3578.4 | W13: =X13-V13 -> 6645.6 | X13: 10224 | Z13: oświetlenie uliczne
A14: 10 | B14: Gmina Chorzele | C14: ul. Stanisława Komosińskiego | D14: 1 | E14: 06-330 | F14: Chorzele | G14: 761-15-04-561 | H14: Urząd Miasta i Gminy w Chorzelach | I14: ul. Stanisława Komosińskiego 1, 06-330 Chorzele | J14: 7611194907 | K14: =B14 -> Gmina Chorzele | L14: Ruda | M14: ST 0701 | N14: 06-330 | O14: Chorzele | P14: 131011019 | Q14: PL_ZEWD_1422003217_08 590543570300718319 | R14: 56619519 | S14: 6 | T14: C12A | V14: =X14*0.35 -> 3072.3 | W14: =X14-V14 -> 5705.7 | X14: 8778 | Z14: oświetlenie uliczne
A15: 11 | B15: Gmina Chorzele | C15: ul. Stanisława Komosińskiego | D15: 1 | E15: 06-330 | F15: Chorzele | G15: 761-15-04-561 | H15: Urząd Miasta i Gminy w Chorzelach | I15: ul. Stanisława Komosińskiego 1, 06-330 Chorzele | J15: 7611194907 | K15: =B15 -> Gmina Chorzele | L15: Zarębska | M15: ST 3223 | N15: 06-330 | O15: Chorzele | P15: 131011020 | Q15: PL_ZEWD_1422003216_06 590543570300718326 | R15: 56617853 | S15: 7 | T15: C12A | V15: =X15*0.35 -> 5581.8 | W15: =X15-V15 -> 10366.2 | X15: 15948 | Z15: oświetlenie uliczne
A16: 12 | B16: Gmina Chorzele | C16: ul. Stanisława Komosińskiego | D16: 1 | E16: 06-330 | F16: Chorzele | G16: 761-15-04-561 | H16: Urząd Miasta i Gminy w Chorzelach | I16: ul. Stanisława Komosińskiego 1, 06-330 Chorzele | J16: 7611194907 | K16: =B16 -> Gmina Chorzele | L16: Grunwaldzka | M16: ST 3216 | N16: 06-330 | O16: Chorzele | P16: 131011021 | Q16: PL_ZEWD_1422003211_06 590543570300718364 | R16: 56617854 | S16: 6 | T16: C12A | V16: =X16*0.35 -> 1817.2 | W16: =X16-V16 -> 3374.8 | X16: 5192 | Z16: oświetlenie uliczne
A17: 13 | B17: Gmina Chorzele | C17: ul. Stanisława Komosińskiego | D17: 1 | E17: 06-330 | F17: Chorzele | G17: 761-15-04-561 | H17: Urząd Miasta i Gminy w Chorzelach | I17: ul. Stanisława Komosińskiego 1, 06-330 Chorzele | J17: 7611194907 | K17: =B17 -> Gmina Chorzele | L17: Ogrodowa | M17: ST 1022 | N17: 06-330 | O17: Chorzele | P17: 131011022 | Q17: PL_ZEWD_1422003206_07 590543570300718418 | R17: 56619518 | S17: 6 | T17: C12A | V17: =X17*0.35 -> 1375.5 | W17: =X17-V17 -> 2554.5 | X17: 3930 | Z17: oświetlenie uliczne
A18: 14 | B18: Gmina Chorzele | C18: ul. Stanisława Komosińskiego | D18: 1 | E18: 06-330 | F18: Chorzele | G18: 761-15-04-561 | H18: Urząd Miasta i Gminy w Chorzelach | I18: ul. Stanisława Komosińskiego 1, 06-330 Chorzele | J18: 7611194907 | K18: =B18 -> Gmina Chorzele | L18: Młynarska | M18: - | N18: 06-330 | O18: Chorzele | P18: 131011023 | Q18: PL_ZEWD_1422003204_03 590543570300718432 | R18: 56617836 | S18: 6 | T18: C12A | V18: =X18*0.35 -> 3195.5 | W18: =X18-V18 -> 5934.5 | X18: 9130 | Z18: oświetlenie uliczne
A19: 15 | B19: Gmina Chorzele | C19: ul. Stanisława Komosińskiego | D19: 1 | E19: 06-330 | F19: Chorzele | G19: 761-15-04-561 | H19: Urząd Miasta i Gminy w Chorzelach | I19: ul. Stanisława Komosińskiego 1, 06-330 Chorzele | J19: 7611194907 | K19: =B19 -> Gmina Chorzele | L19: Zarębska | M19: - | N19: 06-330 | O19: Chorzele | P19: 131011024 | Q19: PL_ZEWD_1422003199_06 590543570300718470 | R19: 55005290 | S19: 6 | T19: C12A | V19: =X19*0.35 -> 1877.4 | W19: =X19-V19 -> 3486.6 | X19: 5364 | Z19: oświetlenie uliczne
A20: 16 | B20: Gmina Chorzele | C20: ul. Stanisława Komosińskiego | D20: 1 | E20: 06-330 | F20: Chorzele | G20: 761-15-04-561 | H20: Urząd Miasta i Gminy w Chorzelach | I20: ul. Stanisława Komosińskiego 1, 06-330 Chorzele | J20: 7611194907 | K20: =B20 -> Gmina Chorzele | L20: Grunwaldzka | M20: ST 3206 | N20: 06-330 | O20: Chorzele | P20: 131011025 | Q20: PL_ZEWD_1422003197_02 590543570300718494 | R20: 30496272 | S20: 6 | T20: C12A | V20: =X20*0.35 -> 4025.35 | W20: =X20-V20 -> 7475.65 | X20: 11501 | Z20: oświetlenie uliczne
A21: 17 | B21: Gmina Chorzele | C21: ul. Stanisława Komosińskiego | D21: 1 | E21: 06-330 | F21: Chorzele | G21: 761-15-04-561 | H21: Urząd Miasta i Gminy w Chorzelach | I21: ul. Stanisława Komosińskiego 1, 06-330 Chorzele | J21: 7611194907 | K21: =B21 -> Gmina Chorzele | L21: ul. Szkolna | M21: ST 3207 | N21: 06-330 | O21: Chorzele | P21: 131011026 | Q21: PL_ZEWD_1422003184_07 590543570300718623 | R21: 55005288 | S21: 6 | T21: C12A | V21: =X21*0.35 -> 1792 | W21: =X21-V21 -> 3328 | X21: 5120 | Z21: oświetlenie uliczne
A22: 18 | B22: Gmina Chorzele | C22: ul. Stanisława Komosińskiego | D22: 1 | E22: 06-330 | F22: Chorzele | G22: 761-15-04-561 | H22: Urząd Miasta i Gminy w Chorzelach | I22: ul. Stanisława Komosińskiego 1, 06-330 Chorzele | J22: 7611194907 | K22: =B22 -> Gmina Chorzele | L22: ul. Stara Targowica | M22: ST 3228 | N22: 06-330 | O22: Chorzele | P22: 131011027 | Q22: PL_ZEWD_1422003183_05 590543570300718630 | R22: 56619520 | S22: 6 | T22: C12A | V22: =X22*0.35 -> 2131.5 | W22: =X22-V22 -> 3958.5 | X22: 6090 | Z22: oświetlenie uliczne
A23: 19 | B23: Gmina Chorzele | C23: ul. Stanisława Komosińskiego | D23: 1 | E23: 06-330 | F23: Chorzele | G23: 761-15-04-561 | H23: Urząd Miasta i Gminy w Chorzelach | I23: ul. Stanisława Komosińskiego 1, 06-330 Chorzele | J23: 7611194907 | K23: =B23 -> Gmina Chorzele | L23: ul. Zygmunta Padlewskiego | M23: ST 3208 | N23: 06-330 | O23: Chorzele | P23: 131011028 | Q23: PL_ZEWD_1422003087_05 590543570300719507 | R23: 56619525 | S23: 6 | T23: C12A | V23: =X23*0.35 -> 8896.3 | W23: =X23-V23 -> 16521.7 | X23: 25418 | Z23: oświetlenie uliczne
... A66: 62 | B66: Gmina Chorzele | C66: ul. Stanisława Komosińskiego | D66: 1 | E66: 06-330 | F66: Chorzele | G66: 761-15-04-561 | H66: Urząd Miasta i Gminy w Chorzelach | I66: ul. Stanisława Komosińskiego 1, 06-330 Chorzele | J66: 7611194907 | K66: =B66 -> Gmina Chorzele | L66: Wasiły Zygny | M66: - | N66: 06-330 | O66: Chorzele | P66: 133025104 | Q66: PL_ZEWD_1422003142_07 590543570300718982 | R66: 83777427 | S66: 6 | T66: C12A | V66: =X66*0.35 -> 356.65 | W66: =X66-V66 -> 662.35 | X66: 1019 | Z66: oświetlenie uliczne
A67: 63 | B67: =B45 -> Gmina Chorzele | C67: ul. Stanisława Komosińskiego | D67: 1 | E67: 06-330 | F67: Chorzele | G67: 761-15-04-561 | H67: Urząd Miasta i Gminy w Chorzelach | I67: ul. Stanisława Komosińskiego 1, 06-330 Chorzele | J67: 7611194907 | K67: =B67 -> Gmina Chorzele | L67: Opaleniec | M67: - | N67: 06-330 | O67: Chorzele | P67: 133025105 | Q67: PL_ZEWD_1422003138_00 590543570300719026 | R67: 55005264 | S67: 6 | T67: C12A | V67: =X67*0.35 -> 613.55 | W67: =X67-V67 -> 1139.45 | X67: 1753 | Z67: oświetlenie uliczne
A68: 64 | B68: Gmina Chorzele | C68: ul. Stanisława Komosińskiego | D68: 1 | E68: 06-330 | F68: Chorzele | G68: 761-15-04-561 | H68: Urząd Miasta i Gminy w Chorzelach | I68: ul. Stanisława Komosińskiego 1, 06-330 Chorzele | J68: 7611194907 | K68: =B68 -> Gmina Chorzele | L68: Krzynowłoga Wielka | M68: - | N68: 06-330 | O68: Chorzele | P68: 133025106 | Q68: PL_ZEWD_1422003137_08 590543570300719033 | R68: 55005298 | S68: 6 | T68: C12A | V68: =X68*0.35 -> 1256.85 | W68: =X68-V68 -> 2334.15 | X68: 3591 | Z68: oświetlenie uliczne
A69: 65 | B69: Gmina Chorzele | C69: ul. Stanisława Komosińskiego | D69: 1 | E69: 06-330 | F69: Chorzele | G69: 761-15-04-561 | H69: Urząd Miasta i Gminy w Chorzelach | I69: ul. Stanisława Komosińskiego 1, 06-330 Chorzele | J69: 7611194907 | K69: =B69 -> Gmina Chorzele | L69: Rycice | M69: ST 1259 | N69: 06-330 | O69: Chorzele | P69: 133025107 | Q69: PL_ZEWD_1422003135_04 590543570300719057 | R69: 55005343 | S69: 6 | T69: C12A | V69: =X69*0.35 -> 703.85 | W69: =X69-V69 -> 1307.15 | X69: 2011 | Z69: oświetlenie uliczne
A70: 66 | B70: Gmina Chorzele | C70: ul. Stanisława Komosińskiego | D70: 1 | E70: 06-330 | F70: Chorzele | G70: 761-15-04-561 | H70: Urząd Miasta i Gminy w Chorzelach | I70: ul. Stanisława Komosińskiego 1, 06-330 Chorzele | J70: 7611194907 | K70: =B70 -> Gmina Chorzele | L70: Krzynowłoga Wielka | M70: - | N70: 06-330 | O70: Chorzele | P70: 133025108 | Q70: PL_ZEWD_1422003133_00 590543570300719071 | R70: 55005312 | S70: 6 | T70: C12A | V70: =X70*0.35 -> 3876.95 | W70: =X70-V70 -> 7200.05 | X70: 11077 | Z70: oświetlenie uliczne
A71: 67 | B71: Gmina Chorzele | C71: ul. Stanisława Komosińskiego | D71: 1 | E71: 06-330 | F71: Chorzele | G71: 761-15-04-561 | H71: Urząd Miasta i Gminy w Chorzelach | I71: ul. Stanisława Komosińskiego 1, 06-330 Chorzele | J71: 7611194907 | K71: =B71 -> Gmina Chorzele | L71: Rawki | M71: - | N71: 06-333 | O71: Zaręby | P71: 133025109 | Q71: PL_ZEWD_1422003132_08 590543570300719088 | R71: 56922569 | S71: 7 | T71: C12A | V71: =X71*0.35 -> 480.55 | W71: =X71-V71 -> 892.45 | X71: 1373 | Z71: oświetlenie uliczne
A72: 68 | B72: Gmina Chorzele | C72: ul. Stanisława Komosińskiego | D72: 1 | E72: 06-330 | F72: Chorzele | G72: 761-15-04-561 | H72: Urząd Miasta i Gminy w Chorzelach | I72: ul. Stanisława Komosińskiego 1, 06-330 Chorzele | J72: 7611194907 | K72: =B72 -> Gmina Chorzele | L72: Rycice | M72: - | N72: 06-330 | O72: Chorzele | P72: 133025110 | Q72: PL_ZEWD_1422003131_06 590543570300719095 | R72: 55005281 | S72: 6 | T72: C12A | V72: =X72*0.35 -> 615.3 | W72: =X72-V72 -> 1142.7 | X72: 1758 | Z72: oświetlenie uliczne
A73: 69 | B73: Gmina Chorzele | C73: ul. Stanisława Komosińskiego | D73: 1 | E73: 06-330 | F73: Chorzele | G73: 761-15-04-561 | H73: Urząd Miasta i Gminy w Chorzelach | I73: ul. Stanisława Komosińskiego 1, 06-330 Chorzele | J73: 7611194907 | K73: =B73 -> Gmina Chorzele | L73: Rembielin | M73: ST 689 | N73: 06-330 | O73: Chorzele | P73: 133025111 | Q73: PL_ZEWD_1422003130_04 590543570300719101 | R73: 55005265 | S73: 6 | T73: C12A | V73: =X73*0.35 -> 908.95 | W73: =X73-V73 -> 1688.05 | X73: 2597 | Z73: oświetlenie uliczne
A74: 70 | B74: Gmina Chorzele | C74: ul. Stanisława Komosińskiego | D74: 1 | E74: 06-330 | F74: Chorzele | G74: 761-15-04-561 | H74: Urząd Miasta i Gminy w Chorzelach | I74: ul. Stanisława Komosińskiego 1, 06-330 Chorzele | J74: 7611194907 | K74: =B74 -> Gmina Chorzele | L74: Nowa Wieś | M74: ST 1167 | N74: 06-330 | O74: Chorzele | P74: 133025112 | Q74: PL_ZEWD_1422003129_03 590543570300719118 | R74: 83777574 | S74: 6 | T74: C12A | V74: =X74*0.35 -> 1301.3 | W74: =X74-V74 -> 2416.7 | X74: 3718 | Z74: oświetlenie uliczne
A75: 71 | B75: Gmina Chorzele | C75: ul. Stanisława Komosińskiego | D75: 1 | E75: 06-330 | F75: Chorzele | G75: 761-15-04-561 | H75: Urząd Miasta i Gminy w Chorzelach | I75: ul. Stanisława Komosińskiego 1, 06-330 Chorzele | J75: 7611194907 | K75: =B75 -> Gmina Chorzele | L75: Brzeski Kołaki | M75: - | N75: 06-330 | O75: Chorzele | P75: 133025113 | Q75: PL_ZEWD_1422003127_09 590543570300719132 | R75: 83777585 | S75: 6 | T75: C12A | V75: =X75*0.35 -> 627.55 | W75: =X75-V75 -> 1165.45 | X75: 1793 | Z75: oświetlenie uliczne
A76: 72 | B76: Gmina Chorzele | C76: ul. Stanisława Komosińskiego | D76: 1 | E76: 06-330 | F76: Chorzele | G76: 761-15-04-561 | H76: Urząd Miasta i Gminy w Chorzelach | I76: ul. Stanisława Komosińskiego 1, 06-330 Chorzele | J76: 7611194907 | K76: =B76 -> Gmina Chorzele | L76: Budki | M76: - | N76: 06-330 | O76: Chorzele | P76: 133025114 | Q76: PL_ZEWD_1422003126_07 590543570300719149 | R76: 55005367 | S76: 6 | T76: C12A | V76: =X76*0.35 -> 1965.95 | W76: =X76-V76 -> 3651.05 | X76: 5617 | Z76: oświetlenie uliczne
A77: 73 | B77: Gmina Chorzele | C77: ul. Stanisława Komosińskiego | D77: 1 | E77: 06-330 | F77: Chorzele | G77: 761-15-04-561 | H77: Urząd Miasta i Gminy w Chorzelach | I77: ul. Stanisława Komosińskiego 1, 06-330 Chorzele | J77: 7611194907 | K77: =B77 -> Gmina Chorzele | L77: Zdziwój Stary | M77: ST 1327 | N77: 06-330 | O77: Chorzele | P77: 133025115 | Q77: PL_ZEWD_1422003125_05 590543570300719156 | R77: 93585961 | S77: 6 | T77: C12A | V77: =X77*0.35 -> 1751.75 | W77: =X77-V77 -> 3253.25 | X77: 5005 | Z77: oświetlenie uliczne
A78: 74 | B78: Gmina Chorzele | C78: ul. Stanisława Komosińskiego | D78: 1 | E78: 06-330 | F78: Chorzele | G78: 761-15-04-561 | H78: Urząd Miasta i Gminy w Chorzelach | I78: ul. Stanisława Komosińskiego 1, 06-330 Chorzele | J78: 7611194907 | K78: =B78 -> Gmina Chorzele | L78: Przysowy | M78: ST 1227 | N78: 06-330 | O78: Chorzele | P78: 133025116 | Q78: PL_ZEWD_1422003124_03 590543570300719163 | R78: 30496352 | S78: 3 | T78: C12A | V78: =X78*0.35 -> 216.3 | W78: =X78-V78 -> 401.7 | X78: 618 | Z78: oświetlenie uliczne
A79: 75 | B79: Gmina Chorzele | C79: ul. Stanisława Komosińskiego | D79: 1 | E79: 06-330 | F79: Chorzele | G79: 761-15-04-561 | H79: Urząd Miasta i Gminy w Chorzelach | I79: ul. Stanisława Komosińskiego 1, 06-330 Chorzele | J79: 7611194907 | K79: =B79 -> Gmina Chorzele | L79: Stara Wieś | M79: - | N79: 06-330 | O79: Chorzele | P79: 133025117 | Q79: PL_ZEWD_1422003123_01 590543570300719170 | R79: 83777575 | S79: 6 | T79: C12A | V79: =X79*0.35 -> 1554.7 | W79: =X79-V79 -> 2887.3 | X79: 4442 | Z79: oświetlenie uliczne
... A84: 80 | B84: Gmina Chorzele | C84: ul. Stanisława Komosińskiego | D84: 1 | E84: 06-330 | F84: Chorzele | G84: 761-15-04-561 | H84: Urząd Miasta i Gminy w Chorzelach | I84: ul. Stanisława Komosińskiego 1, 06-330 Chorzele | J84: 7611194907 | K84: =B84 -> Gmina Chorzele | L84: Łaz | M84: - | N84: 06-330 | O84: Chorzele | P84: 133628052 | Q84: PL_ZEWD_1422003218_00 590543570300718302 | R84: 55005366 | S84: 6 | T84: C12A | V84: =X84*0.35 -> 523.25 | W84: =X84-V84 -> 971.75 | X84: 1495 | Z84: oświetlenie uliczne
A85: 81 | B85: Gmina Chorzele | C85: ul. Stanisława Komosińskiego | D85: 1 | E85: 06-330 | F85: Chorzele | G85: 761-15-04-561 | H85: Urząd Miasta i Gminy w Chorzelach | I85: ul. Stanisława Komosińskiego 1, 06-330 Chorzele | J85: 7611194907 | K85: OSP Chorzele | L85: ul. Wincentego Witosa | M85: 1 | N85: 06-330 | O85: Chorzele | P85: 131327118 | Q85: PL_ZEWD_1422003152_06 590543570300718883 | R85: 13942294 | S85: 16 | T85: C12A | V85: =X85*0.35 -> 3572.45 | W85: =X85-V85 -> 6634.55 | X85: 10207 | Z85: OSP
A86: 82 | B86: Gmina Chorzele | C86: ul. Stanisława Komosińskiego | D86: 1 | E86: 06-330 | F86: Chorzele | G86: 761-15-04-561 | H86: Urząd Miasta i Gminy w Chorzelach | I86: ul. Stanisława Komosińskiego 1, 06-330 Chorzele | J86: 7611194907 | K86: OSP Rycice | L86: Rycice | M86: 50 | N86: 06-330 | O86: Chorzele | P86: 133621100 | Q86: PL_ZEWD_1422003156_04 590543570300718852 | R86: 30362292 | S86: 16 | T86: C12A | V86: =X86*0.35 -> 5353.95 | W86: =X86-V86 -> 9943.05 | X86: 15297 | Z86: OSP
A87: 83 | B87: Gmina Chorzele | C87: ul. Stanisława Komosińskiego | D87: 1 | E87: 06-330 | F87: Chorzele | G87: 761-15-04-561 | H87: Urząd Miasta i Gminy w Chorzelach | I87: ul. Stanisława Komosińskiego 1, 06-330 Chorzele | J87: 7611194907 | K87: OSP Rzodkiewnica | L87: Rzodkiewnica | M87: 6A | N87: 06-333 | O87: Zaręby | P87: 133642065 | Q87: PL_ZEWD_1422003134_02 590543570300719064 | R87: 56922573 | S87: 10 | T87: C12A | V87: =X87*0.35 -> 1178.1 | W87: =X87-V87 -> 2187.9 | X87: 3366 | Z87: OSP
A88: 84 | B88: Gmina Chorzele | C88: ul. Stanisława Komosińskiego | D88: 1 | E88: 06-330 | F88: Chorzele | G88: 761-15-04-561 | H88: Urząd Miasta i Gminy w Chorzelach | I88: ul. Stanisława Komosińskiego 1, 06-330 Chorzele | J88: 7611194907 | K88: OSP Zdziwój Stary | L88: Zdziwój Stary | M88: 3A | N88: 06-330 | O88: Chorzele | P88: 133603081 | Q88: PL_ZEWD _1422018722_08 590543570300577763 | R88: 94452386 | S88: 14 | T88: C12A | V88: =X88*0.35 -> 673.75 | W88: =X88-V88 -> 1251.25 | X88: 1925 | Z88: OSP
A89: 85 | B89: Gmina Chorzele | C89: ul. Stanisława Komosińskiego | D89: 1 | E89: 06-330 | F89: Chorzele | G89: 761-15-04-561 | H89: Urząd Miasta i Gminy w Chorzelach | I89: ul. Stanisława Komosińskiego 1, 06-330 Chorzele | J89: 7611194907 | K89: Budynek Urzędu Miasta i Gminy w Chorzelach (góra) | L89: Komosińskiego | M89: 1 m. 4 | N89: 06-330 | O89: Chorzele | P89: 131316100 | Q89: PL_ZEWD_1422003512_02 590543570300715776 | R89: 30022377 | S89: 4 | T89: C12A | V89: =X89*0.35 -> 717.85 | W89: =X89-V89 -> 1333.15 | X89: 2051 | Z89: Budynek Urzędu Miasta i Gminy w Chorzelach (góra)
A90: 86 | B90: Gmina Chorzele | C90: ul. Stanisława Komosińskiego | D90: 1 | E90: 06-330 | F90: Chorzele | G90: 761-15-04-561 | H90: Urząd Miasta i Gminy w Chorzelach | I90: ul. Stanisława Komosińskiego 1, 06-330 Chorzele | J90: 7611194907 | K90: Budynek Urzędu Miasta i Gminy w Chorzelach | L90: Komosińskiego | M90: 1 | N90: 06-330 | O90: Chorzele | P90: 131316101 | Q90: PL_ZEWD_1422003109_05 590543570300719286 | R90: 01899407 | S90: 20 | T90: C12A | V90: =X90*0.35 -> 10894.1 | W90: =X90-V90 -> 20231.9 | X90: 31126 | Z90: Budynek Urzędu Miasta i Gminy w Chorzelach
A91: 87 | B91: Gmina Chorzele | C91: ul. Stanisława Komosińskiego | D91: 1 | E91: 06-330 | F91: Chorzele | G91: 761-15-04-561 | H91: Urząd Miasta i Gminy w Chorzelach | I91: ul. Stanisława Komosińskiego 1, 06-330 Chorzele | J91: 7611194907 | K91: Pawilon sportowy | L91: ul. Zygmunta Padlewskiego | M91: 1 | N91: 06-330 | O91: Chorzele | P91: 131306114 | Q91: PL_ZEWD_1422003136_06 590543570300719040 | R91: 56129337 | S91: 26 | T91: C12A | V91: =X91*0.35 -> 4504.15 | W91: =X91-V91 -> 8364.85 | X91: 12869 | Z91: Pawilon sportowy
A92: 88 | B92: Gmina Chorzele | C92: ul. Stanisława Komosińskiego | D92: 1 | E92: 06-330 | F92: Chorzele | G92: 761-15-04-561 | H92: Urząd Miasta i Gminy w Chorzelach | I92: ul. Stanisława Komosińskiego 1, 06-330 Chorzele | J92: 7611194907 | K92: Budynek Gminy (biblioteka i świetlica Zaręby) | L92: Zaręby | M92: 53 | N92: 06-330 | O92: Chorzele | P92: 138001161 | Q92: PL_ZEWD_1422003102_01 590543570300719354 | R92: 13814802 | S92: 17 | T92: C12A | V92: =X92*0.35 -> 100.1 | W92: =X92-V92 -> 185.9 | X92: 286 | Z92: świetlica (w budynku biblioteki)
A93: 89 | B93: Gmina Chorzele | C93: ul. Stanisława Komosińskiego | D93: 1 | E93: 06-330 | F93: Chorzele | G93: 761-15-04-561 | H93: Urząd Miasta i Gminy w Chorzelach | I93: ul. Stanisława Komosińskiego 1, 06-330 Chorzele | J93: 7611194907 | K93: Świetlica Raszujka | L93: Raszujka | M93: dz. 131 | N93: 06-330 | O93: Chorzele | P93: 138007134 | Q93: 590543570300606944 | R93: 30362253 | S93: 16 | T93: C12a | V93: =X93*0.35 -> 700 | W93: =X93-V93 -> 1300 | X93: 2000 | Z93: świetlica
A94: 90 | B94: Gmina Chorzele | C94: ul. Stanisława Komosińskiego | D94: 1 | E94: 06-330 | F94: Chorzele | G94: 761-15-04-561 | H94: Urząd Miasta i Gminy w Chorzelach | I94: ul. Stanisława Komosińskiego 1, 06-330 Chorzele | J94: 7611194907 | K94: Świetlica Zaręby | L94: Zaręby | M94: dz.326/3 | N94: 06-330 | O94: Chorzele | P94: 138001161 | Q94: 590543570300713354 | R94: 13814802 | S94: 17 | T94: C12a | V94: =X94*0.35 -> 700 | W94: =X94-V94 -> 1300 | X94: 2000 | Z94: świetlica
A95: 91 | B95: Gmina Chorzele | C95: ul. Stanisława Komosińskiego | D95: 1 | E95: 06-330 | F95: Chorzele | G95: 761-15-04-561 | H95: Zakład Gospodarki Komunalnej i Mieszkaniowej w Chorzelach | I95: ul. Brzozowa 3, 06-330 Chorzele | J95: 7611573757 | K95: Przepompownia ścieków | L95: Zarębska | M95: - | N95: 06-330 | O95: Chorzele | P95: 131011151 | Q95: PL_ZEWD_1422003115_06 590543570300891043 | R95: 56401146 | S95: 22 | T95: C12A | V95: =X95*0.35 -> 19250 | W95: =X95-V95 -> 35750 | X95: 55000 | Z95: Przepompownia ścieków
A96: 92 | B96: Gmina Chorzele | C96: ul. Stanisława Komosińskiego | D96: 1 | E96: 06-330 | F96: Chorzele | G96: 761-15-04-561 | H96: Zakład Gospodarki Komunalnej i Mieszkaniowej w Chorzelach | I96: ul. Brzozowa 3, 06-330 Chorzele | J96: 7611573757 | K96: Przepompownia ścieków | L96: Budki | M96: dz. 224 | N96: 06-330 | O96: Chorzele | P96: 133632128 | Q96: PL_ZEWD_1422018885_06 590543570300966840 | R96: 94722359 | S96: 11 | T96: C12A | V96: =X96*0.35 -> 304.5 | W96: =X96-V96 -> 565.5 | X96: 870 | Z96: Przepompownia ścieków
A97: 93 | B97: Gmina Chorzele | C97: ul. Stanisława Komosińskiego | D97: 1 | E97: 06-330 | F97: Chorzele | G97: 761-15-04-561 | H97: Zakład Gospodarki Komunalnej i Mieszkaniowej w Chorzelach | I97: ul. Brzozowa 3, 06-330 Chorzele | J97: 7611573757 | K97: Przepompownia ścieków II | L97: Budki | M97: dz. nr 170/2 | N97: 06-330 | O97: Chorzele | P97: 133632127 | Q97: PL_ZEWD_1422018980_04 590543570300995314 | R97: 57007366 | S97: 17 | T97: C12A | V97: =X97*0.35 -> 679 | W97: =X97-V97 -> 1261 | X97: 1940 | Z97: Przepompownia ścieków II
A98: 94 | B98: Gmina Chorzele | C98: ul. Stanisława Komosińskiego | D98: 1 | E98: 06-330 | F98: Chorzele | G98: 761-15-04-561 | H98: Urząd Miasta i Gminy w Chorzelach | I98: ul. Stanisława Komosińskiego 1 06-330 Chorzele | J98: 7611194907 | K98: świetlica wiejska (Krzynowłoga Wielka) | L98: Chorzele | M98: dz. 194/1 | N98: 06-330 | O98: Chorzele | P98: 133616115 | Q98: 590543570300616059 | R98: 13940339 | S98: 10 | T98: C12A | V98: =X98*0.35 -> 350 | W98: =X98-V98 -> 650 | X98: 1000 | Z98: świetlica wiejska (Krzynowłoga Wielka)
A99: 95 | B99: Ośrodek Upowszechniania Kultury w Chorzelach | C99: ul. Ogrodowa | D99: 7 | E99: 06-330 | F99: Chorzele | G99: 761-11-01-142 | H99: Ośrodek Upowszechniania Kultury w Chorzelach | I99: Ogrodowa 7 06-330 Chorzele | J99: - | K99: Ośrodek Upowszechniania Kultury w Chorzelach | L99: Ogrodowa | M99: 7 | N99: 06-330 | O99: Chorzele | P99: 131310079 | Q99: PL_ZEWD_1422003101_09 590543570300719361 | R99: 56129333 | S99: 35 | T99: C12A | V99: =X99*0.35 -> 1052.1 | W99: =X99-V99 -> 1953.9 | X99: 3006 | Z99: Ośrodek Upowszechniania Kultury
A100: 96 | B100: Miejsko Gminna Biblioteka Publiczna w Chorzelach | C100: ul. Ogrodowa | D100: 7 | E100: 06-330 | F100: Chorzele | G100: 761-153-22-21 | H100: Miejsko Gminna Biblioteka Publiczna w Chorzelach | I100: Ogrodowa 7 06-330 Chorzele | J100: - | K100: Miejsko Gminna Biblioteka Publiczna w Chorzelach | L100: Krukowo | M100: 78 | N100: 06-330 | O100: Chorzele | P100: 133637092 | Q100: PL_ZEWD_1422003104_5 590543570300719330 | R100: 56907826 | S100: 6 | T100: C12A | V100: =X100*0.35 -> 1856.4 | W100: =X100-V100 -> 3447.6 | X100: 5304 | Z100: Miejsko Gminna Biblioteka Publiczna
A101: 97 | B101: Miejsko Gminna Biblioteka Publiczna w Chorzelach | C101: ul. Ogrodowa | D101: 7 | E101: 06-330 | F101: Chorzele | G101: 761-153-22-21 | H101: Miejsko Gminna Biblioteka Publiczna w Chorzelach | I101: Ogrodowa 7 06-330 Chorzele | J101: - | K101: Miejsko Gminna Biblioteka Publiczna w Chorzelach | L101: Zaręby | M101: 53 | N101: 06-330 | O101: Chorzele | P101: 133634152 | Q101: PL_ZEWD_1422003103_03 590543570300719347 | R101: 30582519 | S101: 4 | T101: C12A | V101: =X101*0.35 -> 1750 | W101: =X101-V101 -> 3250 | X101: 5000 | Z101: Miejsko Gminna Biblioteka Publiczna
A102: 98 | B102: Miejsko Gminna Biblioteka Publiczna w Chorzelach | C102: ul. Ogrodowa | D102: 7 | E102: 06-330 | F102: Chorzele | G102: 761-153-22-21 | H102: Miejsko Gminna Biblioteka Publiczna w Chorzelach | I102: Ogrodowa 7 06-330 Chorzele | J102: - | K102: Miejsko Gminna Biblioteka Publiczna w Chorzelach | L102: Duczymin | M102: 10 | N102: 06-330 | O102: Chorzele | P102: 133607119 | Q102: PL_ZEWD_1422003105_07 590543570300719323 | R102: 83777589 | S102: 4 | T102: C12A | V102: =X102*0.35 -> 70 | W102: =X102-V102 -> 130 | X102: 200 | Z102: Miejsko Gminna Biblioteka Publiczna
S104: Moc Umowna | X104: Razem
S105: =SUM(S5:S98,S99,S100:S102) -> 805.5 | T105: kW | U105: =SUM(U5:U98,U99,U100:U102) -> 0 | V105: =SUM(V5:V98,V99,V100:V102) -> 202889.75 | W105: =SUM(W5:W98,W99,W100:W102) -> 376795.25 | X105: =SUM(X5:X98,X99,X100:X102) -> 579685 | Y105: kWh

Sheet C21
A1: Załącznik do umowy - Wykaz PPE
A2: Wykaz punktów PPE - Gmina Chorzele
A3: 1. Gmina Chorzele, ul. Komosińskiego 1, 06-330 Chorzele, NIP: 761-150-45-61
A4: Lp. | B4: Nabywca - Podmiot2 | C4: Ulica/ Miejscowość | D4: Nr | E4: Kod | F4: Poczta | G4: Nabywca- NIP | H4: Odbiorca- Podmiot3 | I4: Odbiorca – adres | J4: Odbiorca- NIP | K4: Nazwa punktu poboru | L4: Ulica/ Miejscowość | M4: Nr | N4: Kod | O4: Poczta | P4: Nr ewidencyjny | Q4: Kod PPE | R4: Nr licznika | S4: Moc Umowna | T4: Obecna Taryfa | U4: zużycie przez 12 miesięcy całodobowa (kWh) | V4: zużycie przez 12 miesięcy I strefa (kWh) | W4: zużycie przez 12 miesięcy II strefa (kWh) | X4: zużycie przez 12 miesięcy RAZEM (kWh) | Y4: instalacja fotowoltaiczna | Z4: Funkcja
A5: 1 | B5: Gmina Chorzele | C5: ul. Stanisława Komosińskiego | D5: 1 | E5: 06-330 | F5: Chorzele | G5: 761-15-04-561 | H5: Przedszkole Samorządowe w Chorzelach | I5: ul. Wesoła 1, 06-330 Chorzele | J5: 7611403535 | K5: Przedszkole Samorządowe w Chorzelach | L5: Wesoła | M5: 1 | N5: 06-330 | O5: Chorzele | P5: 131312100 | Q5: PL_ZEWD_1422003100_07 590543570300719378 | R5: 42100545 | S5: 55 | T5: C21 | U5: =X5 -> 44900 | X5: 44900 | Z5: Przedszkole Samorządowe
A6: 2 | B6: Gmina Chorzele | C6: ul. Stanisława Komosińskiego | D6: 1 | E6: 06-330 | F6: Chorzele | G6: 761-15-04-561 | H6: Zakład Gospodarki Komunalnej i Mieszkaniowej w Chorzelach | I6: ul. Brzozowa 3, 06-330 Chorzele | J6: 7611573757 | K6: Stacja Uzdatniania Wody Chorzele | L6: Grunwaldzka | M6: 2 | N6: 06-330 | O6: Chorzele | P6: 130133018 | Q6: PL_ZEWD_1422000647_06 590543570301000031 | R6: 44300195 | S6: 80 | T6: C21 | U6: =X6 -> 315000 | X6: 315000 | Y6: Prosument | Z6: Stacja Uzdatniania Wody Chorzele
S8: Moc Umowna | X8: Razem
S9: =SUM(S5:S8) -> 135 | T9: kW | U9: =SUM(U5:U8) -> 359900 | V9: =SUM(V5:V8) -> 0 | W9: =SUM(W5:W8) -> 0 | X9: =SUM(X5:X8) -> 359900 | Y9: kWh

Sheet B21
A1: Załącznik do umowy - Wykaz PPE
A2: Wykaz punktów PPE - Gmina Chorzele
A3: 1. Gmina Chorzele, ul. Komosińskiego 1, 06-330 Chorzele, NIP: 761-150-45-61
A4: Lp. | B4: Nabywca - Podmiot2 | C4: Ulica/ Miejscowość | D4: Nr | E4: Kod | F4: Poczta | G4: Nabywca- NIP | H4: Odbiorca- Podmiot3 | I4: Odbiorca – adres | J4: Odbiorca- NIP | K4: Nazwa punktu poboru | L4: Ulica/ Miejscowość | M4: Nr | N4: Kod | O4: Poczta | P4: Nr ewidencyjny | Q4: Kod PPE | R4: Nr licznika | S4: Moc Umowna | T4: Obecna Taryfa | U4: zużycie przez 12 miesięcy całodobowa (kWh) | V4: zużycie przez 12 miesięcy I strefa (kWh) | W4: zużycie przez 12 miesięcy II strefa (kWh) | X4: zużycie przez 12 miesięcy RAZEM (kWh) | Y4: instalacja fotowoltaiczna | Z4: Funkcja
A5: 1 | B5: Gmina Chorzele | C5: ul. Stanisława Komosińskiego | D5: 1 | E5: 06-330 | F5: Chorzele | G5: 761-15-04-561 | H5: Zakład Gospodarki Komunalnej i Mieszkaniowej w Chorzelach | I5: ul. Brzozowa 3, 06-330 Chorzele | J5: 7611573757 | K5: Oczyszczalnia ścieków Chorzele | L5: Młynarska | M5: 20 | N5: 06-330 | O5: Chorzele | P5: 132423002 | Q5: PL_ZEWD_1422001224_07 590543570301000109 | R5: 60803933 | S5: 195 | T5: B21 | U5: =X5 -> 842000 | X5: 842000 | Z5: Oczyszczalnia ścieków Chorzele
S7: Moc Umowna | X7: Razem
S8: =S5 -> 195 | T8: kW | U8: =U5 -> 842000 | V8: =V5 -> 0 | W8: =W5 -> 0 | X8: =X5 -> 842000 | Y8: kWh

Sheet moc i zużycie
B1: Moc | C1: Moc przez 12 m-cy | D1: Ilość PPE | E1: Ilość PPE przez 12 m-cy | F1: Zużycie 12 m-cy SUMA (kWh) | G1: Zużycie 12 m-cy CAŁODOBOWA (kWh) | H1: Zużycie 12 m-cy I STREFA (kWh) | I1: Zużycie 12 m-cy II STREFA (kWh) | J1: Opłata mocowa dla PPE z mocą powyżej 16 kW | K1: ilość PPE do 16 kW w szt. | L1: Ilość PPE w szt. zużycie do 500 kWh | M1: Ilość PPE w szt. Zużycie od 500 kWh do 1200 kWh | N1: Ilość PPE w szt. Zużycie od 1200 kWh do 2800 kWh | O1: Ilość PPE w szt. Zużycie powyżej 2800 kWh | P1: zużycie do 500 kWh Ilość PPE w szt. rocznie | Q1: zużycie od 500 kWh do 1200 kWh Ilość PPE w szt. Rocznie | R1: zużycie od 1200 kWh do 2800 kWh ilość PPE w szt. rocznie | S1: zużycie powyżej 2800 kWh Ilość PPE w szt. Rocznie
A2: C11 | B2: ='C11'!S63 -> 577.5 | C2: =B2*12 -> 6930 | D2: ='C11'!A60 -> 56 | E2: =D2*12 -> 672 | F2: ='C11'!X63 -> 441870 | G2: ='C11'!U63 -> 441870 | H2: 0 | I2: 0 | J2: 279526 | K2: =SUM(L2:O2) -> 48 | L2: 18 | M2: 14 | N2: 9 | O2: 7 | P2: =L2*12 -> 216 | Q2: =M2*12 -> 168 | R2: =N2*12 -> 108 | S2: =O2*12 -> 84
A3: C11o | B3: 37 | C3: =B3*12 -> 444 | D3: 27 | E3: =D3*12 -> 324 | F3: 15242 | G3: 15242 | H3: 0 | I3: 0 | J3: 0 | K3: =SUM(L3:O3) -> 27 | L3: 12 | M3: 15 | P3: =L3*12 -> 144 | Q3: =M3*12 -> 180 | R3: =N3*12 -> 0 | S3: =O3*12 -> 0
A4: C12A | B4: 805.5 | C4: =B4*12 -> 9666 | D4: 98 | E4: =D4*12 -> 1176 | F4: 579685 | G4: 0 | H4: 202889.75 | I4: 376795.25 | J4: 136475 | K4: =SUM(L4:O4) -> 86 | L4: 3 | M4: 18 | N4: 25 | O4: 40 | P4: =L4*12 -> 36 | Q4: =M4*12 -> 216 | R4: =N4*12 -> 300 | S4: =O4*12 -> 480
A5: C21 | B5: ='C21'!S9 -> 135 | C5: =B5*12 -> 1620 | D5: ='C21'!A6 -> 2 | E5: =D5*12 -> 24 | F5: ='C21'!X9 -> 359900 | G5: ='C21'!U9 -> 359900 | H5: 0 | I5: 0 | J5: =F5*0.7 -> 251930
A6: B21 | B6: ='B21'!S8 -> 195 | C6: =B6*12 -> 2340 | D6: ='B21'!A5 -> 1 | E6: =D6*12 -> 12 | F6: ='B21'!X8 -> 842000 | G6: ='B21'!U8 -> 842000 | H6: 0 | I6: 0 | J6: =F6*0.7 -> 589400
A7: Razem | B7: =SUM(B2:B6) -> 1750 | C7: =SUM(C2:C6) -> 21000 | D7: =SUM(D2:D6) -> 184 | E7: =SUM(E2:E6) -> 2208 | F7: =SUM(F2:F6) -> 2238697 | G7: =SUM(G2:G6) -> 1659012 | H7: =SUM(H2:H6) -> 202889.75 | I7: =SUM(I2:I6) -> 376795.25 | J7: =SUM(J2:J6) -> 1257331
