Workbook

Sheet razem PPE
A1: Załącznik do umowy - Wykaz PPE
A2: Wykaz punktów PPE - Gmina Chorzele
A3: 1. Gmina Chorzele, ul. Komosińskiego 1, 06-330 Chorzele, NIP: 761-150-45-61
A4: Lp. | B4: Nabywca - Podmiot2 | C4: Ulica/ Miejscowość | D4: Nr | E4: Kod | F4: Poczta | G4: Nabywca- NIP | H4: Odbiorca- Podmiot3 | I4: Odbiorca – adres | J4: Odbiorca- NIP | K4: Nazwa punktu poboru | L4: Ulica/ Miejscowość | M4: Nr | N4: Kod | O4: Poczta | P4: Nr ewidencyjny | Q4: Kod PPE | R4: Nr licznika | S4: Moc Umowna | T4: Obecna Taryfa | U4: zużycie przez 12 miesięcy całodobowa (kWh) | V4: zużycie przez 12 miesięcy I strefa (kWh) | W4: zużycie przez 12 miesięcy II strefa (kWh) | X4: zużycie przez 12 miesięcy RAZEM (kWh) | Y4: instalacja fotowoltaiczna | Z4: Funkcja
A5: 1 | B5: Gmina Chorzele | C5: ul. Stanisława Komosińskiego | D5: 1 | E5: 06-330 | F5: Chorzele | G5: 761-15-04-561 | H5: =K5 -> Centrum Usług Wspólnych w Chorzelach | I5: ul. Grunwaldzka 40, 06-330 Chorzele | J5: 7611562357 | K5: Centrum Usług Wspólnych w Chorzelach | L5: ul. Grunwaldzka | M5: 1 | N5: 06-330 | O5: Chorzele | P5: 131011120 | Q5: PL_ZEWD_1422003141_05 590543570300718999 | R5: 27973387 | S5: 6 | T5: C11 | U5: =X5 -> 3694 | X5: 3694 | Z5: CUW
A6: 2 | B6: Gmina Chorzele | C6: ul. Stanisława Komosińskiego | D6: 1 | E6: 06-330 | F6: Chorzele | G6: 761-15-04-561 | H6: Publiczna Szkoła Podstawowa im. Ojca Honoriusza Kowalczyka w Duczyminie | I6: Duczymin 15, 06-330 Chorzele | J6: 7611403475 | K6: Publiczna Szkoła Podstawowa im. Ojca Honoriusza Kowalczyka w Duczyminie | L6: Duczymin | M6: 15 | N6: 06-330 | O6: Chorzele | P6: 133607118 | Q6: PL_ZEWD_1422003094_08 590543570300719439 | R6: 56729642 | S6: 10 | T6: C12A | V6: =X6*0.35 -> 4585 | W6: =X6-V6 -> 8515 | X6: 13100 | Z6: Publiczna Szkoła Podstawowa
A7: 3 | B7: Gmina Chorzele | C7: ul. Stanisława Komosińskiego | D7: 1 | E7: 06-330 | F7: Chorzele | G7: 761-15-04-561 | H7: Publiczna Szkoła Podstawowa im. Bolesława Chrobrego w Zarębach | I7: Zaręby 41, 06-333 Zareby | J7: 7611403417 | K7: Publiczna Szkoła Podstawowa im. Bolesława Chrobrego w Zarębach | L7: Zaręby | M7: 41 | N7: 06-333 | O7: Zaręby | P7: 133634153 | Q7: PL_ZEWD_1422003091_02 590543570300719460 | R7: 56129332 | S7: 32 | T7: C12A | V7: =X7*0.35 -> 3073 | W7: =X7-V7 -> 5707 | X7: 8780 | Z7: Publiczna Szkoła Podstawowa
A8: 4 | B8: Gmina Chorzele | C8: ul. Stanisława Komosińskiego | D8: 1 | E8: 06-330 | F8: Chorzele | G8: 761-15-04-561 | H8: Publiczna Szkoła Podstawowa im. Bolesława Chrobrego w Zarębach | I8: Zaręby 41, 06-333 Zareby | J8: 7611403417 | K8: Publiczna Szkoła Podstawowa im. Bolesława Chrobrego w Zarębach | L8: Zaręby | M8: 41 | N8: 06-330 | O8: Chorzele | P8: 133634130 | Q8: PL_ZEWD_1422003092_04 590543570300719453 | R8: 56129313 | S8: 36 | T8: C12A | V8: =X8*0.35 -> 3290 | W8: =X8-V8 -> 6110 | X8: 9400 | Z8: Publiczna Szkoła Podstawowa
A9: 5 | B9: Gmina Chorzele | C9: ul. Stanisława Komosińskiego | D9: 1 | E9: 06-330 | F9: Chorzele | G9: 761-15-04-561 | H9: Publiczna Szkoła Podstawowa w Krzynowłodze Wielkiej | I9: Krzynowłoga Wielka 18, 06-330 Chorzele | J9: 7611403386 | K9: Publiczna Szkoła Podstawowa w Krzynowłodze Wielkiej | L9: Krzynowłoga Wielka | M9: 18 | N9: 06-330 | O9: Chorzele | P9: 133616135 | Q9: PL_ZEWD_1422003093_06 59053570300719446 | R9: 56129327 | S9: 25 | T9: C12A | V9: =X9*0.35 -> 2975 | W9: =X9-V9 -> 5525 | X9: 8500 | Z9: Publiczna Szkoła Podstawowa
A10: 6 | B10: Gmina Chorzele | C10: ul. Stanisława Komosińskiego | D10: 1 | E10: 06-330 | F10: Chorzele | G10: 761-15-04-561 | H10: Publiczna Szkoła Podstawowa Nr 2 im. Papieża Jana Pawła II w Chorzelach | I10: Szkolna 4B, 06-330 Chorzele | J10: 7611560565 | K10: Publiczna Szkoła Podstawowa Nr 2 im. Papieża Jana Pawła II w Chorzelach | L10: Szkolna | M10: 4B | N10: 06-330 | O10: Chorzele | P10: 131322129 | Q10: PL_ZEWD_1422003095_00 590543570300719422 | R10: 56129338 | S10: 25 | T10: C11 | U10: =X10 -> 35000 | X10: 35000 | Z10: Publiczna Szkoła Podstawowa
A11: 7 | B11: Gmina Chorzele | C11: ul. Stanisława Komosińskiego | D11: 1 | E11: 06-330 | F11: Chorzele | G11: 761-15-04-561 | H11: Publiczna Szkoła Podstawowa Nr 2 im. Papieża Jana Pawła II w Chorzelach | I11: Szkolna 4B, 06-330 Chorzele | J11: 7611560565 | K11: Publiczna Szkoła Podstawowa Nr 2 im. Papieża Jana Pawła II w Chorzelach | L11: Szkolna | M11: 4B | N11: 06-330 | O11: Chorzele | P11: 131342031 | Q11: PL_ZEWD_1422003098_06 590543570300719392 | R11: 01899567 | S11: 25 | T11: C12A | V11: =X11*0.35 -> 9618 | W11: =X11-V11 -> 17862 | X11: 27480 | Z11: Publiczna Szkoła Podstawowa
A12: 8 | B12: Gmina Chorzele | C12: ul. Stanisława Komosińskiego | D12: 1 | E12: 06-330 | F12: Chorzele | G12: 761-15-04-561 | H12: Publiczna Szkoła Podstawowa w Krukowie | I12: Krukowo 87, 06-333 Zaręby | J12: 7611403593 | K12: Publiczna Szkoła Podstawowa w Krukowie | L12: Krukowo | M12: 87 | N12: 06-333 | O12: Zaręby | P12: 133637091 | Q12: PL_ZEWD_1422003097_04 590543570300719408 | R12: 30450882 | S12: 16 | T12: C12A | V12: =X12*0.35 -> 2625 | W12: =X12-V12 -> 4875 | X12: 7500 | Z12: Publiczna Szkoła Podstawowa
A13: 9 | B13: Gmina Chorzele | C13: ul. Stanisława Komosińskiego | D13: 1 | E13: 06-330 | F13: Chorzele | G13: 761-15-04-561 | H13: Publiczna Szkoła Podstawowa w Pościeniu Wsi | I13: Poścień Wieś 47, 06-330 Chorzele | J13: 7611403400 | K13: Publiczna Szkoła Podstawowa w Pościeniu Wsi | L13: Poścień Wieś | M13: 47 | N13: 06-330 | O13: Chorzele | P13: 133630114 | Q13: PL_ZEWD_1422003096_02 590543570300719415 | R13: 30453545 | S13: 16 | T13: C12A | V13: =X13*0.35 -> 3850 | W13: =X13-V13 -> 7150 | X13: 11000 | Z13: Publiczna Szkoła Podstawowa
A14: 10 | B14: Gmina Chorzele | C14: ul. Stanisława Komosińskiego | D14: 1 | E14: 06-330 | F14: Chorzele | G14: 761-15-04-561 | H14: Przedszkole Samorządowe w Chorzelach | I14: ul. Wesoła 1, 06-330 Chorzele | J14: 7611403535 | K14: Przedszkole Samorządowe w Chorzelach | L14: Wesoła | M14: 1 | N14: 06-330 | O14: Chorzele | P14: 131312100 | Q14: PL_ZEWD_1422003100_07 590543570300719378 | R14: 42100545 | S14: 55 | T14: C21 | U14: =X14 -> 44900 | X14: 44900 | Z14: Przedszkole Samorządowe
A15: 11 | B15: Gmina Chorzele | C15: ul. Stanisława Komosińskiego | D15: 1 | E15: 06-330 | F15: Chorzele | G15: 761-15-04-561 | H15: Urząd Miasta i Gminy w Chorzelach | I15: ul. Stanisława Komosińskiego 1, 06-330 Chorzele | J15: 7611194907 | K15: =B15 -> Gmina Chorzele | L15: Grunwaldzka | M15: - | N15: 06-330 | O15: Chorzele | P15: 131011017 | Q15: PL_ZEWD_1422003224_01 590543570300718241 | R15: 30496360 | S15: 6 | T15: C12A | V15: =X15*0.35 -> 5699.75 | W15: =X15-V15 -> 10585.25 | X15: 16285 | Z15: oświetlenie uliczne
A16: 12 | B16: Gmina Chorzele | C16: ul. Stanisława Komosińskiego | D16: 1 | E16: 06-330 | F16: Chorzele | G16: 761-15-04-561 | H16: Urząd Miasta i Gminy w Chorzelach | I16: ul. Stanisława Komosińskiego 1, 06-330 Chorzele | J16: 7611194907 | K16: =B16 -> Gmina Chorzele | L16: Komosińskiego | M16: ST 3218 | N16: 06-330 | O16: Chorzele | P16: 131011018 | Q16: PL_ZEWD_1422003221_05 590543570300718272 | R16: 56617865 | S16: 6 | T16: C12A | V16: =X16*0.35 -> 3578.4 | W16: =X16-V16 -> 6645.6 | X16: 10224 | Z16: oświetlenie uliczne
A17: 13 | B17: Gmina Chorzele | C17: ul. Stanisława Komosińskiego | D17: 1 | E17: 06-330 | F17: Chorzele | G17: 761-15-04-561 | H17: Urząd Miasta i Gminy w Chorzelach | I17: ul. Stanisława Komosińskiego 1, 06-330 Chorzele | J17: 7611194907 | K17: =B17 -> Gmina Chorzele | L17: Ruda | M17: ST 0701 | N17: 06-330 | O17: Chorzele | P17: 131011019 | Q17: PL_ZEWD_1422003217_08 590543570300718319 | R17: 56619519 | S17: 6 | T17: C12A | V17: =X17*0.35 -> 3072.3 | W17: =X17-V17 -> 5705.7 | X17: 8778 | Z17: oświetlenie uliczne
A18: 14 | B18: Gmina Chorzele | C18: ul. Stanisława Komosińskiego | D18: 1 | E18: 06-330 | F18: Chorzele | G18: 761-15-04-561 | H18: Urząd Miasta i Gminy w Chorzelach | I18: ul. Stanisława Komosińskiego 1, 06-330 Chorzele | J18: 7611194907 | K18: =B18 -> Gmina Chorzele | L18: Zarębska | M18: ST 3223 | N18: 06-330 | O18: Chorzele | P18: 131011020 | Q18: PL_ZEWD_1422003216_06 590543570300718326 | R18: 56617853 | S18: 7 | T18: C12A | V18: =X18*0.35 -> 5581.8 | W18: =X18-V18 -> 10366.2 | X18: 15948 | Z18: oświetlenie uliczne
A19: 15 | B19: Gmina Chorzele | C19: ul. Stanisława Komosińskiego | D19: 1 | E19: 06-330 | F19: Chorzele | G19: 761-15-04-561 | H19: Urząd Miasta i Gminy w Chorzelach | I19: ul. Stanisława Komosińskiego 1, 06-330 Chorzele | J19: 7611194907 | K19: =B19 -> Gmina Chorzele | L19: Grunwaldzka | M19: ST 3216 | N19: 06-330 | O19: Chorzele | P19: 131011021 | Q19: PL_ZEWD_1422003211_06 590543570300718364 | R19: 56617854 | S19: 6 | T19: C12A | V19: =X19*0.35 -> 1817.2 | W19: =X19-V19 -> 3374.8 | X19: 5192 | Z19: oświetlenie uliczne
A20: 16 | B20: Gmina Chorzele | C20: ul. Stanisława Komosińskiego | D20: 1 | E20: 06-330 | F20: Chorzele | G20: 761-15-04-561 | H20: Urząd Miasta i Gminy w Chorzelach | I20: ul. Stanisława Komosińskiego 1, 06-330 Chorzele | J20: 7611194907 | K20: =B20 -> Gmina Chorzele | L20: Ogrodowa | M20: ST 1022 | N20: 06-330 | O20: Chorzele | P20: 131011022 | Q20: PL_ZEWD_1422003206_07 590543570300718418 | R20: 56619518 | S20: 6 | T20: C12A | V20: =X20*0.35 -> 1375.5 | W20: =X20-V20 -> 2554.5 | X20: 3930 | Z20: oświetlenie uliczne
A21: 17 | B21: Gmina Chorzele | C21: ul. Stanisława Komosińskiego | D21: 1 | E21: 06-330 | F21: Chorzele | G21: 761-15-04-561 | H21: Urząd Miasta i Gminy w Chorzelach | I21: ul. Stanisława Komosińskiego 1, 06-330 Chorzele | J21: 7611194907 | K21: =B21 -> Gmina Chorzele | L21: Młynarska | M21: - | N21: 06-330 | O21: Chorzele | P21: 131011023 | Q21: PL_ZEWD_1422003204_03 590543570300718432 | R21: 56617836 | S21: 6 | T21: C12A | V21: =X21*0.35 -> 3195.5 | W21: =X21-V21 -> 5934.5 | X21: 9130 | Z21: oświetlenie uliczne
A22: 18 | B22: Gmina Chorzele | C22: ul. Stanisława Komosińskiego | D22: 1 | E22: 06-330 | F22: Chorzele | G22: 761-15-04-561 | H22: Urząd Miasta i Gminy w Chorzelach | I22: ul. Stanisława Komosińskiego 1, 06-330 Chorzele | J22: 7611194907 | K22: =B22 -> Gmina Chorzele | L22: Zarębska | M22: - | N22: 06-330 | O22: Chorzele | P22: 131011024 | Q22: PL_ZEWD_1422003199_06 590543570300718470 | R22: 55005290 | S22: 6 | T22: C12A | V22: =X22*0.35 -> 1877.4 | W22: =X22-V22 -> 3486.6 | X22: 5364 | Z22: oświetlenie uliczne
A23: 19 | B23: Gmina Chorzele | C23: ul. Stanisława Komosińskiego | D23: 1 | E23: 06-330 | F23: Chorzele | G23: 761-15-04-561 | H23: Urząd Miasta i Gminy w Chorzelach | I23: ul. Stanisława Komosińskiego 1, 06-330 Chorzele | J23: 7611194907 | K23: =B23 -> Gmina Chorzele | L23: Grunwaldzka | M23: ST 3206 | N23: 06-330 | O23: Chorzele | P23: 131011025 | Q23: PL_ZEWD_1422003197_02 590543570300718494 | R23: 30496272 | S23: 6 | T23: C12A | V23: =X23*0.35 -> 4025.35 | W23: =X23-V23 -> 7475.65 | X23: 11501 | Z23: oświetlenie uliczne
A24: 20 | B24: Gmina Chorzele | C24: ul. Stanisława Komosińskiego | D24: 1 | E24: 06-330 | F24: Chorzele | G24: 761-15-04-561 | H24: Urząd Miasta i Gminy w Chorzelach | I24: ul. Stanisława Komosińskiego 1, 06-330 Chorzele | J24: 7611194907 | K24: =B24 -> Gmina Chorzele | L24: ul. Szkolna | M24: ST 3207 | N24: 06-330 | O24: Chorzele | P24: 131011026 | Q24: PL_ZEWD_1422003184_07 590543570300718623 | R24: 55005288 | S24: 6 | T24: C12A | V24: =X24*0.35 -> 1792 | W24: =X24-V24 -> 3328 | X24: 5120 | Z24: oświetlenie uliczne
A25: 21 | B25: Gmina Chorzele | C25: ul. Stanisława Komosińskiego | D25: 1 | E25: 06-330 | F25: Chorzele | G25: 761-15-04-561 | H25: Urząd Miasta i Gminy w Chorzelach | I25: ul. Stanisława Komosińskiego 1, 06-330 Chorzele | J25: 7611194907 | K25: =B25 -> Gmina Chorzele | L25: ul. Stara Targowica | M25: ST 3228 | N25: 06-330 | O25: Chorzele | P25: 131011027 | Q25: PL_ZEWD_1422003183_05 590543570300718630 | R25: 56619520 | S25: 6 | T25: C12A | V25: =X25*0.35 -> 2131.5 | W25: =X25-V25 -> 3958.5 | X25: 6090 | Z25: oświetlenie uliczne
A26: 22 | B26: Gmina Chorzele | C26: ul. Stanisława Komosińskiego | D26: 1 | E26: 06-330 | F26: Chorzele | G26: 761-15-04-561 | H26: Urząd Miasta i Gminy w Chorzelach | I26: ul. Stanisława Komosińskiego 1, 06-330 Chorzele | J26: 7611194907 | K26: =B26 -> Gmina Chorzele | L26: ul. Zygmunta Padlewskiego | M26: ST 3208 | N26: 06-330 | O26: Chorzele | P26: 131011028 | Q26: PL_ZEWD_1422003087_05 590543570300719507 | R26: 56619525 | S26: 6 | T26: C12A | V26: =X26*0.35 -> 8896.3 | W26: =X26-V26 -> 16521.7 | X26: 25418 | Z26: oświetlenie uliczne
... A28: 24 | B28: Gmina Chorzele | C28: ul. Stanisława Komosińskiego | D28: 1 | E28: 06-330 | F28: Chorzele | G28: 761-15-04-561 | H28: Urząd Miasta i Gminy w Chorzelach | I28: ul. Stanisława Komosińskiego 1, 06-330 Chorzele | J28: 7611194907 | K28: =B28 -> Gmina Chorzele | L28: ul. Księżycowa | M28: ST 3211 | N28: 06-330 | O28: Chorzele | P28: 131011031 | Q28: PL_ZEWD_1422003143_09 590543570300718975 | R28: 56617861 | S28: 6 | T28: C12A | V28: =X28*0.35 -> 3032.75 | W28: =X28-V28 -> 5632.25 | X28: 8665 | Z28: oświetlenie uliczne
A29: 25 | B29: Gmina Chorzele | C29: ul. Stanisława Komosińskiego | D29: 1 | E29: 06-330 | F29: Chorzele | G29: 761-15-04-561 | H29: Urząd Miasta i Gminy w Chorzelach | I29: ul. Stanisława Komosińskiego 1, 06-330 Chorzele | J29: 7611194907 | K29: =B29 -> Gmina Chorzele | L29: Grunwaldzka | M29: dz. nr 951 | N29: 06-330 | O29: Chorzele | P29: 131011058 | Q29: PL_ZEWD_1422018451_09 590543570300579842 | R29: 55164816 | S29: 5 | T29: C11o | U29: =X29 -> 472 | X29: 472 | Z29: oświetlenie uliczne
A30: 26 | B30: Gmina Chorzele | C30: ul. Stanisława Komosińskiego | D30: 1 | E30: 06-330 | F30: Chorzele | G30: 761-15-04-561 | H30: Urząd Miasta i Gminy w Chorzelach | I30: ul. Stanisława Komosińskiego 1, 06-330 Chorzele | J30: 7611194907 | K30: Gmina Chorzele | L30: Ignatowskiego | M30: dz. 167/1 | N30: 06-330 | O30: Chorzele | P30: 131011073 | Q30: PL_ZEWD _1422018732_07 590543570300577664 | R30: 31032729 | S30: 1 | T30: C11o | U30: =X30 -> 439 | X30: 439 | Z30: oświetlenie uliczne
A31: 27 | B31: Gmina Chorzele | C31: ul. Stanisława Komosińskiego | D31: 1 | E31: 06-330 | F31: Chorzele | G31: 761-15-04-561 | H31: Urząd Miasta i Gminy w Chorzelach | I31: ul. Stanisława Komosińskiego 1, 06-330 Chorzele | J31: 7611194907 | K31: =B31 -> Gmina Chorzele | L31: Kazimierza Wielkiego | M31: - | N31: 06-330 | O31: Chorzele | P31: 131306115 | Q31: PL_ZEWD_1422003106_09 590543570300719316 | R31: 92112859 | S31: 2 | T31: C12A | V31: =X31*0.35 -> 1251.6 | W31: =X31-V31 -> 2324.4 | X31: 3576 | Z31: oświetlenie uliczne
A32: 28 | B32: Gmina Chorzele | C32: ul. Stanisława Komosińskiego | D32: 1 | E32: 06-330 | F32: Chorzele | G32: 761-15-04-561 | H32: Urząd Miasta i Gminy w Chorzelach | I32: ul. Stanisława Komosińskiego 1, 06-330 Chorzele | J32: 7611194907 | K32: =B32 -> Gmina Chorzele | L32: Kościelna | M32: dz. 1031/3 | N32: 06-330 | O32: Chorzele | P32: 131310077 | Q32: PL_ZEWD_1422003593_06 590543570300715004 | R32: 30391621 | S32: 11 | T32: C12A | V32: =X32*0.35 -> 4967.9 | W32: =X32-V32 -> 9226.1 | X32: 14194 | Z32: oświetlenie uliczne
A33: 29 | B33: Gmina Chorzele | C33: ul. Stanisława Komosińskiego | D33: 1 | E33: 06-330 | F33: Chorzele | G33: 761-15-04-561 | H33: Urząd Miasta i Gminy w Chorzelach | I33: ul. Stanisława Komosińskiego 1, 06-330 Chorzele | J33: 7611194907 | K33: =B33 -> Gmina Chorzele | L33: Padlewskiego | M33: - | N33: 06-330 | O33: Chorzele | P33: 130003082 | Q33: PL_ZEWD_1422003384_03 590543570300716872 | R33: 27872237 | S33: 3 | T33: C11 | U33: =X33 -> 1516 | X33: 1516 | Z33: oświetlenie uliczne
A34: 30 | B34: Gmina Chorzele | C34: ul. Stanisława Komosińskiego | D34: 1 | E34: 06-330 | F34: Chorzele | G34: 761-15-04-561 | H34: Urząd Miasta i Gminy w Chorzelach | I34: ul. Stanisława Komosińskiego 1, 06-330 Chorzele | J34: 7611194907 | K34: Gmina Chorzele | L34: Jana III Sobieskiego | M34: dz. 1712/23 | N34: 06-330 | O34: Chorzele | P34: 131011078 | Q34: PL_ZEWD _1422018773_05 590543570300577350 | R34: 31032875 | S34: 1 | T34: C11o | U34: =X34 -> 540 | X34: 540 | Z34: oświetlenie uliczne
A35: 31 | B35: Gmina Chorzele | C35: ul. Stanisława Komosińskiego | D35: 1 | E35: 06-330 | F35: Chorzele | G35: 761-15-04-561 | H35: Urząd Miasta i Gminy w Chorzelach | I35: ul. Stanisława Komosińskiego 1, 06-330 Chorzele | J35: 7611194907 | K35: Gmina Chorzele | L35: Mickiewicza | M35: dz. 586/12 m 687, 1714 | N35: 06-330 | O35: Chorzele | P35: 133625175 | Q35: PL_ZEWD _1422018772_03 590543570300577367 | R35: 31032841 | S35: 1 | T35: C11o | U35: =X35 -> 890 | X35: 890 | Z35: oświetlenie uliczne
A36: 32 | B36: Gmina Chorzele | C36: ul. Stanisława Komosińskiego | D36: 1 | E36: 06-330 | F36: Chorzele | G36: 761-15-04-561 | H36: Urząd Miasta i Gminy w Chorzelach | I36: ul. Stanisława Komosińskiego 1, 06-330 Chorzele | J36: 7611194907 | K36: =B36 -> Gmina Chorzele | L36: Pruskołęka | M36: - | N36: 06-330 | O36: Chorzele | P36: 133025066 | Q36: PL_ZEWD_1422003225_03 590543570300718234 | R36: 55005365 | S36: 6 | T36: C12A | V36: =X36*0.35 -> 628.25 | W36: =X36-V36 -> 1166.75 | X36: 1795 | Z36: oświetlenie uliczne
A37: 33 | B37: Gmina Chorzele | C37: ul. Stanisława Komosińskiego | D37: 1 | E37: 06-330 | F37: Chorzele | G37: 761-15-04-561 | H37: Urząd Miasta i Gminy w Chorzelach | I37: ul. Stanisława Komosińskiego 1, 06-330 Chorzele | J37: 7611194907 | K37: =B37 -> Gmina Chorzele | L37: Lipowiec | M37: - | N37: 06-330 | O37: Chorzele | P37: 133025067 | Q37: PL_ZEWD_1422003223_09 590543570300718258 | R37: 55005336 | S37: 6 | T37: C12A | V37: =X37*0.35 -> 352.8 | W37: =X37-V37 -> 655.2 | X37: 1008 | Z37: oświetlenie uliczne
A38: 34 | B38: Gmina Chorzele | C38: ul. Stanisława Komosińskiego | D38: 1 | E38: 06-330 | F38: Chorzele | G38: 761-15-04-561 | H38: Urząd Miasta i Gminy w Chorzelach | I38: ul. Stanisława Komosińskiego 1, 06-330 Chorzele | J38: 7611194907 | K38: =B38 -> Gmina Chorzele | L38: Przysowy | M38: - | N38: 06-330 | O38: Chorzele | P38: 133025068 | Q38: PL_ZEWD_1422003222_07 590543570300718265 | R38: 83777520 | S38: 3 | T38: C12A | V38: =X38*0.35 -> 328.65 | W38: =X38-V38 -> 610.35 | X38: 939 | Z38: oświetlenie uliczne
A39: 35 | B39: Gmina Chorzele | C39: ul. Stanisława Komosińskiego | D39: 1 | E39: 06-330 | F39: Chorzele | G39: 761-15-04-561 | H39: Urząd Miasta i Gminy w Chorzelach | I39: ul. Stanisława Komosińskiego 1, 06-330 Chorzele | J39: 7611194907 | K39: =B39 -> Gmina Chorzele | L39: Czaplice Wielkie | M39: - | N39: 06-330 | O39: Chorzele | P39: 133025069 | Q39: PL_ZEWD_1422003220_03 590543570300718289 | R39: 55009161 | S39: 6 | T39: C12A | V39: =X39*0.35 -> 962.5 | W39: =X39-V39 -> 1787.5 | X39: 2750 | Z39: oświetlenie uliczne
A40: 36 | B40: Gmina Chorzele | C40: ul. Stanisława Komosińskiego | D40: 1 | E40: 06-330 | F40: Chorzele | G40: 761-15-04-561 | H40: Urząd Miasta i Gminy w Chorzelach | I40: ul. Stanisława Komosińskiego 1, 06-330 Chorzele | J40: 7611194907 | K40: =B40 -> Gmina Chorzele | L40: Duczymin | M40: ST 1924 | N40: 06-330 | O40: Chorzele | P40: 133025070 | Q40: PL_ZEWD_1422003219_02 590543570300718296 | R40: 83777204 | S40: 6 | T40: C12A | V40: =X40*0.35 -> 1202.95 | W40: =X40-V40 -> 2234.05 | X40: 3437 | Z40: oświetlenie uliczne
A41: 37 | B41: Gmina Chorzele | C41: ul. Stanisława Komosińskiego | D41: 1 | E41: 06-330 | F41: Chorzele | G41: 761-15-04-561 | H41: Urząd Miasta i Gminy w Chorzelach | I41: ul. Stanisława Komosińskiego 1, 06-330 Chorzele | J41: 7611194907 | K41: =B41 -> Gmina Chorzele | L41: Kwiatkowo | M41: - | N41: 06-330 | O41: Chorzele | P41: 133025071 | Q41: PL_ZEWD_1422003215_04 590543570300718333 | R41: 30496344 | S41: 6 | T41: C12A | V41: =X41*0.35 -> 261.8 | W41: =X41-V41 -> 486.2 | X41: 748 | Z41: oświetlenie uliczne
...

Sheet C11
A1: Załącznik do umowy - Wykaz PPE
A2: Wykaz punktów PPE - Gmina Chorzele
A3: 1. Gmina Chorzele, ul. Komosińskiego 1, 06-330 Chorzele, NIP: 761-150-45-61
A4: Lp. | B4: Nabywca - Podmiot2 | C4: Ulica/ Miejscowość | D4: Nr | E4: Kod | F4: Poczta | G4: Nabywca- NIP | H4: Odbiorca- Podmiot3 | I4: Odbiorca – adres | J4: Odbiorca- NIP | K4: Nazwa punktu poboru | L4: Ulica/ Miejscowość | M4: Nr | N4: Kod | O4: Poczta | P4: Nr ewidencyjny | Q4: Kod PPE | R4: Nr licznika | S4: Moc Umowna | T4: Obecna Taryfa | U4: zużycie przez 12 miesięcy całodobowa (kWh) | V4: zużycie przez 12 miesięcy I strefa (kWh) | W4: zużycie przez 12 miesięcy II strefa (kWh) | X4: zużycie przez 12 miesięcy RAZEM (kWh) | Y4: instalacja fotowoltaiczna | Z4: Funkcja
A5: 1 | B5: Gmina Chorzele | C5: ul. Stanisława Komosińskiego | D5: 1 | E5: 06-330 | F5: Chorzele | G5: 761-15-04-561 | H5: =K5 -> Centrum Usług Wspólnych w Chorzelach | I5: ul. Grunwaldzka 40, 06-330 Chorzele | J5: 7611562357 | K5: Centrum Usług Wspólnych w Chorzelach | L5: ul. Grunwaldzka | M5: 1 | N5: 06-330 | O5: Chorzele | P5: 131011120 | Q5: PL_ZEWD_1422003141_05 590543570300718999 | R5: 27973387 | S5: 6 | T5: C11 | U5: =X5 -> 3694 | X5: 3694 | Z5: CUW
A6: 2 | B6: Gmina Chorzele | C6: ul. Stanisława Komosińskiego | D6: 1 | E6: 06-330 | F6: Chorzele | G6: 761-15-04-561 | H6: Publiczna Szkoła Podstawowa Nr 2 im. Papieża Jana Pawła II w Chorzelach | I6: Szkolna 4B, 06-330 Chorzele | J6: 7611560565 | K6: Publiczna Szkoła Podstawowa Nr 2 im. Papieża Jana Pawła II w Chorzelach | L6: Szkolna | M6: 4B | N6: 06-330 | O6: Chorzele | P6: 131322129 | Q6: PL_ZEWD_1422003095_00 590543570300719422 | R6: 56129338 | S6: 25 | T6: C11 | U6: =X6 -> 35000 | X6: 35000 | Z6: Publiczna Szkoła Podstawowa
A7: 3 | B7: Gmina Chorzele | C7: ul. Stanisława Komosińskiego | D7: 1 | E7: 06-330 | F7: Chorzele | G7: 761-15-04-561 | H7: Urząd Miasta i Gminy w Chorzelach | I7: ul. Stanisława Komosińskiego 1, 06-330 Chorzele | J7: 7611194907 | K7: =B7 -> Gmina Chorzele | L7: Padlewskiego | M7: - | N7: 06-330 | O7: Chorzele | P7: 130003082 | Q7: PL_ZEWD_1422003384_03 590543570300716872 | R7: 27872237 | S7: 3 | T7: C11 | U7: =X7 -> 1516 | X7: 1516 | Z7: oświetlenie uliczne
A8: 4 | B8: Gmina Chorzele | C8: ul. Stanisława Komosińskiego | D8: 1 | E8: 06-330 | F8: Chorzele | G8: 761-15-04-561 | H8: Urząd Miasta i Gminy w Chorzelach | I8: ul. Stanisława Komosińskiego 1, 06-330 Chorzele | J8: 7611194907 | K8: =B8 -> Gmina Chorzele | L8: Krukowo | M8: - | N8: 06-333 | O8: Zaręby | P8: 133025119 | Q8: PL_ZEWD_1422003121_07 590543570300719194 | R8: 92915129 | S8: 2 | T8: C11 | U8: =X8 -> 299 | X8: 299 | Z8: oświetlenie uliczne
A9: 5 | B9: Gmina Chorzele | C9: ul. Stanisława Komosińskiego | D9: 1 | E9: 06-330 | F9: Chorzele | G9: 761-15-04-561 | H9: Urząd Miasta i Gminy w Chorzelach | I9: ul. Stanisława Komosińskiego 1, 06-330 Chorzele | J9: 7611194907 | K9: =B9 -> Gmina Chorzele | L9: Zaręby | M9: - | N9: 06-333 | O9: Zaręby | P9: 133025122 | Q9: PL_ZEWD_1422003117_00 590543570300719231 | R9: 92915128 | S9: 2 | T9: C11 | U9: =X9 -> 1108 | X9: 1108 | Z9: oświetlenie uliczne
A10: 6 | B10: Gmina Chorzele | C10: ul. Stanisława Komosińskiego | D10: 1 | E10: 06-330 | F10: Chorzele | G10: 761-15-04-561 | H10: Urząd Miasta i Gminy w Chorzelach | I10: ul. Stanisława Komosińskiego 1, 06-330 Chorzele | J10: 7611194907 | K10: =B10 -> Gmina Chorzele | L10: Łaz | M10: - | N10: 06-330 | O10: Chorzele | P10: 133628042 | Q10: PL_ZEWD_1422003282_01 590543570300717763 | R10: 25008073 | S10: 1 | T10: C11 | U10: =X10 -> 195 | X10: 195 | Z10: oświetlenie uliczne
A11: 7 | B11: Gmina Chorzele | C11: ul. Stanisława Komosińskiego | D11: 2 | E11: 06-331 | F11: Chorzele | G11: 761-15-04-562 | H11: Urząd Miasta i Gminy w Chorzelach | I11: ul. Stanisława Komosińskiego 1, 06-330 Chorzele | J11: 7611194907 | K11: Gmina Chorzele | L11: Gadomiec Peronie | M11: dz. 18 | N11: 06-331 | O11: Chorzele | P11: 130771395 | Q11: 590543570301078399 | R11: 31080949 | S11: 1 | T11: C11 | U11: =X11 -> 62 | X11: 62 | Z11: oświetlenie uliczne
A12: 8 | B12: Gmina Chorzele | C12: ul. Stanisława Komosińskiego | D12: 1 | E12: 06-330 | F12: Chorzele | G12: 761-15-04-561 | H12: Urząd Miasta i Gminy w Chorzelach | I12: ul. Stanisława Komosińskiego 1, 06-330 Chorzele | J12: 7611194907 | K12: Świetlica Bagienice | L12: Bagienice | M12: 37 | N12: 06-330 | O12: Chorzele | P12: 133612054 | Q12: PL_ZEWD_1422003114_04 590543570300719255 | R12: 94635042 | S12: 10 | T12: C11 | U12: =X12 -> 129 | X12: 129 | Z12: świetlica
A13: 9 | B13: Gmina Chorzele | C13: ul. Stanisława Komosińskiego | D13: 1 | E13: 06-330 | F13: Chorzele | G13: 761-15-04-561 | H13: Urząd Miasta i Gminy w Chorzelach | I13: ul. Stanisława Komosińskiego 1, 06-330 Chorzele | J13: 7611194907 | K13: Świetlica Przyowy | L13: Przysowy | M13: 3 | N13: 06-330 | O13: Chorzele | P13: 133633080 | Q13: PL_ZEWD_1422003112_00 590543570300719262 | R13: 11568246 | S13: 10 | T13: C11 | U13: =X13 -> 3867 | X13: 3867 | Z13: świetlica
A14: 10 | B14: Gmina Chorzele | C14: ul. Stanisława Komosińskiego | D14: 1 | E14: 06-330 | F14: Chorzele | G14: 761-15-04-561 | H14: Urząd Miasta i Gminy w Chorzelach | I14: ul. Stanisława Komosińskiego 1, 06-330 Chorzele | J14: 7611194907 | K14: Świetlica Rawki | L14: Rawki | M14: 27 | N14: 06-333 | O14: Zaręby | P14: 133641042 | Q14: PL_ZEWD_1422003108_03 590543570300719293 | R14: 28296847 | S14: 4 | T14: C11 | U14: =X14 -> 0 | X14: 0 | Z14: świetlica
A15: 11 | B15: Gmina Chorzele | C15: ul. Stanisława Komosińskiego | D15: 1 | E15: 06-330 | F15: Chorzele | G15: 761-15-04-561 | H15: Urząd Miasta i Gminy w Chorzelach | I15: ul. Stanisława Komosińskiego 1, 06-330 Chorzele | J15: 7611194907 | K15: Świetlica Nowa Wieś Zarębska | L15: Nowa Wieś Zarębska | M15: 25 | N15: 06-333 | O15: Zaręby | P15: 133639049 | Q15: PL_ZEWD_1422003139_02 590543570300719019 | R15: 82499029 | S15: 10 | T15: C11 | U15: =X15 -> 0 | X15: 0 | Z15: świetlica
A16: 12 | B16: Gmina Chorzele | C16: ul. Stanisława Komosińskiego | D16: 1 | E16: 06-330 | F16: Chorzele | G16: 761-15-04-561 | H16: Urząd Miasta i Gminy w Chorzelach | I16: ul. Stanisława Komosińskiego 1, 06-330 Chorzele | J16: 7611194907 | K16: Świetlica Krukowo | L16: Krukowo | M16: 78 | N16: 06-333 | O16: Zaręby | P16: 133638093 | Q16: PL_ZEWD _1422017008_09 590543570300593138 | R16: 30360902 | S16: 16 | T16: C11 | U16: =X16 -> 1588 | X16: 1588 | Z16: Świetlica
A17: 13 | B17: Gmina Chorzele | C17: ul. Stanisława Komosińskiego | D17: 1 | E17: 06-330 | F17: Chorzele | G17: 761-15-04-561 | H17: Urząd Miasta i Gminy w Chorzelach | I17: ul. Stanisława Komosińskiego 1, 06-330 Chorzele | J17: 7611194907 | K17: Świetlica Rembielin | L17: Rembielin | M17: 26 | N17: 06-330 | O17: Chorzele | P17: 133620089 | Q17: PL_ZEWD _1422011413_08 590543570300644069 | R17: 56729375 | S17: 16 | T17: C11 | U17: =X17 -> 18793 | X17: 18793 | Z17: Świetlica
A18: 14 | B18: Gmina Chorzele | C18: ul. Stanisława Komosińskiego | D18: 1 | E18: 06-330 | F18: Chorzele | G18: 761-15-04-561 | H18: Urząd Miasta i Gminy w Chorzelach | I18: ul. Stanisława Komosińskiego 1, 06-330 Chorzele | J18: 7611194907 | K18: Świetlica Poścień Wieś | L18: Poścień Wieś | M18: 16 (dz. 328/1) | N18: 06-330 | O18: Chorzele | P18: 133630124 | Q18: PL_ZEWD _1422017937_06 590543570300584426 | R18: 82499030 | S18: 16 | T18: C11 | U18: =X18 -> 6050 | X18: 6050 | Z18: świetlica
A19: 15 | B19: Gmina Chorzele | C19: ul. Stanisława Komosińskiego | D19: 1 | E19: 06-330 | F19: Chorzele | G19: 761-15-04-561 | H19: Urząd Miasta i Gminy w Chorzelach | I19: ul. Stanisława Komosińskiego 1, 06-330 Chorzele | J19: 7611194907 | K19: OSP Pruskołęka | L19: Pruskołęka | M19: 12A | N19: 06-330 | O19: Chorzele | P19: 133629043 | Q19: PL_ZEWD_1422002939_09 590543570300720794 | R19: 56628067 | S19: 10 | T19: C11 | U19: =X19 -> 1394 | X19: 1394 | Z19: OSP
A20: 16 | B20: Gmina Chorzele | C20: ul. Stanisława Komosińskiego | D20: 1 | E20: 06-330 | F20: Chorzele | G20: 761-15-04-561 | H20: Urząd Miasta i Gminy w Chorzelach | I20: ul. Stanisława Komosińskiego 1, 06-330 Chorzele | J20: 7611194907 | K20: OSP Nowa Wieś | L20: Nowa Wieś | M20: 14 | N20: 06-330 | O20: Chorzele | P20: 133606022 | Q20: PL_ZEWD_1422004054_09 590543570300710856 | R20: 10661627 | S20: 8.5 | T20: C11 | U20: =X20 -> 2134 | X20: 2134 | Z20: OSP
A21: 17 | B21: Gmina Chorzele | C21: ul. Stanisława Komosińskiego | D21: 1 | E21: 06-330 | F21: Chorzele | G21: 761-15-04-561 | H21: Urząd Miasta i Gminy w Chorzelach | I21: ul. Stanisława Komosińskiego 1, 06-330 Chorzele | J21: 7611194907 | K21: OSP Zaręby | L21: Zaręby | M21: 77 | N21: 06-333 | O21: Zaręby | P21: 133634166 | Q21: PL_ZEWD _1422018011_01 590543570300583740 | R21: 13979822 | S21: 16 | T21: C11 | U21: =X21 -> 9345 | X21: 9345 | Z21: OSP
A22: 18 | B22: Gmina Chorzele | C22: ul. Stanisława Komosińskiego | D22: 1 | E22: 06-330 | F22: Chorzele | G22: 761-15-04-561 | H22: Urząd Miasta i Gminy w Chorzelach | I22: ul. Stanisława Komosińskiego 1, 06-330 Chorzele | J22: 7611194907 | K22: OSP Budki | L22: Budki | M22: 52B | N22: 06-330 | O22: Chorzele | P22: 133632112 | Q22: PL_ZEWD _1422010938_09 590543570300648326 | R22: 12642950 | S22: 10 | T22: C11 | U22: =X22 -> 9744 | X22: 9744 | Z22: OSP
A23: 19 | B23: Gmina Chorzele | C23: ul. Stanisława Komosińskiego | D23: 1 | E23: 06-330 | F23: Chorzele | G23: 761-15-04-561 | H23: Urząd Miasta i Gminy w Chorzelach | I23: ul. Stanisława Komosińskiego 1, 06-330 Chorzele | J23: 7611194907 | K23: OSP Duczymin | L23: Duczymin | M23: 10A | N23: 06-330 | O23: Chorzele | P23: 133607131 | Q23: PL_ZEWD _1422007004_05 590543570300684485 | R23: 30471327 | S23: 16 | T23: C11 | U23: =X23 -> 650 | X23: 650 | Z23: OSP
A24: 20 | B24: Gmina Chorzele | C24: ul. Stanisława Komosińskiego | D24: 1 | E24: 06-330 | F24: Chorzele | G24: 761-15-04-561 | H24: Urząd Miasta i Gminy w Chorzelach | I24: ul. Stanisława Komosińskiego 1, 06-330 Chorzele | J24: 7611194907 | K24: Mieszkanie komunalne | L24: ul. Żabia | M24: 1 | N24: 06-330 | O24: Chorzele | P24: 131327120 | Q24: PL_ZEWD_1422003140_03 590543570300719002 | R24: 13408149 | S24: 6 | T24: C11 | U24: =X24 -> 0 | X24: 0 | Z24: mieszkanie komunalne
A25: 21 | B25: Gmina Chorzele | C25: ul. Stanisława Komosińskiego | D25: 1 | E25: 06-330 | F25: Chorzele | G25: 761-15-04-561 | H25: Urząd Miasta i Gminy w Chorzelach | I25: ul. Stanisława Komosińskiego 1, 06-330 Chorzele | J25: 7611194907 | K25: Budynek Gminy | L25: Łaz | M25: 77 | N25: 06-333 | O25: Zaręby | P25: 130771196 | Q25: PL_ZEWD_1422003099_08 590543570300719385 | R25: 94635045 | S25: 10 | T25: C11 | U25: =X25 -> 792 | X25: 792 | Z25: budynek gminy (po punkcie przedszkolnym)
A26: 22 | B26: Gmina Chorzele | C26: ul. Stanisława Komosińskiego | D26: 1 | E26: 06-330 | F26: Chorzele | G26: 761-15-04-561 | H26: Urząd Miasta i Gminy w Chorzelach | I26: ul. Stanisława Komosińskiego 1, 06-330 Chorzele | J26: 7611194907 | K26: Pompownia ścieków | L26: ul. Cmentarna | M26: dz. 1602/3 | N26: 06-330 | O26: Chorzele | P26: 131313067 | Q26: 590543570301083744 | R26: 31477422 | S26: 10 | T26: C11 | U26: =X26 -> 2000 | X26: 2000 | Z26: pompownia ścieków
A27: 23 | B27: Gmina Chorzele | C27: ul. Stanisława Komosińskiego | D27: 1 | E27: 06-330 | F27: Chorzele | G27: 761-15-04-561 | H27: Urząd Miasta i Gminy w Chorzelach | I27: ul. Stanisława Komosińskiego 1, 06-330 Chorzele | J27: 7611194907 | K27: Gmina Chorzele | L27: Gadomiec Peronie | M27: dz. 18 | N27: 06-330 | O27: Chorzele | P27: 130771395 | Q27: 590543570301078399 | R27: 31080949 | S27: 1 | T27: C11 | U27: =X27 -> 200 | X27: 200 | Z27: oświetlenie uliczne
A28: 24 | B28: Gmina Chorzele | C28: ul. Stanisława Komosińskiego | D28: 1 | E28: 006-330 | F28: Chorzele | G28: 761-15-04-561 | H28: Urząd Miasta i Gminy w Chorzelach | I28: ul. Stanisława Komosińskiego 1, 06-330 Chorzele | J28: 7611194907 | K28: Gmina Chorzele (oświetlenie uliczne) | L28: Krzynowłoga Wielka | M28: dz. 144 | N28: 06-330 | O28: Chorzele | P28: 138001170 | Q28: 590543570301088664 | R28: 31218449 | S28: 1 | T28: C11 | U28: =X28 -> 200 | X28: 200 | Z28: oświetlenie uliczne
A29: 25 | B29: Gmina Chorzele | C29: ul. Stanisława Komosińskiego | D29: 1 | E29: 06-330 | F29: Chorzele | G29: 761-15-04-561 | H29: Urząd Miasta i Gminy w Chorzelach | I29: ul. Stanisława Komosińskiego 1, 06-330 Chorzele | J29: 7611194907 | K29: Gmina Chorzele (oświetlenie uliczne) | L29: Bagienice | M29: dz. 141 | N29: 06-330 | O29: Chorzele | P29: 133612107 | Q29: 590543570301088640 | R29: 31218437 | S29: 1 | T29: C11 | U29: =X29 -> 200 | X29: 200 | Z29: oświetlenie uliczne
A30: 26 | B30: Gmina Chorzele | C30: ul. Stanisława Komosińskiego | D30: 1 | E30: 06-330 | F30: Chorzele | G30: 761-15-04-561 | H30: Zakład Gospodarki Komunalnej i Mieszkaniowej w Chorzelach | I30: ul. Brzozowa 3, 06-330 Chorzele | J30: 7611573757 | K30: Zasilanie pompy kanalizacji | L30: ul. Grunwaldzka | M30: dz. nr 1070/36 | N30: 06-330 | O30: Chorzele | P30: 138001085 | Q30: PL_ZEWD_1422019983_07 590543570301000208 | R30: 56630327 | S30: 4 | T30: C11 | U30: =X30 -> 117 | X30: 117 | Z30: zasilanie pompy kanalizacji
A31: 27 | B31: Gmina Chorzele | C31: ul. Stanisława Komosińskiego | D31: 1 | E31: 06-330 | F31: Chorzele | G31: 761-15-04-561 | H31: Zakład Gospodarki Komunalnej i Mieszkaniowej w Chorzelach | I31: ul. Brzozowa 3, 06-330 Chorzele | J31: 7611573757 | K31: Zasilanie pompy kanalizacji | L31: ul. Spokojna | M31: dz. nr 1559 | N31: 06-330 | O31: Chorzele | P31: 138001086 | Q31: PL_ZEWD_1422020026_00 590543570301042475 | R31: 13980427 | S31: 7 | T31: C11 | U31: =X31 -> 196 | X31: 196 | Z31: zasilanie pompy kanalizacji
A32: 28 | B32: Gmina Chorzele | C32: ul. Stanisława Komosińskiego | D32: 1 | E32: 06-330 | F32: Chorzele | G32: 761-15-04-561 | H32: Zakład Gospodarki Komunalnej i Mieszkaniowej w Chorzelach | I32: ul. Brzozowa 3, 06-330 Chorzele | J32: 7611573757 | K32: Targowisko - Etap I | L32: ul. Zarębska | M32: dz. nr 226 | N32: 06-330 | O32: Chorzele | P32: 10757318 | Q32: PL_ZEWD_1422001159_06 590543570300872097 | R32: 56147062 | S32: 25 | T32: C11 | U32: =X32 -> 3215 | X32: 3215 | Z32: Targowisko Miejskie
A33: 29 | B33: Gmina Chorzele | C33: ul. Stanisława Komosińskiego | D33: 1 | E33: 06-330 | F33: Chorzele | G33: 761-15-04-561 | H33: Zakład Gospodarki Komunalnej i Mieszkaniowej w Chorzelach | I33: ul. Brzozowa 3, 06-330 Chorzele | J33: 7611573757 | K33: Klub Opaleniec | L33: Opaleniec 32 | M33: 32 | N33: 06-330 | O33: Chorzele | P33: 133623108 | Q33: 590543570300995901 | R33: 31032836 | S33: 6 | T33: C11 | U33: =X33 -> 8 | X33: 8 | Z33: Klub Opaleniec
A34: 30 | B34: Gmina Chorzele | C34: ul. Stanisława Komosińskiego | D34: 1 | E34: 06-330 | F34: Chorzele | G34: 761-15-04-561 | H34: Zakład Gospodarki Komunalnej i Mieszkaniowej w Chorzelach | I34: ul. Brzozowa 3, 06-330 Chorzele | J34: 7611573757 | K34: Biuro ZGKiM | L34: Brzozowa 3 | M34: 3 | N34: 06-330 | O34: Chorzele | P34: 131011155 | Q34: PL_ZEWD_1422000637_07 590543570300999954 | R34: 56212651 | S34: 25 | T34: C11 | U34: =X34 -> 1845 | X34: 1845 | Z34: Biuro ZGKiM
A35: 31 | B35: Gmina Chorzele | C35: ul. Stanisława Komosińskiego | D35: 1 | E35: 06-330 | F35: Chorzele | G35: 761-15-04-561 | H35: Zakład Gospodarki Komunalnej i Mieszkaniowej w Chorzelach | I35: ul. Brzozowa 3, 06-330 Chorzele | J35: 7611573757 | K35: Stacja Uzdatniania Wody | L35: Nowa Wieś | M35: - | N35: 06-330 | O35: Chorzele | P35: 133606073 | Q35: PL_ZEWD_1422000642_06 590543570301000000 | R35: 56212648 | S35: 25 | T35: C11 | U35: =X35 -> 60024 | X35: 60024 | Z35: Stacja Uzdatniania Wody
A36: 32 | B36: Gmina Chorzele | C36: ul. Stanisława Komosińskiego | D36: 1 | E36: 06-330 | F36: Chorzele | G36: 761-15-04-561 | H36: Zakład Gospodarki Komunalnej i Mieszkaniowej w Chorzelach | I36: ul. Brzozowa 3, 06-330 Chorzele | J36: 7611573757 | K36: Przepompownia ścieków | L36: Mostowa | M36: - | N36: 06-330 | O36: Chorzele | P36: 131011157 | Q36: PL_ZEWD_1422000640_02 590543570300999985 | R36: 14240614 | S36: 10 | T36: C11 | U36: =X36 -> 5352 | X36: 5352 | Z36: Przepompownia ścieków
A37: 33 | B37: Gmina Chorzele | C37: ul. Stanisława Komosińskiego | D37: 1 | E37: 06-330 | F37: Chorzele | G37: 761-15-04-561 | H37: Zakład Gospodarki Komunalnej i Mieszkaniowej w Chorzelach | I37: ul. Brzozowa 3, 06-330 Chorzele | J37: 7611573757 | K37: Przepompownia ścieków | L37: Zygmunta Padlewskiego | M37: - | N37: 06-330 | O37: Chorzele | P37: 131011158 | Q37: PL_ZEWD_1422000648_08 590543570301000048 | R37: 30391637 | S37: 10 | T37: C11 | U37: =X37 -> 1678 | X37: 1678 | Z37: Przepompownia ścieków
A38: 34 | B38: Gmina Chorzele | C38: ul. Stanisława Komosińskiego | D38: 1 | E38: 06-330 | F38: Chorzele | G38: 761-15-04-561 | H38: Zakład Gospodarki Komunalnej i Mieszkaniowej w Chorzelach | I38: ul. Brzozowa 3, 06-330 Chorzele | J38: 7611573757 | K38: Przepompownia ścieków | L38: Ruda | M38: - | N38: 06-330 | O38: Chorzele | P38: 131011159 | Q38: PL_ZEWD_1422000649_00 590543570301000055 | R38: 56129345 | S38: 25 | T38: C11 | U38: =X38 -> 24383 | X38: 24383 | Z38: Przepompownia ścieków
A39: 35 | B39: Gmina Chorzele | C39: ul. Stanisława Komosińskiego | D39: 1 | E39: 06-330 | F39: Chorzele | G39: 761-15-04-561 | H39: Zakład Gospodarki Komunalnej i Mieszkaniowej w Chorzelach | I39: ul. Brzozowa 3, 06-330 Chorzele | J39: 7611573757 | K39: Stacja Uzdatniania Wody | L39: Bagienice | M39: - | N39: 06-330 | O39: Chorzele | P39: 133612098 | Q39: PL_ZEWD_1422000635_03 590543570300999930 | R39: 56129369 | S39: 25 | T39: C11 | U39: =X39 -> 410 | X39: 410 | Z39: Stacja Uzdatniania Wody
A40: 36 | B40: Gmina Chorzele | C40: ul. Stanisława Komosińskiego | D40: 1 | E40: 06-330 | F40: Chorzele | G40: 761-15-04-561 | H40: Zakład Gospodarki Komunalnej i Mieszkaniowej w Chorzelach | I40: ul. Brzozowa 3, 06-330 Chorzele | J40: 7611573757 | K40: Stacja Uzdatniania Wody | L40: Rycice | M40: - | N40: 06-330 | O40: Chorzele | P40: 133017105 | Q40: PL_ZEWD_1422000639_01 590543570300999978 | R40: 1899676 | S40: 20 | T40: C11 | U40: =X40 -> 24550 | X40: 24550 | Z40: Stacja Uzdatniania Wody
...

Sheet C11o
A1: Załącznik do umowy - Wykaz PPE
A2: Wykaz punktów PPE - Gmina Chorzele
A3: 1. Gmina Chorzele, ul. Komosińskiego 1, 06-330 Chorzele, NIP: 761-150-45-61
A4: Lp. | B4: Nabywca - Podmiot2 | C4: Ulica/ Miejscowość | D4: Nr | E4: Kod | F4: Poczta | G4: Nabywca- NIP | H4: Odbiorca- Podmiot3 | I4: Odbiorca – adres | J4: Odbiorca- NIP | K4: Nazwa punktu poboru | L4: Ulica/ Miejscowość | M4: Nr | N4: Kod | O4: Poczta | P4: Nr ewidencyjny | Q4: Kod PPE | R4: Nr licznika | S4: Moc Umowna | T4: Obecna Taryfa | U4: zużycie przez 12 miesięcy całodobowa (kWh) | V4: zużycie przez 12 miesięcy I strefa (kWh) | W4: zużycie przez 12 miesięcy II strefa (kWh) | X4: zużycie przez 12 miesięcy RAZEM (kWh) | Y4: instalacja fotowoltaiczna | Z4: Funkcja
A5: 1 | B5: Gmina Chorzele | C5: ul. Stanisława Komosińskiego | D5: 1 | E5: 06-330 | F5: Chorzele | G5: 761-15-04-561 | H5: Urząd Miasta i Gminy w Chorzelach | I5: ul. Stanisława Komosińskiego 1, 06-330 Chorzele | J5: 7611194907 | K5: =B5 -> Gmina Chorzele | L5: Grunwaldzka | M5: dz. nr 951 | N5: 06-330 | O5: Chorzele | P5: 131011058 | Q5: PL_ZEWD_1422018451_09 590543570300579842 | R5: 55164816 | S5: 5 | T5: C11o | U5: =X5 -> 472 | X5: 472 | Z5: oświetlenie uliczne
A6: 2 | B6: Gmina Chorzele | C6: ul. Stanisława Komosińskiego | D6: 1 | E6: 06-330 | F6: Chorzele | G6: 761-15-04-561 | H6: Urząd Miasta i Gminy w Chorzelach | I6: ul. Stanisława Komosińskiego 1, 06-330 Chorzele | J6: 7611194907 | K6: Gmina Chorzele | L6: Ignatowskiego | M6: dz. 167/1 | N6: 06-330 | O6: Chorzele | P6: 131011073 | Q6: PL_ZEWD _1422018732_07 590543570300577664 | R6: 31032729 | S6: 1 | T6: C11o | U6: =X6 -> 439 | X6: 439 | Z6: oświetlenie uliczne
A7: 3 | B7: Gmina Chorzele | C7: ul. Stanisława Komosińskiego | D7: 1 | E7: 06-330 | F7: Chorzele | G7: 761-15-04-561 | H7: Urząd Miasta i Gminy w Chorzelach | I7: ul. Stanisława Komosińskiego 1, 06-330 Chorzele | J7: 7611194907 | K7: Gmina Chorzele | L7: Jana III Sobieskiego | M7: dz. 1712/23 | N7: 06-330 | O7: Chorzele | P7: 131011078 | Q7: PL_ZEWD _1422018773_05 590543570300577350 | R7: 31032875 | S7: 1 | T7: C11o | U7: =X7 -> 540 | X7: 540 | Z7: oświetlenie uliczne
A8: 4 | B8: Gmina Chorzele | C8: ul. Stanisława Komosińskiego | D8: 1 | E8: 06-330 | F8: Chorzele | G8: 761-15-04-561 | H8: Urząd Miasta i Gminy w Chorzelach | I8: ul. Stanisława Komosińskiego 1, 06-330 Chorzele | J8: 7611194907 | K8: Gmina Chorzele | L8: Mickiewicza | M8: dz. 586/12 m 687, 1714 | N8: 06-330 | O8: Chorzele | P8: 133625175 | Q8: PL_ZEWD _1422018772_03 590543570300577367 | R8: 31032841 | S8: 1 | T8: C11o | U8: =X8 -> 890 | X8: 890 | Z8: oświetlenie uliczne
A9: 5 | B9: Gmina Chorzele | C9: ul. Stanisława Komosińskiego | D9: 1 | E9: 06-330 | F9: Chorzele | G9: 761-15-04-561 | H9: Urząd Miasta i Gminy w Chorzelach | I9: ul. Stanisława Komosińskiego 1, 06-330 Chorzele | J9: 7611194907 | K9: Gmina Chorzele | L9: Krzynowłoga Wielka | M9: dz. 68/4 | N9: 06-330 | O9: Chorzele | P9: 133025126 | Q9: PL_ZEWD _1422018731_05 590543570300577671 | R9: 30991015 | S9: 1 | T9: C11o | U9: =X9 -> 880 | X9: 880 | Z9: oświetlenie uliczne
A10: 6 | B10: Gmina Chorzele | C10: ul. Stanisława Komosińskiego | D10: 1 | E10: 06-330 | F10: Chorzele | G10: 761-15-04-561 | H10: Urząd Miasta i Gminy w Chorzelach | I10: ul. Stanisława Komosińskiego 1, 06-330 Chorzele | J10: 7611194907 | K10: Gmina Chorzele | L10: Nowa Wieś | M10: - | N10: 06-333 | O10: Zaręby | P10: 133606063 | Q10: PL_ZEWD _1422018621_08 590543570300578548 | R10: 28295698 | S10: 1 | T10: C11o | U10: =X10 -> 26 | X10: 26 | Z10: oświetlenie uliczne
A11: 7 | B11: Gmina Chorzele | C11: ul. Stanisława Komosińskiego | D11: 1 | E11: 06-330 | F11: Chorzele | G11: 761-15-04-561 | H11: Urząd Miasta i Gminy w Chorzelach | I11: ul. Stanisława Komosińskiego 1, 06-330 Chorzele | J11: 7611194907 | K11: Gmina Chorzele | L11: Bagienice | M11: dz. 142 | N11: 06-330 | O11: Chorzele | P11: 133612083 | Q11: PL_ZEWD _1422019076_02 590543570300994638 | R11: 30991017 | S11: 1 | T11: C11o | U11: =X11 -> 140 | X11: 140 | Z11: oświetlenie uliczne
A12: 8 | B12: Gmina Chorzele | C12: ul. Stanisława Komosińskiego | D12: 1 | E12: 06-330 | F12: Chorzele | G12: 761-15-04-561 | H12: Urząd Miasta i Gminy w Chorzelach | I12: ul. Stanisława Komosińskiego 1, 06-330 Chorzele | J12: 7611194907 | K12: Gmina Chorzele | L12: Bagienice | M12: dz. 152/3 | N12: 06-330 | O12: Chorzele | P12: 133612084 | Q12: PL_ZEWD _1422019077_04 590543570300994621 | R12: 30991018 | S12: 1 | T12: C11o | U12: =X12 -> 139 | X12: 139 | Z12: oświetlenie uliczne
A13: 9 | B13: Gmina Chorzele | C13: ul. Stanisława Komosińskiego | D13: 1 | E13: 06-330 | F13: Chorzele | G13: 761-15-04-561 | H13: Urząd Miasta i Gminy w Chorzelach | I13: ul. Stanisława Komosińskiego 1, 06-330 Chorzele | J13: 7611194907 | K13: Gmina Chorzele | L13: Poścień Wieś | M13: 30/2 m 261/2 270 | N13: 06-330 | O13: Chorzele | P13: 133630123 | Q13: PL_ZEWD _1422018623_02 590543570300578524 | R13: 28295635 | S13: 1 | T13: C11o | U13: =X13 -> 1092 | X13: 1092 | Z13: oświetlenie uliczne
A14: 10 | B14: Gmina Chorzele | C14: ul. Stanisława Komosińskiego | D14: 1 | E14: 06-330 | F14: Chorzele | G14: 761-15-04-561 | H14: Urząd Miasta i Gminy w Chorzelach | I14: ul. Stanisława Komosińskiego 1, 06-330 Chorzele | J14: 7611194907 | K14: Gmina Chorzele | L14: Zaręby | M14: dz. 920. m 1001 | N14: 06-334 | O14: Zaręby | P14: 133634168 | Q14: PL_ZEWD _1422018622_00 590543570300578531 | R14: 27985623 | S14: 1 | T14: C11o | U14: =X14 -> 658 | X14: 658 | Z14: oświetlenie uliczne
A15: 11 | B15: Gmina Chorzele | C15: ul. Stanisława Komosińskiego | D15: 1 | E15: 06-330 | F15: Chorzele | G15: 761-15-04-561 | H15: Urząd Miasta i Gminy w Chorzelach | I15: ul. Stanisława Komosińskiego 1, 06-330 Chorzele | J15: 7611194907 | K15: Gmina Chorzele | L15: Zaręby | M15: dz. 917/1 | N15: 06-330 | O15: Chorzele | P15: 133634175 | Q15: PL_ZEWD _1422019079_08 590543570300994607 | R15: 92144246 | S15: 1 | T15: C11o | U15: =X15 -> 748 | X15: 748 | Z15: oświetlenie uliczne
A16: 12 | B16: Gmina Chorzele | C16: ul. Stanisława Komosińskiego | D16: 1 | E16: 06-330 | F16: Chorzele | G16: 761-15-04-561 | H16: Urząd Miasta i Gminy w Chorzelach | I16: ul. Stanisława Komosińskiego 1, 06-330 Chorzele | J16: 7611194907 | K16: Gmina Chorzele | L16: Krukowo | M16: dz. 182/17 m 183/9, 183 | N16: 06-335 | O16: Zaręby | P16: 133637098 | Q16: PL_ZEWD _1422018620_06 590543570300578555 | R16: 27985891 | S16: 3 | T16: C11o | U16: =X16 -> 1025 | X16: 1025 | Z16: oświetlenie uliczne
A17: 13 | B17: Gmina Chorzele | C17: ul. Stanisława Komosińskiego | D17: 1 | E17: 06-330 | F17: Chorzele | G17: 761-15-04-561 | H17: Urząd Miasta i Gminy w Chorzelach | I17: ul. Stanisława Komosińskiego 1, 06-330 Chorzele | J17: 7611194907 | K17: Gmina Chorzele | L17: Czaplice Furmany | M17: dz. 64/1, m 60/2, 61 | N17: 06-330 | O17: Chorzele | P17: 133618116 | Q17: PL_ZEWD _1422018624_04 590543570300578517 | R17: 28352777 | S17: 1 | T17: C11o | U17: =X17 -> 303 | X17: 303 | Z17: oświetlenie uliczne
... A27: 23 | B27: Gmina Chorzele | C27: ul. Stanisława Komosińskiego | D27: 1 | E27: 06-330 | F27: Chorzele | G27: 761-15-04-561 | H27: Urząd Miasta i Gminy w Chorzelach | I27: ul. Stanisława Komosińskiego 1, 06-330 Chorzele | J27: 7611194907 | K27: Gmina Chorzele | L27: Liwki | M27: dz. 82 | N27: 06-330 | O27: Chorzele | P27: 139800011 | Q27: PL_ZEWD_1422019132_06 590543570300994225 | R27: 30991014 | S27: 1 | T27: C11o | U27: =X27 -> 188 | X27: 188 | Z27: oświetlenie uliczne
A28: 24 | B28: Gmina Chorzele | C28: ul. Stanisława Komosińskiego | D28: 1 | E28: 06-330 | F28: Chorzele | G28: 761-15-04-561 | H28: Urząd Miasta i Gminy w Chorzelach | I28: ul. Stanisława Komosińskiego 1, 06-330 Chorzele | J28: 7611194907 | K28: Gmina Chorzele | L28: Bugzy Jarki | M28: dz. nr 97 | N28: 06-330 | O28: Chorzele | P28: 133602052 | Q28: PL_ZEWD_1422019305_01 590543570300993433 | R28: 97580927 | S28: 2 | T28: C11o | U28: =X28 -> 660 | X28: 660 | Z28: oświetlenie uliczne
A29: 25 | B29: Gmina Chorzele | C29: ul. Stanisława Komosińskiego | D29: 1 | E29: 06-330 | F29: Chorzele | G29: 761-15-04-561 | H29: Urząd Miasta i Gminy w Chorzelach | I29: ul. Stanisława Komosińskiego 1, 06-330 Chorzele | J29: 7611194907 | K29: Gmina Chorzele | L29: Budki | M29: dz. nr 235 | N29: 06-330 | O29: Chorzele | P29: 130771157 | Q29: PL_ZEWD_1422019760_07 590543570300991187 | R29: 13669668 | S29: 1 | T29: C11o | U29: =X29 -> 1017 | X29: 1017 | Z29: oświetlenie uliczne
A30: 26 | B30: Gmina Chorzele | C30: ul. Stanisława Komosińskiego | D30: 1 | E30: 06-330 | F30: Chorzele | G30: 761-15-04-561 | H30: Urząd Miasta i Gminy w Chorzelach | I30: ul. Stanisława Komosińskiego 1, 06-330 Chorzele | J30: 7611194907 | K30: Gmina Chorzele | L30: Gadomiec Chrzczany | M30: dz. nr 45/2 | N30: 06-330 | O30: Chorzele | P30: 130771238 | Q30: PL_ZEWD_1422019896_04 590543570301000192 | R30: 55005284 | S30: 2 | T30: C11o | U30: =X30 -> 294 | X30: 294 | Z30: oświetlenie uliczne
A31: 27 | B31: Gmina Chorzele | C31: ul. Stanisława Komosińskiego | D31: 1 | E31: 06-330 | F31: Chorzele | G31: 761-15-04-562 | H31: Urząd Miasta i Gminy w Chorzelach | I31: ul. Stanisława Komosińskiego 1, 06-330 Chorzele | J31: 7611194907 | K31: Gmina Chorzele | L31: Zaręby | M31: dz. 324/5 | N31: 06-330 | O31: Chorzele | P31: 133634193 | Q31: 590543570301087124 | R31: 133634193 | S31: 3 | T31: C11o | U31: =X31 -> 600 | X31: 600 | Z31: oświetlenie uliczne
S33: Moc Umowna | X33: Razem
S34: =SUM(S5:S31) -> 37 | T34: kW | U34: =SUM(U5:U31) -> 15242 | V34: =SUM(V5:V31) -> 0 | W34: =SUM(W5:W31) -> 0 | X34: =SUM(X5:X31) -> 15242 | Y34: kWh

Sheet C12A
A1: Załącznik do umowy - Wykaz PPE
A2: Wykaz punktów PPE - Gmina Chorzele
A3: 1. Gmina Chorzele, ul. Komosińskiego 1, 06-330 Chorzele, NIP: 761-150-45-61
A4: Lp. | B4: Nabywca - Podmiot2 | C4: Ulica/ Miejscowość | D4: Nr | E4: Kod | F4: Poczta | G4: Nabywca- NIP | H4: Odbiorca- Podmiot3 | I4: Odbiorca – adres | J4: Odbiorca- NIP | K4: Nazwa punktu poboru | L4: Ulica/ Miejscowość | M4: Nr | N4: Kod | O4: Poczta | P4: Nr ewidencyjny | Q4: Kod PPE | R4: Nr licznika | S4: Moc Umowna | T4: Obecna Taryfa | U4: zużycie przez 12 miesięcy całodobowa (kWh) | V4: zużycie przez 12 miesięcy I strefa (kWh) | W4: zużycie przez 12 miesięcy II strefa (kWh) | X4: zużycie przez 12 miesięcy RAZEM (kWh) | Y4: instalacja fotowoltaiczna | Z4: Funkcja
A5: 1 | B5: Gmina Chorzele | C5: ul. Stanisława Komosińskiego | D5: 1 | E5: 06-330 | F5: Chorzele | G5: 761-15-04-561 | H5: Publiczna Szkoła Podstawowa im. Ojca Honoriusza Kowalczyka w Duczyminie | I5: Duczymin 15, 06-330 Chorzele | J5: 7611403475 | K5: Publiczna Szkoła Podstawowa im. Ojca Honoriusza Kowalczyka w Duczyminie | L5: Duczymin | M5: 15 | N5: 06-330 | O5: Chorzele | P5: 133607118 | Q5: PL_ZEWD_1422003094_08 590543570300719439 | R5: 56729642 | S5: 10 | T5: C12A | V5: =X5*0.35 -> 4585 | W5: =X5-V5 -> 8515 | X5: 13100 | Z5: Publiczna Szkoła Podstawowa
A6: 2 | B6: Gmina Chorzele | C6: ul. Stanisława Komosińskiego | D6: 1 | E6: 06-330 | F6: Chorzele | G6: 761-15-04-561 | H6: Publiczna Szkoła Podstawowa im. Bolesława Chrobrego w Zarębach | I6: Zaręby 41, 06-333 Zareby | J6: 7611403417 | K6: Publiczna Szkoła Podstawowa im. Bolesława Chrobrego w Zarębach | L6: Zaręby | M6: 41 | N6: 06-333 | O6: Zaręby | P6: 133634153 | Q6: PL_ZEWD_1422003091_02 590543570300719460 | R6: 56129332 | S6: 32 | T6: C12A | V6: =X6*0.35 -> 3073 | W6: =X6-V6 -> 5707 | X6: 8780 | Z6: Publiczna Szkoła Podstawowa
A7: 3 | B7: Gmina Chorzele | C7: ul. Stanisława Komosińskiego | D7: 1 | E7: 06-330 | F7: Chorzele | G7: 761-15-04-561 | H7: Publiczna Szkoła Podstawowa im. Bolesława Chrobrego w Zarębach | I7: Zaręby 41, 06-333 Zareby | J7: 7611403417 | K7: Publiczna Szkoła Podstawowa im. Bolesława Chrobrego w Zarębach | L7: Zaręby | M7: 41 | N7: 06-330 | O7: Chorzele | P7: 133634130 | Q7: PL_ZEWD_1422003092_04 590543570300719453 | R7: 56129313 | S7: 36 | T7: C12A | V7: =X7*0.35 -> 3290 | W7: =X7-V7 -> 6110 | X7: 9400 | Z7: Publiczna Szkoła Podstawowa
A8: 4 | B8: Gmina Chorzele | C8: ul. Stanisława Komosińskiego | D8: 1 | E8: 06-330 | F8: Chorzele | G8: 761-15-04-561 | H8: Publiczna Szkoła Podstawowa w Krzynowłodze Wielkiej | I8: Krzynowłoga Wielka 18, 06-330 Chorzele | J8: 7611403386 | K8: Publiczna Szkoła Podstawowa w Krzynowłodze Wielkiej | L8: Krzynowłoga Wielka | M8: 18 | N8: 06-330 | O8: Chorzele | P8: 133616135 | Q8: PL_ZEWD_1422003093_06 59053570300719446 | R8: 56129327 | S8: 25 | T8: C12A | V8: =X8*0.35 -> 2975 | W8: =X8-V8 -> 5525 | X8: 8500 | Z8: Publiczna Szkoła Podstawowa
A9: 5 | B9: Gmina Chorzele | C9: ul. Stanisława Komosińskiego | D9: 1 | E9: 06-330 | F9: Chorzele | G9: 761-15-04-561 | H9: Publiczna Szkoła Podstawowa Nr 2 im. Papieża Jana Pawła II w Chorzelach | I9: Szkolna 4B, 06-330 Chorzele | J9: 7611560565 | K9: Publiczna Szkoła Podstawowa Nr 2 im. Papieża Jana Pawła II w Chorzelach | L9: Szkolna | M9: 4B | N9: 06-330 | O9: Chorzele | P9: 131342031 | Q9: PL_ZEWD_1422003098_06 590543570300719392 | R9: 01899567 | S9: 25 | T9: C12A | V9: =X9*0.35 -> 9618 | W9: =X9-V9 -> 17862 | X9: 27480 | Z9: Publiczna Szkoła Podstawowa
A10: 6 | B10: Gmina Chorzele | C10: ul. Stanisława Komosińskiego | D10: 1 | E10: 06-330 | F10: Chorzele | G10: 761-15-04-561 | H10: Publiczna Szkoła Podstawowa w Krukowie | I10: Krukowo 87, 06-333 Zaręby | J10: 7611403593 | K10: Publiczna Szkoła Podstawowa w Krukowie | L10: Krukowo | M10: 87 | N10: 06-333 | O10: Zaręby | P10: 133637091 | Q10: PL_ZEWD_1422003097_04 590543570300719408 | R10: 30450882 | S10: 16 | T10: C12A | V10: =X10*0.35 -> 2625 | W10: =X10-V10 -> 4875 | X10: 7500 | Z10: Publiczna Szkoła Podstawowa
A11: 7 | B11: Gmina Chorzele | C11: ul. Stanisława Komosińskiego | D11: 1 | E11: 06-330 | F11: Chorzele | G11: 761-15-04-561 | H11: Publiczna Szkoła Podstawowa w Pościeniu Wsi | I11: Poścień Wieś 47, 06-330 Chorzele | J11: 7611403400 | K11: Publiczna Szkoła Podstawowa w Pościeniu Wsi | L11: Poścień Wieś | M11: 47 | N11: 06-330 | O11: Chorzele | P11: 133630114 | Q11: PL_ZEWD_1422003096_02 590543570300719415 | R11: 30453545 | S11: 16 | T11: C12A | V11: =X11*0.35 -> 3850 | W11: =X11-V11 -> 7150 | X11: 11000 | Z11: Publiczna Szkoła Podstawowa
A12: 8 | B12: Gmina Chorzele | C12: ul. Stanisława Komosińskiego | D12: 1 | E12: 06-330 | F12: Chorzele | G12: 761-15-04-561 | H12: Urząd Miasta i Gminy w Chorzelach | I12: ul. Stanisława Komosińskiego 1, 06-330 Chorzele | J12: 7611194907 | K12: =B12 -> Gmina Chorzele | L12: Grunwaldzka | M12: - | N12: 06-330 | O12: Chorzele | P12: 131011017 | Q12: PL_ZEWD_1422003224_01 590543570300718241 | R12: 30496360 | S12: 6 | T12: C12A | V12: =X12*0.35 -> 5699.75 | W12: =X12-V12 -> 10585.25 | X12: 16285 | Z12: oświetlenie uliczne
A13: 9 | B13: Gmina Chorzele | C13: ul. Stanisława Komosińskiego | D13: 1 | E13: 06-330 | F13: Chorzele | G13: 761-15-04-561 | H13: Urząd Miasta i Gminy w Chorzelach | I13: ul. Stanisława Komosińskiego 1, 06-330 Chorzele | J13: 7611194907 | K13: =B13 -> Gmina Chorzele | L13: Komosińskiego | M13: ST 3218 | N13: 06-330 | O13: Chorzele | P13: 131011018 | Q13: PL_ZEWD_1422003221_05 590543570300718272 | R13: 56617865 | S13: 6 | T13: C12A | V13: =X13*0.35 -> 3578.4 | W13: =X13-V13 -> 6645.6 | X13: 10224 | Z13: oświetlenie uliczne
A14: 10 | B14: Gmina Chorzele | C14: ul. Stanisława Komosińskiego | D14: 1 | E14: 06-330 | F14: Chorzele | G14: 761-15-04-561 | H14: Urząd Miasta i Gminy w Chorzelach | I14: ul. Stanisława Komosińskiego 1, 06-330 Chorzele | J14: 7611194907 | K14: =B14 -> Gmina Chorzele | L14: Ruda | M14: ST 0701 | N14: 06-330 | O14: Chorzele | P14: 131011019 | Q14: PL_ZEWD_1422003217_08 590543570300718319 | R14: 56619519 | S14: 6 | T14: C12A | V14: =X14*0.35 -> 3072.3 | W14: =X14-V14 -> 5705.7 | X14: 8778 | Z14: oświetlenie uliczne
A15: 11 | B15: Gmina Chorzele | C15: ul. Stanisława Komosińskiego | D15: 1 | E15: 06-330 | F15: Chorzele | G15: 761-15-04-561 | H15: Urząd Miasta i Gminy w Chorzelach | I15: ul. Stanisława Komosińskiego 1, 06-330 Chorzele | J15: 7611194907 | K15: =B15 -> Gmina Chorzele | L15: Zarębska | M15: ST 3223 | N15: 06-330 | O15: Chorzele | P15: 131011020 | Q15: PL_ZEWD_1422003216_06 590543570300718326 | R15: 56617853 | S15: 7 | T15: C12A | V15: =X15*0.35 -> 5581.8 | W15: =X15-V15 -> 10366.2 | X15: 15948 | Z15: oświetlenie uliczne
A16: 12 | B16: Gmina Chorzele | C16: ul. Stanisława Komosińskiego | D16: 1 | E16: 06-330 | F16: Chorzele | G16: 761-15-04-561 | H16: Urząd Miasta i Gminy w Chorzelach | I16: ul. Stanisława Komosińskiego 1, 06-330 Chorzele | J16: 7611194907 | K16: =B16 -> Gmina Chorzele | L16: Grunwaldzka | M16: ST 3216 | N16: 06-330 | O16: Chorzele | P16: 131011021 | Q16: PL_ZEWD_1422003211_06 590543570300718364 | R16: 56617854 | S16: 6 | T16: C12A | V16: =X16*0.35 -> 1817.2 | W16: =X16-V16 -> 3374.8 | X16: 5192 | Z16: oświetlenie uliczne
A17: 13 | B17: Gmina Chorzele | C17: ul. Stanisława Komosińskiego | D17: 1 | E17: 06-330 | F17: Chorzele | G17: 761-15-04-561 | H17: Urząd Miasta i Gminy w Chorzelach | I17: ul. Stanisława Komosińskiego 1, 06-330 Chorzele | J17: 7611194907 | K17: =B17 -> Gmina Chorzele | L17: Ogrodowa | M17: ST 1022 | N17: 06-330 | O17: Chorzele | P17: 131011022 | Q17: PL_ZEWD_1422003206_07 590543570300718418 | R17: 56619518 | S17: 6 | T17: C12A | V17: =X17*0.35 -> 1375.5 | W17: =X17-V17 -> 2554.5 | X17: 3930 | Z17: oświetlenie uliczne
A18: 14 | B18: Gmina Chorzele | C18: ul. Stanisława Komosińskiego | D18: 1 | E18: 06-330 | F18: Chorzele | G18: 761-15-04-561 | H18: Urząd Miasta i Gminy w Chorzelach | I18: ul. Stanisława Komosińskiego 1, 06-330 Chorzele | J18: 7611194907 | K18: =B18 -> Gmina Chorzele | L18: Młynarska | M18: - | N18: 06-330 | O18: Chorzele | P18: 131011023 | Q18: PL_ZEWD_1422003204_03 590543570300718432 | R18: 56617836 | S18: 6 | T18: C12A | V18: =X18*0.35 -> 3195.5 | W18: =X18-V18 -> 5934.5 | X18: 9130 | Z18: oświetlenie uliczne
A19: 15 | B19: Gmina Chorzele | C19: ul. Stanisława Komosińskiego | D19: 1 | E19: 06-330 | F19: Chorzele | G19: 761-15-04-561 | H19: Urząd Miasta i Gminy w Chorzelach | I19: ul. Stanisława Komosińskiego 1, 06-330 Chorzele | J19: 7611194907 | K19: =B19 -> Gmina Chorzele | L19: Zarębska | M19: - | N19: 06-330 | O19: Chorzele | P19: 131011024 | Q19: PL_ZEWD_1422003199_06 590543570300718470 | R19: 55005290 | S19: 6 | T19: C12A | V19: =X19*0.35 -> 1877.4 | W19: =X19-V19 -> 3486.6 | X19: 5364 | Z19: oświetlenie uliczne
A20: 16 | B20: Gmina Chorzele | C20: ul. Stanisława Komosińskiego | D20: 1 | E20: 06-330 | F20: Chorzele | G20: 761-15-04-561 | H20: Urząd Miasta i Gminy w Chorzelach | I20: ul. Stanisława Komosińskiego 1, 06-330 Chorzele | J20: 7611194907 | K20: =B20 -> Gmina Chorzele | L20: Grunwaldzka | M20: ST 3206 | N20: 06-330 | O20: Chorzele | P20: 131011025 | Q20: PL_ZEWD_1422003197_02 590543570300718494 | R20: 30496272 | S20: 6 | T20: C12A | V20: =X20*0.35 -> 4025.35 | W20: =X20-V20 -> 7475.65 | X20: 11501 | Z20: oświetlenie uliczne
A21: 17 | B21: Gmina Chorzele | C21: ul. Stanisława Komosińskiego | D21: 1 | E21: 06-330 | F21: Chorzele | G21: 761-15-04-561 | H21: Urząd Miasta i Gminy w Chorzelach | I21: ul. Stanisława Komosińskiego 1, 06-330 Chorzele | J21: 7611194907 | K21: =B21 -> Gmina Chorzele | L21: ul. Szkolna | M21: ST 3207 | N21: 06-330 | O21: Chorzele | P21: 131011026 | Q21: PL_ZEWD_1422003184_07 590543570300718623 | R21: 55005288 | S21: 6 | T21: C12A | V21: =X21*0.35 -> 1792 | W21: =X21-V21 -> 3328 | X21: 5120 | Z21: oświetlenie uliczne
A22: 18 | B22: Gmina Chorzele | C22: ul. Stanisława Komosińskiego | D22: 1 | E22: 06-330 | F22: Chorzele | G22: 761-15-04-561 | H22: Urząd Miasta i Gminy w Chorzelach | I22: ul. Stanisława Komosińskiego 1, 06-330 Chorzele | J22: 7611194907 | K22: =B22 -> Gmina Chorzele | L22: ul. Stara Targowica | M22: ST 3228 | N22: 06-330 | O22: Chorzele | P22: 131011027 | Q22: PL_ZEWD_1422003183_05 590543570300718630 | R22: 56619520 | S22: 6 | T22: C12A | V22: =X22*0.35 -> 2131.5 | W22: =X22-V22 -> 3958.5 | X22: 6090 | Z22: oświetlenie uliczne
A23: 19 | B23: Gmina Chorzele | C23: ul. Stanisława Komosińskiego | D23: 1 | E23: 06-330 | F23: Chorzele | G23: 761-15-04-561 | H23: Urząd Miasta i Gminy w Chorzelach | I23: ul. Stanisława Komosińskiego 1, 06-330 Chorzele | J23: 7611194907 | K23: =B23 -> Gmina Chorzele | L23: ul. Zygmunta Padlewskiego | M23: ST 3208 | N23: 06-330 | O23: Chorzele | P23: 131011028 | Q23: PL_ZEWD_1422003087_05 590543570300719507 | R23: 56619525 | S23: 6 | T23: C12A | V23: =X23*0.35 -> 8896.3 | W23: =X23-V23 -> 16521.7 | X23: 25418 | Z23: oświetlenie uliczne
... A66: 62 | B66: Gmina Chorzele | C66: ul. Stanisława Komosińskiego | D66: 1 | E66: 06-330 | F66: Chorzele | G66: 761-15-04-561 | H66: Urząd Miasta i Gminy w Chorzelach | I66: ul. Stanisława Komosińskiego 1, 06-330 Chorzele | J66: 7611194907 | K66: =B66 -> Gmina Chorzele | L66: Wasiły Zygny | M66: - | N66: 06-330 | O66: Chorzele | P66: 133025104 | Q66: PL_ZEWD_1422003142_07 590543570300718982 | R66: 83777427 | S66: 6 | T66: C12A | V66: =X66*0.35 -> 356.65 | W66: =X66-V66 -> 662.35 | X66: 1019 | Z66: oświetlenie uliczne
A67: 63 | B67: =B45 -> Gmina Chorzele | C67: ul. Stanisława Komosińskiego | D67: 1 | E67: 06-330 | F67: Chorzele | G67: 761-15-04-561 | H67: Urząd Miasta i Gminy w Chorzelach | I67: ul. Stanisława Komosińskiego 1, 06-330 Chorzele | J67: 7611194907 | K67: =B67 -> Gmina Chorzele | L67: Opaleniec | M67: - | N67: 06-330 | O67: Chorzele | P67: 133025105 | Q67: PL_ZEWD_1422003138_00 590543570300719026 | R67: 55005264 | S67: 6 | T67: C12A | V67: =X67*0.35 -> 613.55 | W67: =X67-V67 -> 1139.45 | X67: 1753 | Z67: oświetlenie uliczne
A68: 64 | B68: Gmina Chorzele | C68: ul. Stanisława Komosińskiego | D68: 1 | E68: 06-330 | F68: Chorzele | G68: 761-15-04-561 | H68: Urząd Miasta i Gminy w Chorzelach | I68: ul. Stanisława Komosińskiego 1, 06-330 Chorzele | J68: 7611194907 | K68: =B68 -> Gmina Chorzele | L68: Krzynowłoga Wielka | M68: - | N68: 06-330 | O68: Chorzele | P68: 133025106 | Q68: PL_ZEWD_1422003137_08 590543570300719033 | R68: 55005298 | S68: 6 | T68: C12A | V68: =X68*0.35 -> 1256.85 | W68: =X68-V68 -> 2334.15 | X68: 3591 | Z68: oświetlenie uliczne
